BEGIN:VCALENDAR
VERSION:2.0
PRODID:-//St. Martinus Heilbronn-Sontheim - ECPv6.10.2//NONSGML v1.0//EN
CALSCALE:GREGORIAN
METHOD:PUBLISH
X-WR-CALNAME:St. Martinus Heilbronn-Sontheim
X-ORIGINAL-URL:https://martinus-hn.de
X-WR-CALDESC:Veranstaltungen für St. Martinus Heilbronn-Sontheim
REFRESH-INTERVAL;VALUE=DURATION:PT1H
X-Robots-Tag:noindex
X-PUBLISHED-TTL:PT1H
BEGIN:VTIMEZONE
TZID:Europe/Berlin
BEGIN:DAYLIGHT
TZOFFSETFROM:+0100
TZOFFSETTO:+0200
TZNAME:CEST
DTSTART:20270328T010000
END:DAYLIGHT
BEGIN:STANDARD
TZOFFSETFROM:+0200
TZOFFSETTO:+0100
TZNAME:CET
DTSTART:20271031T010000
END:STANDARD
END:VTIMEZONE
BEGIN:VEVENT
DTSTART;TZID=Europe/Berlin:20270418T103000
DTEND;TZID=Europe/Berlin:20270418T113000
DTSTAMP:20260422T033403
CREATED:20260327T120935Z
LAST-MODIFIED:20260327T120935Z
UID:10010966-1808044200-1808047800@martinus-hn.de
SUMMARY:Eucharistiefeier in St. Martinus
DESCRIPTION:
URL:https://martinus-hn.de/veranstaltung/eucharistiefeier-in-st-martinus/2027-04-18/
LOCATION:St. Martinus\, Auf dem Bau 1\, Heilbronn-Sontheim\, 74081\, Deutschland
CATEGORIES:Gottesdienst
END:VEVENT
BEGIN:VEVENT
DTSTART;TZID=Europe/Berlin:20270425T103000
DTEND;TZID=Europe/Berlin:20270425T113000
DTSTAMP:20260422T033403
CREATED:20260327T120935Z
LAST-MODIFIED:20260327T120935Z
UID:10010967-1808649000-1808652600@martinus-hn.de
SUMMARY:Eucharistiefeier in St. Martinus
DESCRIPTION:
URL:https://martinus-hn.de/veranstaltung/eucharistiefeier-in-st-martinus/2027-04-25/
LOCATION:St. Martinus\, Auf dem Bau 1\, Heilbronn-Sontheim\, 74081\, Deutschland
CATEGORIES:Gottesdienst
END:VEVENT
BEGIN:VEVENT
DTSTART;TZID=Europe/Berlin:20270502T103000
DTEND;TZID=Europe/Berlin:20270502T113000
DTSTAMP:20260422T033403
CREATED:20260327T120935Z
LAST-MODIFIED:20260327T120935Z
UID:10010968-1809253800-1809257400@martinus-hn.de
SUMMARY:Eucharistiefeier in St. Martinus
DESCRIPTION:
URL:https://martinus-hn.de/veranstaltung/eucharistiefeier-in-st-martinus/2027-05-02/
LOCATION:St. Martinus\, Auf dem Bau 1\, Heilbronn-Sontheim\, 74081\, Deutschland
CATEGORIES:Gottesdienst
END:VEVENT
BEGIN:VEVENT
DTSTART;TZID=Europe/Berlin:20270509T103000
DTEND;TZID=Europe/Berlin:20270509T113000
DTSTAMP:20260422T033403
CREATED:20260327T120935Z
LAST-MODIFIED:20260327T120935Z
UID:10010969-1809858600-1809862200@martinus-hn.de
SUMMARY:Eucharistiefeier in St. Martinus
DESCRIPTION:
URL:https://martinus-hn.de/veranstaltung/eucharistiefeier-in-st-martinus/2027-05-09/
LOCATION:St. Martinus\, Auf dem Bau 1\, Heilbronn-Sontheim\, 74081\, Deutschland
CATEGORIES:Gottesdienst
END:VEVENT
BEGIN:VEVENT
DTSTART;TZID=Europe/Berlin:20270516T103000
DTEND;TZID=Europe/Berlin:20270516T113000
DTSTAMP:20260422T033403
CREATED:20260327T120935Z
LAST-MODIFIED:20260327T120935Z
UID:10010970-1810463400-1810467000@martinus-hn.de
SUMMARY:Eucharistiefeier in St. Martinus
DESCRIPTION:
URL:https://martinus-hn.de/veranstaltung/eucharistiefeier-in-st-martinus/2027-05-16/
LOCATION:St. Martinus\, Auf dem Bau 1\, Heilbronn-Sontheim\, 74081\, Deutschland
CATEGORIES:Gottesdienst
END:VEVENT
BEGIN:VEVENT
DTSTART;TZID=Europe/Berlin:20270523T103000
DTEND;TZID=Europe/Berlin:20270523T113000
DTSTAMP:20260422T033403
CREATED:20260327T120935Z
LAST-MODIFIED:20260327T120935Z
UID:10010971-1811068200-1811071800@martinus-hn.de
SUMMARY:Eucharistiefeier in St. Martinus
DESCRIPTION:
URL:https://martinus-hn.de/veranstaltung/eucharistiefeier-in-st-martinus/2027-05-23/
LOCATION:St. Martinus\, Auf dem Bau 1\, Heilbronn-Sontheim\, 74081\, Deutschland
CATEGORIES:Gottesdienst
END:VEVENT
BEGIN:VEVENT
DTSTART;TZID=Europe/Berlin:20270530T103000
DTEND;TZID=Europe/Berlin:20270530T113000
DTSTAMP:20260422T033403
CREATED:20260327T120935Z
LAST-MODIFIED:20260327T120935Z
UID:10010972-1811673000-1811676600@martinus-hn.de
SUMMARY:Eucharistiefeier in St. Martinus
DESCRIPTION:
URL:https://martinus-hn.de/veranstaltung/eucharistiefeier-in-st-martinus/2027-05-30/
LOCATION:St. Martinus\, Auf dem Bau 1\, Heilbronn-Sontheim\, 74081\, Deutschland
CATEGORIES:Gottesdienst
END:VEVENT
BEGIN:VEVENT
DTSTART;TZID=Europe/Berlin:20270606T103000
DTEND;TZID=Europe/Berlin:20270606T113000
DTSTAMP:20260422T033403
CREATED:20260327T120935Z
LAST-MODIFIED:20260327T120935Z
UID:10010973-1812277800-1812281400@martinus-hn.de
SUMMARY:Eucharistiefeier in St. Martinus
DESCRIPTION:
URL:https://martinus-hn.de/veranstaltung/eucharistiefeier-in-st-martinus/2027-06-06/
LOCATION:St. Martinus\, Auf dem Bau 1\, Heilbronn-Sontheim\, 74081\, Deutschland
CATEGORIES:Gottesdienst
END:VEVENT
BEGIN:VEVENT
DTSTART;TZID=Europe/Berlin:20270613T103000
DTEND;TZID=Europe/Berlin:20270613T113000
DTSTAMP:20260422T033403
CREATED:20260327T120935Z
LAST-MODIFIED:20260327T120935Z
UID:10010974-1812882600-1812886200@martinus-hn.de
SUMMARY:Eucharistiefeier in St. Martinus
DESCRIPTION:
URL:https://martinus-hn.de/veranstaltung/eucharistiefeier-in-st-martinus/2027-06-13/
LOCATION:St. Martinus\, Auf dem Bau 1\, Heilbronn-Sontheim\, 74081\, Deutschland
CATEGORIES:Gottesdienst
END:VEVENT
BEGIN:VEVENT
DTSTART;TZID=Europe/Berlin:20270620T103000
DTEND;TZID=Europe/Berlin:20270620T113000
DTSTAMP:20260422T033403
CREATED:20260327T120935Z
LAST-MODIFIED:20260327T120935Z
UID:10010975-1813487400-1813491000@martinus-hn.de
SUMMARY:Eucharistiefeier in St. Martinus
DESCRIPTION:
URL:https://martinus-hn.de/veranstaltung/eucharistiefeier-in-st-martinus/2027-06-20/
LOCATION:St. Martinus\, Auf dem Bau 1\, Heilbronn-Sontheim\, 74081\, Deutschland
CATEGORIES:Gottesdienst
END:VEVENT
BEGIN:VEVENT
DTSTART;TZID=Europe/Berlin:20270627T103000
DTEND;TZID=Europe/Berlin:20270627T113000
DTSTAMP:20260422T033403
CREATED:20260327T120935Z
LAST-MODIFIED:20260327T120935Z
UID:10010976-1814092200-1814095800@martinus-hn.de
SUMMARY:Eucharistiefeier in St. Martinus
DESCRIPTION:
URL:https://martinus-hn.de/veranstaltung/eucharistiefeier-in-st-martinus/2027-06-27/
LOCATION:St. Martinus\, Auf dem Bau 1\, Heilbronn-Sontheim\, 74081\, Deutschland
CATEGORIES:Gottesdienst
END:VEVENT
BEGIN:VEVENT
DTSTART;TZID=Europe/Berlin:20270704T103000
DTEND;TZID=Europe/Berlin:20270704T113000
DTSTAMP:20260422T033403
CREATED:20260327T120935Z
LAST-MODIFIED:20260327T120935Z
UID:10010977-1814697000-1814700600@martinus-hn.de
SUMMARY:Eucharistiefeier in St. Martinus
DESCRIPTION:
URL:https://martinus-hn.de/veranstaltung/eucharistiefeier-in-st-martinus/2027-07-04/
LOCATION:St. Martinus\, Auf dem Bau 1\, Heilbronn-Sontheim\, 74081\, Deutschland
CATEGORIES:Gottesdienst
END:VEVENT
BEGIN:VEVENT
DTSTART;TZID=Europe/Berlin:20270711T103000
DTEND;TZID=Europe/Berlin:20270711T113000
DTSTAMP:20260422T033403
CREATED:20260327T120935Z
LAST-MODIFIED:20260327T120935Z
UID:10010978-1815301800-1815305400@martinus-hn.de
SUMMARY:Eucharistiefeier in St. Martinus
DESCRIPTION:
URL:https://martinus-hn.de/veranstaltung/eucharistiefeier-in-st-martinus/2027-07-11/
LOCATION:St. Martinus\, Auf dem Bau 1\, Heilbronn-Sontheim\, 74081\, Deutschland
CATEGORIES:Gottesdienst
END:VEVENT
BEGIN:VEVENT
DTSTART;TZID=Europe/Berlin:20270718T103000
DTEND;TZID=Europe/Berlin:20270718T113000
DTSTAMP:20260422T033403
CREATED:20260327T120935Z
LAST-MODIFIED:20260327T120935Z
UID:10010979-1815906600-1815910200@martinus-hn.de
SUMMARY:Eucharistiefeier in St. Martinus
DESCRIPTION:
URL:https://martinus-hn.de/veranstaltung/eucharistiefeier-in-st-martinus/2027-07-18/
LOCATION:St. Martinus\, Auf dem Bau 1\, Heilbronn-Sontheim\, 74081\, Deutschland
CATEGORIES:Gottesdienst
END:VEVENT
BEGIN:VEVENT
DTSTART;TZID=Europe/Berlin:20270725T103000
DTEND;TZID=Europe/Berlin:20270725T113000
DTSTAMP:20260422T033403
CREATED:20260327T120935Z
LAST-MODIFIED:20260327T120935Z
UID:10010980-1816511400-1816515000@martinus-hn.de
SUMMARY:Eucharistiefeier in St. Martinus
DESCRIPTION:
URL:https://martinus-hn.de/veranstaltung/eucharistiefeier-in-st-martinus/2027-07-25/
LOCATION:St. Martinus\, Auf dem Bau 1\, Heilbronn-Sontheim\, 74081\, Deutschland
CATEGORIES:Gottesdienst
END:VEVENT
BEGIN:VEVENT
DTSTART;TZID=Europe/Berlin:20270801T103000
DTEND;TZID=Europe/Berlin:20270801T113000
DTSTAMP:20260422T033403
CREATED:20260327T120935Z
LAST-MODIFIED:20260327T120935Z
UID:10010981-1817116200-1817119800@martinus-hn.de
SUMMARY:Eucharistiefeier in St. Martinus
DESCRIPTION:
URL:https://martinus-hn.de/veranstaltung/eucharistiefeier-in-st-martinus/2027-08-01/
LOCATION:St. Martinus\, Auf dem Bau 1\, Heilbronn-Sontheim\, 74081\, Deutschland
CATEGORIES:Gottesdienst
END:VEVENT
BEGIN:VEVENT
DTSTART;TZID=Europe/Berlin:20270808T103000
DTEND;TZID=Europe/Berlin:20270808T113000
DTSTAMP:20260422T033403
CREATED:20260327T120935Z
LAST-MODIFIED:20260327T120935Z
UID:10010982-1817721000-1817724600@martinus-hn.de
SUMMARY:Eucharistiefeier in St. Martinus
DESCRIPTION:
URL:https://martinus-hn.de/veranstaltung/eucharistiefeier-in-st-martinus/2027-08-08/
LOCATION:St. Martinus\, Auf dem Bau 1\, Heilbronn-Sontheim\, 74081\, Deutschland
CATEGORIES:Gottesdienst
END:VEVENT
BEGIN:VEVENT
DTSTART;TZID=Europe/Berlin:20270815T103000
DTEND;TZID=Europe/Berlin:20270815T113000
DTSTAMP:20260422T033403
CREATED:20260327T120935Z
LAST-MODIFIED:20260327T120935Z
UID:10010983-1818325800-1818329400@martinus-hn.de
SUMMARY:Eucharistiefeier in St. Martinus
DESCRIPTION:
URL:https://martinus-hn.de/veranstaltung/eucharistiefeier-in-st-martinus/2027-08-15/
LOCATION:St. Martinus\, Auf dem Bau 1\, Heilbronn-Sontheim\, 74081\, Deutschland
CATEGORIES:Gottesdienst
END:VEVENT
BEGIN:VEVENT
DTSTART;TZID=Europe/Berlin:20270822T103000
DTEND;TZID=Europe/Berlin:20270822T113000
DTSTAMP:20260422T033403
CREATED:20260327T120935Z
LAST-MODIFIED:20260327T120935Z
UID:10010984-1818930600-1818934200@martinus-hn.de
SUMMARY:Eucharistiefeier in St. Martinus
DESCRIPTION:
URL:https://martinus-hn.de/veranstaltung/eucharistiefeier-in-st-martinus/2027-08-22/
LOCATION:St. Martinus\, Auf dem Bau 1\, Heilbronn-Sontheim\, 74081\, Deutschland
CATEGORIES:Gottesdienst
END:VEVENT
BEGIN:VEVENT
DTSTART;TZID=Europe/Berlin:20270829T103000
DTEND;TZID=Europe/Berlin:20270829T113000
DTSTAMP:20260422T033403
CREATED:20260327T120935Z
LAST-MODIFIED:20260327T120935Z
UID:10010985-1819535400-1819539000@martinus-hn.de
SUMMARY:Eucharistiefeier in St. Martinus
DESCRIPTION:
URL:https://martinus-hn.de/veranstaltung/eucharistiefeier-in-st-martinus/2027-08-29/
LOCATION:St. Martinus\, Auf dem Bau 1\, Heilbronn-Sontheim\, 74081\, Deutschland
CATEGORIES:Gottesdienst
END:VEVENT
BEGIN:VEVENT
DTSTART;TZID=Europe/Berlin:20270905T103000
DTEND;TZID=Europe/Berlin:20270905T113000
DTSTAMP:20260422T033403
CREATED:20260327T120935Z
LAST-MODIFIED:20260327T120935Z
UID:10010986-1820140200-1820143800@martinus-hn.de
SUMMARY:Eucharistiefeier in St. Martinus
DESCRIPTION:
URL:https://martinus-hn.de/veranstaltung/eucharistiefeier-in-st-martinus/2027-09-05/
LOCATION:St. Martinus\, Auf dem Bau 1\, Heilbronn-Sontheim\, 74081\, Deutschland
CATEGORIES:Gottesdienst
END:VEVENT
BEGIN:VEVENT
DTSTART;TZID=Europe/Berlin:20270912T103000
DTEND;TZID=Europe/Berlin:20270912T113000
DTSTAMP:20260422T033403
CREATED:20260327T120935Z
LAST-MODIFIED:20260327T120935Z
UID:10010987-1820745000-1820748600@martinus-hn.de
SUMMARY:Eucharistiefeier in St. Martinus
DESCRIPTION:
URL:https://martinus-hn.de/veranstaltung/eucharistiefeier-in-st-martinus/2027-09-12/
LOCATION:St. Martinus\, Auf dem Bau 1\, Heilbronn-Sontheim\, 74081\, Deutschland
CATEGORIES:Gottesdienst
END:VEVENT
BEGIN:VEVENT
DTSTART;TZID=Europe/Berlin:20270919T103000
DTEND;TZID=Europe/Berlin:20270919T113000
DTSTAMP:20260422T033403
CREATED:20260327T120935Z
LAST-MODIFIED:20260327T120935Z
UID:10010988-1821349800-1821353400@martinus-hn.de
SUMMARY:Eucharistiefeier in St. Martinus
DESCRIPTION:
URL:https://martinus-hn.de/veranstaltung/eucharistiefeier-in-st-martinus/2027-09-19/
LOCATION:St. Martinus\, Auf dem Bau 1\, Heilbronn-Sontheim\, 74081\, Deutschland
CATEGORIES:Gottesdienst
END:VEVENT
BEGIN:VEVENT
DTSTART;TZID=Europe/Berlin:20270926T103000
DTEND;TZID=Europe/Berlin:20270926T113000
DTSTAMP:20260422T033403
CREATED:20260327T120935Z
LAST-MODIFIED:20260327T120935Z
UID:10010989-1821954600-1821958200@martinus-hn.de
SUMMARY:Eucharistiefeier in St. Martinus
DESCRIPTION:
URL:https://martinus-hn.de/veranstaltung/eucharistiefeier-in-st-martinus/2027-09-26/
LOCATION:St. Martinus\, Auf dem Bau 1\, Heilbronn-Sontheim\, 74081\, Deutschland
CATEGORIES:Gottesdienst
END:VEVENT
BEGIN:VEVENT
DTSTART;TZID=Europe/Berlin:20271003T103000
DTEND;TZID=Europe/Berlin:20271003T113000
DTSTAMP:20260422T033403
CREATED:20260327T120935Z
LAST-MODIFIED:20260327T120935Z
UID:10010990-1822559400-1822563000@martinus-hn.de
SUMMARY:Eucharistiefeier in St. Martinus
DESCRIPTION:
URL:https://martinus-hn.de/veranstaltung/eucharistiefeier-in-st-martinus/2027-10-03/
LOCATION:St. Martinus\, Auf dem Bau 1\, Heilbronn-Sontheim\, 74081\, Deutschland
CATEGORIES:Gottesdienst
END:VEVENT
BEGIN:VEVENT
DTSTART;TZID=Europe/Berlin:20271010T103000
DTEND;TZID=Europe/Berlin:20271010T113000
DTSTAMP:20260422T033403
CREATED:20260327T120935Z
LAST-MODIFIED:20260327T120935Z
UID:10010991-1823164200-1823167800@martinus-hn.de
SUMMARY:Eucharistiefeier in St. Martinus
DESCRIPTION:
URL:https://martinus-hn.de/veranstaltung/eucharistiefeier-in-st-martinus/2027-10-10/
LOCATION:St. Martinus\, Auf dem Bau 1\, Heilbronn-Sontheim\, 74081\, Deutschland
CATEGORIES:Gottesdienst
END:VEVENT
BEGIN:VEVENT
DTSTART;TZID=Europe/Berlin:20271017T103000
DTEND;TZID=Europe/Berlin:20271017T113000
DTSTAMP:20260422T033403
CREATED:20260327T120935Z
LAST-MODIFIED:20260327T120935Z
UID:10010992-1823769000-1823772600@martinus-hn.de
SUMMARY:Eucharistiefeier in St. Martinus
DESCRIPTION:
URL:https://martinus-hn.de/veranstaltung/eucharistiefeier-in-st-martinus/2027-10-17/
LOCATION:St. Martinus\, Auf dem Bau 1\, Heilbronn-Sontheim\, 74081\, Deutschland
CATEGORIES:Gottesdienst
END:VEVENT
BEGIN:VEVENT
DTSTART;TZID=Europe/Berlin:20271024T103000
DTEND;TZID=Europe/Berlin:20271024T113000
DTSTAMP:20260422T033403
CREATED:20260327T120935Z
LAST-MODIFIED:20260327T120935Z
UID:10010993-1824373800-1824377400@martinus-hn.de
SUMMARY:Eucharistiefeier in St. Martinus
DESCRIPTION:
URL:https://martinus-hn.de/veranstaltung/eucharistiefeier-in-st-martinus/2027-10-24/
LOCATION:St. Martinus\, Auf dem Bau 1\, Heilbronn-Sontheim\, 74081\, Deutschland
CATEGORIES:Gottesdienst
END:VEVENT
BEGIN:VEVENT
DTSTART;TZID=Europe/Berlin:20271031T103000
DTEND;TZID=Europe/Berlin:20271031T113000
DTSTAMP:20260422T033403
CREATED:20260327T120935Z
LAST-MODIFIED:20260327T120935Z
UID:10010994-1824978600-1824982200@martinus-hn.de
SUMMARY:Eucharistiefeier in St. Martinus
DESCRIPTION:
URL:https://martinus-hn.de/veranstaltung/eucharistiefeier-in-st-martinus/2027-10-31/
LOCATION:St. Martinus\, Auf dem Bau 1\, Heilbronn-Sontheim\, 74081\, Deutschland
CATEGORIES:Gottesdienst
END:VEVENT
BEGIN:VEVENT
DTSTART;TZID=Europe/Berlin:20271107T103000
DTEND;TZID=Europe/Berlin:20271107T113000
DTSTAMP:20260422T033403
CREATED:20260327T120935Z
LAST-MODIFIED:20260327T120935Z
UID:10010995-1825583400-1825587000@martinus-hn.de
SUMMARY:Eucharistiefeier in St. Martinus
DESCRIPTION:
URL:https://martinus-hn.de/veranstaltung/eucharistiefeier-in-st-martinus/2027-11-07/
LOCATION:St. Martinus\, Auf dem Bau 1\, Heilbronn-Sontheim\, 74081\, Deutschland
CATEGORIES:Gottesdienst
END:VEVENT
END:VCALENDAR