BEGIN:VCALENDAR
VERSION:2.0
PRODID:-//St. Martinus Heilbronn-Sontheim - ECPv6.10.2//NONSGML v1.0//EN
CALSCALE:GREGORIAN
METHOD:PUBLISH
X-WR-CALNAME:St. Martinus Heilbronn-Sontheim
X-ORIGINAL-URL:https://martinus-hn.de
X-WR-CALDESC:Veranstaltungen für St. Martinus Heilbronn-Sontheim
REFRESH-INTERVAL;VALUE=DURATION:PT1H
X-Robots-Tag:noindex
X-PUBLISHED-TTL:PT1H
BEGIN:VTIMEZONE
TZID:Europe/Berlin
BEGIN:DAYLIGHT
TZOFFSETFROM:+0100
TZOFFSETTO:+0200
TZNAME:CEST
DTSTART:20300331T010000
END:DAYLIGHT
BEGIN:STANDARD
TZOFFSETFROM:+0200
TZOFFSETTO:+0100
TZNAME:CET
DTSTART:20301027T010000
END:STANDARD
END:VTIMEZONE
BEGIN:VEVENT
DTSTART;TZID=Europe/Berlin:20300303T103000
DTEND;TZID=Europe/Berlin:20300303T113000
DTSTAMP:20260423T084550
CREATED:20260327T120935Z
LAST-MODIFIED:20260327T120935Z
UID:10011116-1898764200-1898767800@martinus-hn.de
SUMMARY:Eucharistiefeier in St. Martinus
DESCRIPTION:
URL:https://martinus-hn.de/veranstaltung/eucharistiefeier-in-st-martinus/2030-03-03/
LOCATION:St. Martinus\, Auf dem Bau 1\, Heilbronn-Sontheim\, 74081\, Deutschland
CATEGORIES:Gottesdienst
END:VEVENT
BEGIN:VEVENT
DTSTART;TZID=Europe/Berlin:20300310T103000
DTEND;TZID=Europe/Berlin:20300310T113000
DTSTAMP:20260423T084550
CREATED:20260327T120935Z
LAST-MODIFIED:20260327T120935Z
UID:10011117-1899369000-1899372600@martinus-hn.de
SUMMARY:Eucharistiefeier in St. Martinus
DESCRIPTION:
URL:https://martinus-hn.de/veranstaltung/eucharistiefeier-in-st-martinus/2030-03-10/
LOCATION:St. Martinus\, Auf dem Bau 1\, Heilbronn-Sontheim\, 74081\, Deutschland
CATEGORIES:Gottesdienst
END:VEVENT
BEGIN:VEVENT
DTSTART;TZID=Europe/Berlin:20300317T103000
DTEND;TZID=Europe/Berlin:20300317T113000
DTSTAMP:20260423T084550
CREATED:20260327T120935Z
LAST-MODIFIED:20260327T120935Z
UID:10011118-1899973800-1899977400@martinus-hn.de
SUMMARY:Eucharistiefeier in St. Martinus
DESCRIPTION:
URL:https://martinus-hn.de/veranstaltung/eucharistiefeier-in-st-martinus/2030-03-17/
LOCATION:St. Martinus\, Auf dem Bau 1\, Heilbronn-Sontheim\, 74081\, Deutschland
CATEGORIES:Gottesdienst
END:VEVENT
BEGIN:VEVENT
DTSTART;TZID=Europe/Berlin:20300324T103000
DTEND;TZID=Europe/Berlin:20300324T113000
DTSTAMP:20260423T084550
CREATED:20260327T120935Z
LAST-MODIFIED:20260327T120935Z
UID:10011119-1900578600-1900582200@martinus-hn.de
SUMMARY:Eucharistiefeier in St. Martinus
DESCRIPTION:
URL:https://martinus-hn.de/veranstaltung/eucharistiefeier-in-st-martinus/2030-03-24/
LOCATION:St. Martinus\, Auf dem Bau 1\, Heilbronn-Sontheim\, 74081\, Deutschland
CATEGORIES:Gottesdienst
END:VEVENT
BEGIN:VEVENT
DTSTART;TZID=Europe/Berlin:20300331T103000
DTEND;TZID=Europe/Berlin:20300331T113000
DTSTAMP:20260423T084550
CREATED:20260327T120935Z
LAST-MODIFIED:20260327T120935Z
UID:10011120-1901183400-1901187000@martinus-hn.de
SUMMARY:Eucharistiefeier in St. Martinus
DESCRIPTION:
URL:https://martinus-hn.de/veranstaltung/eucharistiefeier-in-st-martinus/2030-03-31/
LOCATION:St. Martinus\, Auf dem Bau 1\, Heilbronn-Sontheim\, 74081\, Deutschland
CATEGORIES:Gottesdienst
END:VEVENT
BEGIN:VEVENT
DTSTART;TZID=Europe/Berlin:20300407T103000
DTEND;TZID=Europe/Berlin:20300407T113000
DTSTAMP:20260423T084550
CREATED:20260327T120935Z
LAST-MODIFIED:20260327T120935Z
UID:10011121-1901788200-1901791800@martinus-hn.de
SUMMARY:Eucharistiefeier in St. Martinus
DESCRIPTION:
URL:https://martinus-hn.de/veranstaltung/eucharistiefeier-in-st-martinus/2030-04-07/
LOCATION:St. Martinus\, Auf dem Bau 1\, Heilbronn-Sontheim\, 74081\, Deutschland
CATEGORIES:Gottesdienst
END:VEVENT
BEGIN:VEVENT
DTSTART;TZID=Europe/Berlin:20300414T103000
DTEND;TZID=Europe/Berlin:20300414T113000
DTSTAMP:20260423T084550
CREATED:20260327T120935Z
LAST-MODIFIED:20260327T120935Z
UID:10011122-1902393000-1902396600@martinus-hn.de
SUMMARY:Eucharistiefeier in St. Martinus
DESCRIPTION:
URL:https://martinus-hn.de/veranstaltung/eucharistiefeier-in-st-martinus/2030-04-14/
LOCATION:St. Martinus\, Auf dem Bau 1\, Heilbronn-Sontheim\, 74081\, Deutschland
CATEGORIES:Gottesdienst
END:VEVENT
BEGIN:VEVENT
DTSTART;TZID=Europe/Berlin:20300421T103000
DTEND;TZID=Europe/Berlin:20300421T113000
DTSTAMP:20260423T084550
CREATED:20260327T120935Z
LAST-MODIFIED:20260327T120935Z
UID:10011123-1902997800-1903001400@martinus-hn.de
SUMMARY:Eucharistiefeier in St. Martinus
DESCRIPTION:
URL:https://martinus-hn.de/veranstaltung/eucharistiefeier-in-st-martinus/2030-04-21/
LOCATION:St. Martinus\, Auf dem Bau 1\, Heilbronn-Sontheim\, 74081\, Deutschland
CATEGORIES:Gottesdienst
END:VEVENT
BEGIN:VEVENT
DTSTART;TZID=Europe/Berlin:20300428T103000
DTEND;TZID=Europe/Berlin:20300428T113000
DTSTAMP:20260423T084550
CREATED:20260327T120935Z
LAST-MODIFIED:20260327T120935Z
UID:10011124-1903602600-1903606200@martinus-hn.de
SUMMARY:Eucharistiefeier in St. Martinus
DESCRIPTION:
URL:https://martinus-hn.de/veranstaltung/eucharistiefeier-in-st-martinus/2030-04-28/
LOCATION:St. Martinus\, Auf dem Bau 1\, Heilbronn-Sontheim\, 74081\, Deutschland
CATEGORIES:Gottesdienst
END:VEVENT
BEGIN:VEVENT
DTSTART;TZID=Europe/Berlin:20300505T103000
DTEND;TZID=Europe/Berlin:20300505T113000
DTSTAMP:20260423T084550
CREATED:20260327T120935Z
LAST-MODIFIED:20260327T120935Z
UID:10011125-1904207400-1904211000@martinus-hn.de
SUMMARY:Eucharistiefeier in St. Martinus
DESCRIPTION:
URL:https://martinus-hn.de/veranstaltung/eucharistiefeier-in-st-martinus/2030-05-05/
LOCATION:St. Martinus\, Auf dem Bau 1\, Heilbronn-Sontheim\, 74081\, Deutschland
CATEGORIES:Gottesdienst
END:VEVENT
BEGIN:VEVENT
DTSTART;TZID=Europe/Berlin:20300512T103000
DTEND;TZID=Europe/Berlin:20300512T113000
DTSTAMP:20260423T084550
CREATED:20260327T120935Z
LAST-MODIFIED:20260327T120935Z
UID:10011126-1904812200-1904815800@martinus-hn.de
SUMMARY:Eucharistiefeier in St. Martinus
DESCRIPTION:
URL:https://martinus-hn.de/veranstaltung/eucharistiefeier-in-st-martinus/2030-05-12/
LOCATION:St. Martinus\, Auf dem Bau 1\, Heilbronn-Sontheim\, 74081\, Deutschland
CATEGORIES:Gottesdienst
END:VEVENT
BEGIN:VEVENT
DTSTART;TZID=Europe/Berlin:20300519T103000
DTEND;TZID=Europe/Berlin:20300519T113000
DTSTAMP:20260423T084550
CREATED:20260327T120935Z
LAST-MODIFIED:20260327T120935Z
UID:10011127-1905417000-1905420600@martinus-hn.de
SUMMARY:Eucharistiefeier in St. Martinus
DESCRIPTION:
URL:https://martinus-hn.de/veranstaltung/eucharistiefeier-in-st-martinus/2030-05-19/
LOCATION:St. Martinus\, Auf dem Bau 1\, Heilbronn-Sontheim\, 74081\, Deutschland
CATEGORIES:Gottesdienst
END:VEVENT
BEGIN:VEVENT
DTSTART;TZID=Europe/Berlin:20300526T103000
DTEND;TZID=Europe/Berlin:20300526T113000
DTSTAMP:20260423T084550
CREATED:20260327T120935Z
LAST-MODIFIED:20260327T120935Z
UID:10011128-1906021800-1906025400@martinus-hn.de
SUMMARY:Eucharistiefeier in St. Martinus
DESCRIPTION:
URL:https://martinus-hn.de/veranstaltung/eucharistiefeier-in-st-martinus/2030-05-26/
LOCATION:St. Martinus\, Auf dem Bau 1\, Heilbronn-Sontheim\, 74081\, Deutschland
CATEGORIES:Gottesdienst
END:VEVENT
BEGIN:VEVENT
DTSTART;TZID=Europe/Berlin:20300602T103000
DTEND;TZID=Europe/Berlin:20300602T113000
DTSTAMP:20260423T084550
CREATED:20260327T120935Z
LAST-MODIFIED:20260327T120935Z
UID:10011129-1906626600-1906630200@martinus-hn.de
SUMMARY:Eucharistiefeier in St. Martinus
DESCRIPTION:
URL:https://martinus-hn.de/veranstaltung/eucharistiefeier-in-st-martinus/2030-06-02/
LOCATION:St. Martinus\, Auf dem Bau 1\, Heilbronn-Sontheim\, 74081\, Deutschland
CATEGORIES:Gottesdienst
END:VEVENT
BEGIN:VEVENT
DTSTART;TZID=Europe/Berlin:20300609T103000
DTEND;TZID=Europe/Berlin:20300609T113000
DTSTAMP:20260423T084550
CREATED:20260327T120935Z
LAST-MODIFIED:20260327T120935Z
UID:10011130-1907231400-1907235000@martinus-hn.de
SUMMARY:Eucharistiefeier in St. Martinus
DESCRIPTION:
URL:https://martinus-hn.de/veranstaltung/eucharistiefeier-in-st-martinus/2030-06-09/
LOCATION:St. Martinus\, Auf dem Bau 1\, Heilbronn-Sontheim\, 74081\, Deutschland
CATEGORIES:Gottesdienst
END:VEVENT
BEGIN:VEVENT
DTSTART;TZID=Europe/Berlin:20300616T103000
DTEND;TZID=Europe/Berlin:20300616T113000
DTSTAMP:20260423T084550
CREATED:20260327T120935Z
LAST-MODIFIED:20260327T120935Z
UID:10011131-1907836200-1907839800@martinus-hn.de
SUMMARY:Eucharistiefeier in St. Martinus
DESCRIPTION:
URL:https://martinus-hn.de/veranstaltung/eucharistiefeier-in-st-martinus/2030-06-16/
LOCATION:St. Martinus\, Auf dem Bau 1\, Heilbronn-Sontheim\, 74081\, Deutschland
CATEGORIES:Gottesdienst
END:VEVENT
BEGIN:VEVENT
DTSTART;TZID=Europe/Berlin:20300623T103000
DTEND;TZID=Europe/Berlin:20300623T113000
DTSTAMP:20260423T084550
CREATED:20260327T120935Z
LAST-MODIFIED:20260327T120935Z
UID:10011132-1908441000-1908444600@martinus-hn.de
SUMMARY:Eucharistiefeier in St. Martinus
DESCRIPTION:
URL:https://martinus-hn.de/veranstaltung/eucharistiefeier-in-st-martinus/2030-06-23/
LOCATION:St. Martinus\, Auf dem Bau 1\, Heilbronn-Sontheim\, 74081\, Deutschland
CATEGORIES:Gottesdienst
END:VEVENT
BEGIN:VEVENT
DTSTART;TZID=Europe/Berlin:20300630T103000
DTEND;TZID=Europe/Berlin:20300630T113000
DTSTAMP:20260423T084550
CREATED:20260327T120935Z
LAST-MODIFIED:20260327T120935Z
UID:10011133-1909045800-1909049400@martinus-hn.de
SUMMARY:Eucharistiefeier in St. Martinus
DESCRIPTION:
URL:https://martinus-hn.de/veranstaltung/eucharistiefeier-in-st-martinus/2030-06-30/
LOCATION:St. Martinus\, Auf dem Bau 1\, Heilbronn-Sontheim\, 74081\, Deutschland
CATEGORIES:Gottesdienst
END:VEVENT
BEGIN:VEVENT
DTSTART;TZID=Europe/Berlin:20300707T103000
DTEND;TZID=Europe/Berlin:20300707T113000
DTSTAMP:20260423T084550
CREATED:20260327T120935Z
LAST-MODIFIED:20260327T120935Z
UID:10011134-1909650600-1909654200@martinus-hn.de
SUMMARY:Eucharistiefeier in St. Martinus
DESCRIPTION:
URL:https://martinus-hn.de/veranstaltung/eucharistiefeier-in-st-martinus/2030-07-07/
LOCATION:St. Martinus\, Auf dem Bau 1\, Heilbronn-Sontheim\, 74081\, Deutschland
CATEGORIES:Gottesdienst
END:VEVENT
BEGIN:VEVENT
DTSTART;TZID=Europe/Berlin:20300714T103000
DTEND;TZID=Europe/Berlin:20300714T113000
DTSTAMP:20260423T084550
CREATED:20260327T120935Z
LAST-MODIFIED:20260327T120935Z
UID:10011135-1910255400-1910259000@martinus-hn.de
SUMMARY:Eucharistiefeier in St. Martinus
DESCRIPTION:
URL:https://martinus-hn.de/veranstaltung/eucharistiefeier-in-st-martinus/2030-07-14/
LOCATION:St. Martinus\, Auf dem Bau 1\, Heilbronn-Sontheim\, 74081\, Deutschland
CATEGORIES:Gottesdienst
END:VEVENT
BEGIN:VEVENT
DTSTART;TZID=Europe/Berlin:20300721T103000
DTEND;TZID=Europe/Berlin:20300721T113000
DTSTAMP:20260423T084550
CREATED:20260327T120935Z
LAST-MODIFIED:20260327T120935Z
UID:10011136-1910860200-1910863800@martinus-hn.de
SUMMARY:Eucharistiefeier in St. Martinus
DESCRIPTION:
URL:https://martinus-hn.de/veranstaltung/eucharistiefeier-in-st-martinus/2030-07-21/
LOCATION:St. Martinus\, Auf dem Bau 1\, Heilbronn-Sontheim\, 74081\, Deutschland
CATEGORIES:Gottesdienst
END:VEVENT
BEGIN:VEVENT
DTSTART;TZID=Europe/Berlin:20300728T103000
DTEND;TZID=Europe/Berlin:20300728T113000
DTSTAMP:20260423T084550
CREATED:20260327T120935Z
LAST-MODIFIED:20260327T120935Z
UID:10011137-1911465000-1911468600@martinus-hn.de
SUMMARY:Eucharistiefeier in St. Martinus
DESCRIPTION:
URL:https://martinus-hn.de/veranstaltung/eucharistiefeier-in-st-martinus/2030-07-28/
LOCATION:St. Martinus\, Auf dem Bau 1\, Heilbronn-Sontheim\, 74081\, Deutschland
CATEGORIES:Gottesdienst
END:VEVENT
BEGIN:VEVENT
DTSTART;TZID=Europe/Berlin:20300804T103000
DTEND;TZID=Europe/Berlin:20300804T113000
DTSTAMP:20260423T084550
CREATED:20260327T120935Z
LAST-MODIFIED:20260327T120935Z
UID:10011138-1912069800-1912073400@martinus-hn.de
SUMMARY:Eucharistiefeier in St. Martinus
DESCRIPTION:
URL:https://martinus-hn.de/veranstaltung/eucharistiefeier-in-st-martinus/2030-08-04/
LOCATION:St. Martinus\, Auf dem Bau 1\, Heilbronn-Sontheim\, 74081\, Deutschland
CATEGORIES:Gottesdienst
END:VEVENT
BEGIN:VEVENT
DTSTART;TZID=Europe/Berlin:20300811T103000
DTEND;TZID=Europe/Berlin:20300811T113000
DTSTAMP:20260423T084550
CREATED:20260327T120935Z
LAST-MODIFIED:20260327T120935Z
UID:10011139-1912674600-1912678200@martinus-hn.de
SUMMARY:Eucharistiefeier in St. Martinus
DESCRIPTION:
URL:https://martinus-hn.de/veranstaltung/eucharistiefeier-in-st-martinus/2030-08-11/
LOCATION:St. Martinus\, Auf dem Bau 1\, Heilbronn-Sontheim\, 74081\, Deutschland
CATEGORIES:Gottesdienst
END:VEVENT
BEGIN:VEVENT
DTSTART;TZID=Europe/Berlin:20300818T103000
DTEND;TZID=Europe/Berlin:20300818T113000
DTSTAMP:20260423T084550
CREATED:20260327T120935Z
LAST-MODIFIED:20260327T120935Z
UID:10011140-1913279400-1913283000@martinus-hn.de
SUMMARY:Eucharistiefeier in St. Martinus
DESCRIPTION:
URL:https://martinus-hn.de/veranstaltung/eucharistiefeier-in-st-martinus/2030-08-18/
LOCATION:St. Martinus\, Auf dem Bau 1\, Heilbronn-Sontheim\, 74081\, Deutschland
CATEGORIES:Gottesdienst
END:VEVENT
BEGIN:VEVENT
DTSTART;TZID=Europe/Berlin:20300825T103000
DTEND;TZID=Europe/Berlin:20300825T113000
DTSTAMP:20260423T084550
CREATED:20260327T120935Z
LAST-MODIFIED:20260327T120935Z
UID:10011141-1913884200-1913887800@martinus-hn.de
SUMMARY:Eucharistiefeier in St. Martinus
DESCRIPTION:
URL:https://martinus-hn.de/veranstaltung/eucharistiefeier-in-st-martinus/2030-08-25/
LOCATION:St. Martinus\, Auf dem Bau 1\, Heilbronn-Sontheim\, 74081\, Deutschland
CATEGORIES:Gottesdienst
END:VEVENT
BEGIN:VEVENT
DTSTART;TZID=Europe/Berlin:20300901T103000
DTEND;TZID=Europe/Berlin:20300901T113000
DTSTAMP:20260423T084550
CREATED:20260327T120935Z
LAST-MODIFIED:20260327T120935Z
UID:10011142-1914489000-1914492600@martinus-hn.de
SUMMARY:Eucharistiefeier in St. Martinus
DESCRIPTION:
URL:https://martinus-hn.de/veranstaltung/eucharistiefeier-in-st-martinus/2030-09-01/
LOCATION:St. Martinus\, Auf dem Bau 1\, Heilbronn-Sontheim\, 74081\, Deutschland
CATEGORIES:Gottesdienst
END:VEVENT
BEGIN:VEVENT
DTSTART;TZID=Europe/Berlin:20300908T103000
DTEND;TZID=Europe/Berlin:20300908T113000
DTSTAMP:20260423T084550
CREATED:20260327T120935Z
LAST-MODIFIED:20260327T120935Z
UID:10011143-1915093800-1915097400@martinus-hn.de
SUMMARY:Eucharistiefeier in St. Martinus
DESCRIPTION:
URL:https://martinus-hn.de/veranstaltung/eucharistiefeier-in-st-martinus/2030-09-08/
LOCATION:St. Martinus\, Auf dem Bau 1\, Heilbronn-Sontheim\, 74081\, Deutschland
CATEGORIES:Gottesdienst
END:VEVENT
BEGIN:VEVENT
DTSTART;TZID=Europe/Berlin:20300915T103000
DTEND;TZID=Europe/Berlin:20300915T113000
DTSTAMP:20260423T084550
CREATED:20260327T120935Z
LAST-MODIFIED:20260327T120935Z
UID:10011144-1915698600-1915702200@martinus-hn.de
SUMMARY:Eucharistiefeier in St. Martinus
DESCRIPTION:
URL:https://martinus-hn.de/veranstaltung/eucharistiefeier-in-st-martinus/2030-09-15/
LOCATION:St. Martinus\, Auf dem Bau 1\, Heilbronn-Sontheim\, 74081\, Deutschland
CATEGORIES:Gottesdienst
END:VEVENT
BEGIN:VEVENT
DTSTART;TZID=Europe/Berlin:20300922T103000
DTEND;TZID=Europe/Berlin:20300922T113000
DTSTAMP:20260423T084550
CREATED:20260327T120935Z
LAST-MODIFIED:20260327T120935Z
UID:10011145-1916303400-1916307000@martinus-hn.de
SUMMARY:Eucharistiefeier in St. Martinus
DESCRIPTION:
URL:https://martinus-hn.de/veranstaltung/eucharistiefeier-in-st-martinus/2030-09-22/
LOCATION:St. Martinus\, Auf dem Bau 1\, Heilbronn-Sontheim\, 74081\, Deutschland
CATEGORIES:Gottesdienst
END:VEVENT
END:VCALENDAR