BEGIN:VCALENDAR
VERSION:2.0
PRODID:-//St. Martinus Heilbronn-Sontheim - ECPv6.10.2//NONSGML v1.0//EN
CALSCALE:GREGORIAN
METHOD:PUBLISH
X-WR-CALNAME:St. Martinus Heilbronn-Sontheim
X-ORIGINAL-URL:https://martinus-hn.de
X-WR-CALDESC:Veranstaltungen für St. Martinus Heilbronn-Sontheim
REFRESH-INTERVAL;VALUE=DURATION:PT1H
X-Robots-Tag:noindex
X-PUBLISHED-TTL:PT1H
BEGIN:VTIMEZONE
TZID:Europe/Berlin
BEGIN:DAYLIGHT
TZOFFSETFROM:+0100
TZOFFSETTO:+0200
TZNAME:CEST
DTSTART:20290325T010000
END:DAYLIGHT
BEGIN:STANDARD
TZOFFSETFROM:+0200
TZOFFSETTO:+0100
TZNAME:CET
DTSTART:20291028T010000
END:STANDARD
END:VTIMEZONE
BEGIN:VEVENT
DTSTART;TZID=Europe/Berlin:20290527T103000
DTEND;TZID=Europe/Berlin:20290527T113000
DTSTAMP:20260423T010158
CREATED:20260327T120935Z
LAST-MODIFIED:20260327T120935Z
UID:10011076-1874572200-1874575800@martinus-hn.de
SUMMARY:Eucharistiefeier in St. Martinus
DESCRIPTION:
URL:https://martinus-hn.de/veranstaltung/eucharistiefeier-in-st-martinus/2029-05-27/
LOCATION:St. Martinus\, Auf dem Bau 1\, Heilbronn-Sontheim\, 74081\, Deutschland
CATEGORIES:Gottesdienst
END:VEVENT
BEGIN:VEVENT
DTSTART;TZID=Europe/Berlin:20290603T103000
DTEND;TZID=Europe/Berlin:20290603T113000
DTSTAMP:20260423T010158
CREATED:20260327T120935Z
LAST-MODIFIED:20260327T120935Z
UID:10011077-1875177000-1875180600@martinus-hn.de
SUMMARY:Eucharistiefeier in St. Martinus
DESCRIPTION:
URL:https://martinus-hn.de/veranstaltung/eucharistiefeier-in-st-martinus/2029-06-03/
LOCATION:St. Martinus\, Auf dem Bau 1\, Heilbronn-Sontheim\, 74081\, Deutschland
CATEGORIES:Gottesdienst
END:VEVENT
BEGIN:VEVENT
DTSTART;TZID=Europe/Berlin:20290610T103000
DTEND;TZID=Europe/Berlin:20290610T113000
DTSTAMP:20260423T010158
CREATED:20260327T120935Z
LAST-MODIFIED:20260327T120935Z
UID:10011078-1875781800-1875785400@martinus-hn.de
SUMMARY:Eucharistiefeier in St. Martinus
DESCRIPTION:
URL:https://martinus-hn.de/veranstaltung/eucharistiefeier-in-st-martinus/2029-06-10/
LOCATION:St. Martinus\, Auf dem Bau 1\, Heilbronn-Sontheim\, 74081\, Deutschland
CATEGORIES:Gottesdienst
END:VEVENT
BEGIN:VEVENT
DTSTART;TZID=Europe/Berlin:20290617T103000
DTEND;TZID=Europe/Berlin:20290617T113000
DTSTAMP:20260423T010158
CREATED:20260327T120935Z
LAST-MODIFIED:20260327T120935Z
UID:10011079-1876386600-1876390200@martinus-hn.de
SUMMARY:Eucharistiefeier in St. Martinus
DESCRIPTION:
URL:https://martinus-hn.de/veranstaltung/eucharistiefeier-in-st-martinus/2029-06-17/
LOCATION:St. Martinus\, Auf dem Bau 1\, Heilbronn-Sontheim\, 74081\, Deutschland
CATEGORIES:Gottesdienst
END:VEVENT
BEGIN:VEVENT
DTSTART;TZID=Europe/Berlin:20290624T103000
DTEND;TZID=Europe/Berlin:20290624T113000
DTSTAMP:20260423T010158
CREATED:20260327T120935Z
LAST-MODIFIED:20260327T120935Z
UID:10011080-1876991400-1876995000@martinus-hn.de
SUMMARY:Eucharistiefeier in St. Martinus
DESCRIPTION:
URL:https://martinus-hn.de/veranstaltung/eucharistiefeier-in-st-martinus/2029-06-24/
LOCATION:St. Martinus\, Auf dem Bau 1\, Heilbronn-Sontheim\, 74081\, Deutschland
CATEGORIES:Gottesdienst
END:VEVENT
BEGIN:VEVENT
DTSTART;TZID=Europe/Berlin:20290701T103000
DTEND;TZID=Europe/Berlin:20290701T113000
DTSTAMP:20260423T010158
CREATED:20260327T120935Z
LAST-MODIFIED:20260327T120935Z
UID:10011081-1877596200-1877599800@martinus-hn.de
SUMMARY:Eucharistiefeier in St. Martinus
DESCRIPTION:
URL:https://martinus-hn.de/veranstaltung/eucharistiefeier-in-st-martinus/2029-07-01/
LOCATION:St. Martinus\, Auf dem Bau 1\, Heilbronn-Sontheim\, 74081\, Deutschland
CATEGORIES:Gottesdienst
END:VEVENT
BEGIN:VEVENT
DTSTART;TZID=Europe/Berlin:20290708T103000
DTEND;TZID=Europe/Berlin:20290708T113000
DTSTAMP:20260423T010158
CREATED:20260327T120935Z
LAST-MODIFIED:20260327T120935Z
UID:10011082-1878201000-1878204600@martinus-hn.de
SUMMARY:Eucharistiefeier in St. Martinus
DESCRIPTION:
URL:https://martinus-hn.de/veranstaltung/eucharistiefeier-in-st-martinus/2029-07-08/
LOCATION:St. Martinus\, Auf dem Bau 1\, Heilbronn-Sontheim\, 74081\, Deutschland
CATEGORIES:Gottesdienst
END:VEVENT
BEGIN:VEVENT
DTSTART;TZID=Europe/Berlin:20290715T103000
DTEND;TZID=Europe/Berlin:20290715T113000
DTSTAMP:20260423T010158
CREATED:20260327T120935Z
LAST-MODIFIED:20260327T120935Z
UID:10011083-1878805800-1878809400@martinus-hn.de
SUMMARY:Eucharistiefeier in St. Martinus
DESCRIPTION:
URL:https://martinus-hn.de/veranstaltung/eucharistiefeier-in-st-martinus/2029-07-15/
LOCATION:St. Martinus\, Auf dem Bau 1\, Heilbronn-Sontheim\, 74081\, Deutschland
CATEGORIES:Gottesdienst
END:VEVENT
BEGIN:VEVENT
DTSTART;TZID=Europe/Berlin:20290722T103000
DTEND;TZID=Europe/Berlin:20290722T113000
DTSTAMP:20260423T010158
CREATED:20260327T120935Z
LAST-MODIFIED:20260327T120935Z
UID:10011084-1879410600-1879414200@martinus-hn.de
SUMMARY:Eucharistiefeier in St. Martinus
DESCRIPTION:
URL:https://martinus-hn.de/veranstaltung/eucharistiefeier-in-st-martinus/2029-07-22/
LOCATION:St. Martinus\, Auf dem Bau 1\, Heilbronn-Sontheim\, 74081\, Deutschland
CATEGORIES:Gottesdienst
END:VEVENT
BEGIN:VEVENT
DTSTART;TZID=Europe/Berlin:20290729T103000
DTEND;TZID=Europe/Berlin:20290729T113000
DTSTAMP:20260423T010158
CREATED:20260327T120935Z
LAST-MODIFIED:20260327T120935Z
UID:10011085-1880015400-1880019000@martinus-hn.de
SUMMARY:Eucharistiefeier in St. Martinus
DESCRIPTION:
URL:https://martinus-hn.de/veranstaltung/eucharistiefeier-in-st-martinus/2029-07-29/
LOCATION:St. Martinus\, Auf dem Bau 1\, Heilbronn-Sontheim\, 74081\, Deutschland
CATEGORIES:Gottesdienst
END:VEVENT
BEGIN:VEVENT
DTSTART;TZID=Europe/Berlin:20290805T103000
DTEND;TZID=Europe/Berlin:20290805T113000
DTSTAMP:20260423T010158
CREATED:20260327T120935Z
LAST-MODIFIED:20260327T120935Z
UID:10011086-1880620200-1880623800@martinus-hn.de
SUMMARY:Eucharistiefeier in St. Martinus
DESCRIPTION:
URL:https://martinus-hn.de/veranstaltung/eucharistiefeier-in-st-martinus/2029-08-05/
LOCATION:St. Martinus\, Auf dem Bau 1\, Heilbronn-Sontheim\, 74081\, Deutschland
CATEGORIES:Gottesdienst
END:VEVENT
BEGIN:VEVENT
DTSTART;TZID=Europe/Berlin:20290812T103000
DTEND;TZID=Europe/Berlin:20290812T113000
DTSTAMP:20260423T010158
CREATED:20260327T120935Z
LAST-MODIFIED:20260327T120935Z
UID:10011087-1881225000-1881228600@martinus-hn.de
SUMMARY:Eucharistiefeier in St. Martinus
DESCRIPTION:
URL:https://martinus-hn.de/veranstaltung/eucharistiefeier-in-st-martinus/2029-08-12/
LOCATION:St. Martinus\, Auf dem Bau 1\, Heilbronn-Sontheim\, 74081\, Deutschland
CATEGORIES:Gottesdienst
END:VEVENT
BEGIN:VEVENT
DTSTART;TZID=Europe/Berlin:20290819T103000
DTEND;TZID=Europe/Berlin:20290819T113000
DTSTAMP:20260423T010158
CREATED:20260327T120935Z
LAST-MODIFIED:20260327T120935Z
UID:10011088-1881829800-1881833400@martinus-hn.de
SUMMARY:Eucharistiefeier in St. Martinus
DESCRIPTION:
URL:https://martinus-hn.de/veranstaltung/eucharistiefeier-in-st-martinus/2029-08-19/
LOCATION:St. Martinus\, Auf dem Bau 1\, Heilbronn-Sontheim\, 74081\, Deutschland
CATEGORIES:Gottesdienst
END:VEVENT
BEGIN:VEVENT
DTSTART;TZID=Europe/Berlin:20290826T103000
DTEND;TZID=Europe/Berlin:20290826T113000
DTSTAMP:20260423T010158
CREATED:20260327T120935Z
LAST-MODIFIED:20260327T120935Z
UID:10011089-1882434600-1882438200@martinus-hn.de
SUMMARY:Eucharistiefeier in St. Martinus
DESCRIPTION:
URL:https://martinus-hn.de/veranstaltung/eucharistiefeier-in-st-martinus/2029-08-26/
LOCATION:St. Martinus\, Auf dem Bau 1\, Heilbronn-Sontheim\, 74081\, Deutschland
CATEGORIES:Gottesdienst
END:VEVENT
BEGIN:VEVENT
DTSTART;TZID=Europe/Berlin:20290902T103000
DTEND;TZID=Europe/Berlin:20290902T113000
DTSTAMP:20260423T010158
CREATED:20260327T120935Z
LAST-MODIFIED:20260327T120935Z
UID:10011090-1883039400-1883043000@martinus-hn.de
SUMMARY:Eucharistiefeier in St. Martinus
DESCRIPTION:
URL:https://martinus-hn.de/veranstaltung/eucharistiefeier-in-st-martinus/2029-09-02/
LOCATION:St. Martinus\, Auf dem Bau 1\, Heilbronn-Sontheim\, 74081\, Deutschland
CATEGORIES:Gottesdienst
END:VEVENT
BEGIN:VEVENT
DTSTART;TZID=Europe/Berlin:20290909T103000
DTEND;TZID=Europe/Berlin:20290909T113000
DTSTAMP:20260423T010158
CREATED:20260327T120935Z
LAST-MODIFIED:20260327T120935Z
UID:10011091-1883644200-1883647800@martinus-hn.de
SUMMARY:Eucharistiefeier in St. Martinus
DESCRIPTION:
URL:https://martinus-hn.de/veranstaltung/eucharistiefeier-in-st-martinus/2029-09-09/
LOCATION:St. Martinus\, Auf dem Bau 1\, Heilbronn-Sontheim\, 74081\, Deutschland
CATEGORIES:Gottesdienst
END:VEVENT
BEGIN:VEVENT
DTSTART;TZID=Europe/Berlin:20290916T103000
DTEND;TZID=Europe/Berlin:20290916T113000
DTSTAMP:20260423T010158
CREATED:20260327T120935Z
LAST-MODIFIED:20260327T120935Z
UID:10011092-1884249000-1884252600@martinus-hn.de
SUMMARY:Eucharistiefeier in St. Martinus
DESCRIPTION:
URL:https://martinus-hn.de/veranstaltung/eucharistiefeier-in-st-martinus/2029-09-16/
LOCATION:St. Martinus\, Auf dem Bau 1\, Heilbronn-Sontheim\, 74081\, Deutschland
CATEGORIES:Gottesdienst
END:VEVENT
BEGIN:VEVENT
DTSTART;TZID=Europe/Berlin:20290923T103000
DTEND;TZID=Europe/Berlin:20290923T113000
DTSTAMP:20260423T010158
CREATED:20260327T120935Z
LAST-MODIFIED:20260327T120935Z
UID:10011093-1884853800-1884857400@martinus-hn.de
SUMMARY:Eucharistiefeier in St. Martinus
DESCRIPTION:
URL:https://martinus-hn.de/veranstaltung/eucharistiefeier-in-st-martinus/2029-09-23/
LOCATION:St. Martinus\, Auf dem Bau 1\, Heilbronn-Sontheim\, 74081\, Deutschland
CATEGORIES:Gottesdienst
END:VEVENT
BEGIN:VEVENT
DTSTART;TZID=Europe/Berlin:20290930T103000
DTEND;TZID=Europe/Berlin:20290930T113000
DTSTAMP:20260423T010158
CREATED:20260327T120935Z
LAST-MODIFIED:20260327T120935Z
UID:10011094-1885458600-1885462200@martinus-hn.de
SUMMARY:Eucharistiefeier in St. Martinus
DESCRIPTION:
URL:https://martinus-hn.de/veranstaltung/eucharistiefeier-in-st-martinus/2029-09-30/
LOCATION:St. Martinus\, Auf dem Bau 1\, Heilbronn-Sontheim\, 74081\, Deutschland
CATEGORIES:Gottesdienst
END:VEVENT
BEGIN:VEVENT
DTSTART;TZID=Europe/Berlin:20291007T103000
DTEND;TZID=Europe/Berlin:20291007T113000
DTSTAMP:20260423T010158
CREATED:20260327T120935Z
LAST-MODIFIED:20260327T120935Z
UID:10011095-1886063400-1886067000@martinus-hn.de
SUMMARY:Eucharistiefeier in St. Martinus
DESCRIPTION:
URL:https://martinus-hn.de/veranstaltung/eucharistiefeier-in-st-martinus/2029-10-07/
LOCATION:St. Martinus\, Auf dem Bau 1\, Heilbronn-Sontheim\, 74081\, Deutschland
CATEGORIES:Gottesdienst
END:VEVENT
BEGIN:VEVENT
DTSTART;TZID=Europe/Berlin:20291014T103000
DTEND;TZID=Europe/Berlin:20291014T113000
DTSTAMP:20260423T010158
CREATED:20260327T120935Z
LAST-MODIFIED:20260327T120935Z
UID:10011096-1886668200-1886671800@martinus-hn.de
SUMMARY:Eucharistiefeier in St. Martinus
DESCRIPTION:
URL:https://martinus-hn.de/veranstaltung/eucharistiefeier-in-st-martinus/2029-10-14/
LOCATION:St. Martinus\, Auf dem Bau 1\, Heilbronn-Sontheim\, 74081\, Deutschland
CATEGORIES:Gottesdienst
END:VEVENT
BEGIN:VEVENT
DTSTART;TZID=Europe/Berlin:20291021T103000
DTEND;TZID=Europe/Berlin:20291021T113000
DTSTAMP:20260423T010158
CREATED:20260327T120935Z
LAST-MODIFIED:20260327T120935Z
UID:10011097-1887273000-1887276600@martinus-hn.de
SUMMARY:Eucharistiefeier in St. Martinus
DESCRIPTION:
URL:https://martinus-hn.de/veranstaltung/eucharistiefeier-in-st-martinus/2029-10-21/
LOCATION:St. Martinus\, Auf dem Bau 1\, Heilbronn-Sontheim\, 74081\, Deutschland
CATEGORIES:Gottesdienst
END:VEVENT
BEGIN:VEVENT
DTSTART;TZID=Europe/Berlin:20291028T103000
DTEND;TZID=Europe/Berlin:20291028T113000
DTSTAMP:20260423T010158
CREATED:20260327T120935Z
LAST-MODIFIED:20260327T120935Z
UID:10011098-1887877800-1887881400@martinus-hn.de
SUMMARY:Eucharistiefeier in St. Martinus
DESCRIPTION:
URL:https://martinus-hn.de/veranstaltung/eucharistiefeier-in-st-martinus/2029-10-28/
LOCATION:St. Martinus\, Auf dem Bau 1\, Heilbronn-Sontheim\, 74081\, Deutschland
CATEGORIES:Gottesdienst
END:VEVENT
BEGIN:VEVENT
DTSTART;TZID=Europe/Berlin:20291104T103000
DTEND;TZID=Europe/Berlin:20291104T113000
DTSTAMP:20260423T010158
CREATED:20260327T120935Z
LAST-MODIFIED:20260327T120935Z
UID:10011099-1888482600-1888486200@martinus-hn.de
SUMMARY:Eucharistiefeier in St. Martinus
DESCRIPTION:
URL:https://martinus-hn.de/veranstaltung/eucharistiefeier-in-st-martinus/2029-11-04/
LOCATION:St. Martinus\, Auf dem Bau 1\, Heilbronn-Sontheim\, 74081\, Deutschland
CATEGORIES:Gottesdienst
END:VEVENT
BEGIN:VEVENT
DTSTART;TZID=Europe/Berlin:20291111T103000
DTEND;TZID=Europe/Berlin:20291111T113000
DTSTAMP:20260423T010158
CREATED:20260327T120935Z
LAST-MODIFIED:20260327T120935Z
UID:10011100-1889087400-1889091000@martinus-hn.de
SUMMARY:Eucharistiefeier in St. Martinus
DESCRIPTION:
URL:https://martinus-hn.de/veranstaltung/eucharistiefeier-in-st-martinus/2029-11-11/
LOCATION:St. Martinus\, Auf dem Bau 1\, Heilbronn-Sontheim\, 74081\, Deutschland
CATEGORIES:Gottesdienst
END:VEVENT
BEGIN:VEVENT
DTSTART;TZID=Europe/Berlin:20291118T103000
DTEND;TZID=Europe/Berlin:20291118T113000
DTSTAMP:20260423T010158
CREATED:20260327T120935Z
LAST-MODIFIED:20260327T120935Z
UID:10011101-1889692200-1889695800@martinus-hn.de
SUMMARY:Eucharistiefeier in St. Martinus
DESCRIPTION:
URL:https://martinus-hn.de/veranstaltung/eucharistiefeier-in-st-martinus/2029-11-18/
LOCATION:St. Martinus\, Auf dem Bau 1\, Heilbronn-Sontheim\, 74081\, Deutschland
CATEGORIES:Gottesdienst
END:VEVENT
BEGIN:VEVENT
DTSTART;TZID=Europe/Berlin:20291125T103000
DTEND;TZID=Europe/Berlin:20291125T113000
DTSTAMP:20260423T010158
CREATED:20260327T120935Z
LAST-MODIFIED:20260327T120935Z
UID:10011102-1890297000-1890300600@martinus-hn.de
SUMMARY:Eucharistiefeier in St. Martinus
DESCRIPTION:
URL:https://martinus-hn.de/veranstaltung/eucharistiefeier-in-st-martinus/2029-11-25/
LOCATION:St. Martinus\, Auf dem Bau 1\, Heilbronn-Sontheim\, 74081\, Deutschland
CATEGORIES:Gottesdienst
END:VEVENT
BEGIN:VEVENT
DTSTART;TZID=Europe/Berlin:20291202T103000
DTEND;TZID=Europe/Berlin:20291202T113000
DTSTAMP:20260423T010158
CREATED:20260327T120935Z
LAST-MODIFIED:20260327T120935Z
UID:10011103-1890901800-1890905400@martinus-hn.de
SUMMARY:Eucharistiefeier in St. Martinus
DESCRIPTION:
URL:https://martinus-hn.de/veranstaltung/eucharistiefeier-in-st-martinus/2029-12-02/
LOCATION:St. Martinus\, Auf dem Bau 1\, Heilbronn-Sontheim\, 74081\, Deutschland
CATEGORIES:Gottesdienst
END:VEVENT
BEGIN:VEVENT
DTSTART;TZID=Europe/Berlin:20291209T103000
DTEND;TZID=Europe/Berlin:20291209T113000
DTSTAMP:20260423T010158
CREATED:20260327T120935Z
LAST-MODIFIED:20260327T120935Z
UID:10011104-1891506600-1891510200@martinus-hn.de
SUMMARY:Eucharistiefeier in St. Martinus
DESCRIPTION:
URL:https://martinus-hn.de/veranstaltung/eucharistiefeier-in-st-martinus/2029-12-09/
LOCATION:St. Martinus\, Auf dem Bau 1\, Heilbronn-Sontheim\, 74081\, Deutschland
CATEGORIES:Gottesdienst
END:VEVENT
BEGIN:VEVENT
DTSTART;TZID=Europe/Berlin:20291216T103000
DTEND;TZID=Europe/Berlin:20291216T113000
DTSTAMP:20260423T010158
CREATED:20260327T120935Z
LAST-MODIFIED:20260327T120935Z
UID:10011105-1892111400-1892115000@martinus-hn.de
SUMMARY:Eucharistiefeier in St. Martinus
DESCRIPTION:
URL:https://martinus-hn.de/veranstaltung/eucharistiefeier-in-st-martinus/2029-12-16/
LOCATION:St. Martinus\, Auf dem Bau 1\, Heilbronn-Sontheim\, 74081\, Deutschland
CATEGORIES:Gottesdienst
END:VEVENT
END:VCALENDAR