BEGIN:VCALENDAR
VERSION:2.0
PRODID:-//St. Martinus Heilbronn-Sontheim - ECPv6.10.2//NONSGML v1.0//EN
CALSCALE:GREGORIAN
METHOD:PUBLISH
X-ORIGINAL-URL:https://martinus-hn.de
X-WR-CALDESC:Veranstaltungen für St. Martinus Heilbronn-Sontheim
REFRESH-INTERVAL;VALUE=DURATION:PT1H
X-Robots-Tag:noindex
X-PUBLISHED-TTL:PT1H
BEGIN:VTIMEZONE
TZID:Europe/Berlin
BEGIN:DAYLIGHT
TZOFFSETFROM:+0100
TZOFFSETTO:+0200
TZNAME:CEST
DTSTART:20280326T010000
END:DAYLIGHT
BEGIN:STANDARD
TZOFFSETFROM:+0200
TZOFFSETTO:+0100
TZNAME:CET
DTSTART:20281029T010000
END:STANDARD
END:VTIMEZONE
BEGIN:VEVENT
DTSTART;TZID=Europe/Berlin:20280123T103000
DTEND;TZID=Europe/Berlin:20280123T113000
DTSTAMP:20260422T115046
CREATED:20260327T120935Z
LAST-MODIFIED:20260327T120935Z
UID:10011006-1832236200-1832239800@martinus-hn.de
SUMMARY:Eucharistiefeier in St. Martinus
DESCRIPTION:
URL:https://martinus-hn.de/veranstaltung/eucharistiefeier-in-st-martinus/2028-01-23/
LOCATION:St. Martinus\, Auf dem Bau 1\, Heilbronn-Sontheim\, 74081\, Deutschland
CATEGORIES:Gottesdienst
END:VEVENT
BEGIN:VEVENT
DTSTART;TZID=Europe/Berlin:20280130T103000
DTEND;TZID=Europe/Berlin:20280130T113000
DTSTAMP:20260422T115046
CREATED:20260327T120935Z
LAST-MODIFIED:20260327T120935Z
UID:10011007-1832841000-1832844600@martinus-hn.de
SUMMARY:Eucharistiefeier in St. Martinus
DESCRIPTION:
URL:https://martinus-hn.de/veranstaltung/eucharistiefeier-in-st-martinus/2028-01-30/
LOCATION:St. Martinus\, Auf dem Bau 1\, Heilbronn-Sontheim\, 74081\, Deutschland
CATEGORIES:Gottesdienst
END:VEVENT
BEGIN:VEVENT
DTSTART;TZID=Europe/Berlin:20280206T103000
DTEND;TZID=Europe/Berlin:20280206T113000
DTSTAMP:20260422T115046
CREATED:20260327T120935Z
LAST-MODIFIED:20260327T120935Z
UID:10011008-1833445800-1833449400@martinus-hn.de
SUMMARY:Eucharistiefeier in St. Martinus
DESCRIPTION:
URL:https://martinus-hn.de/veranstaltung/eucharistiefeier-in-st-martinus/2028-02-06/
LOCATION:St. Martinus\, Auf dem Bau 1\, Heilbronn-Sontheim\, 74081\, Deutschland
CATEGORIES:Gottesdienst
END:VEVENT
BEGIN:VEVENT
DTSTART;TZID=Europe/Berlin:20280213T103000
DTEND;TZID=Europe/Berlin:20280213T113000
DTSTAMP:20260422T115046
CREATED:20260327T120935Z
LAST-MODIFIED:20260327T120935Z
UID:10011009-1834050600-1834054200@martinus-hn.de
SUMMARY:Eucharistiefeier in St. Martinus
DESCRIPTION:
URL:https://martinus-hn.de/veranstaltung/eucharistiefeier-in-st-martinus/2028-02-13/
LOCATION:St. Martinus\, Auf dem Bau 1\, Heilbronn-Sontheim\, 74081\, Deutschland
CATEGORIES:Gottesdienst
END:VEVENT
BEGIN:VEVENT
DTSTART;TZID=Europe/Berlin:20280220T103000
DTEND;TZID=Europe/Berlin:20280220T113000
DTSTAMP:20260422T115046
CREATED:20260327T120935Z
LAST-MODIFIED:20260327T120935Z
UID:10011010-1834655400-1834659000@martinus-hn.de
SUMMARY:Eucharistiefeier in St. Martinus
DESCRIPTION:
URL:https://martinus-hn.de/veranstaltung/eucharistiefeier-in-st-martinus/2028-02-20/
LOCATION:St. Martinus\, Auf dem Bau 1\, Heilbronn-Sontheim\, 74081\, Deutschland
CATEGORIES:Gottesdienst
END:VEVENT
BEGIN:VEVENT
DTSTART;TZID=Europe/Berlin:20280227T103000
DTEND;TZID=Europe/Berlin:20280227T113000
DTSTAMP:20260422T115046
CREATED:20260327T120935Z
LAST-MODIFIED:20260327T120935Z
UID:10011011-1835260200-1835263800@martinus-hn.de
SUMMARY:Eucharistiefeier in St. Martinus
DESCRIPTION:
URL:https://martinus-hn.de/veranstaltung/eucharistiefeier-in-st-martinus/2028-02-27/
LOCATION:St. Martinus\, Auf dem Bau 1\, Heilbronn-Sontheim\, 74081\, Deutschland
CATEGORIES:Gottesdienst
END:VEVENT
BEGIN:VEVENT
DTSTART;TZID=Europe/Berlin:20280305T103000
DTEND;TZID=Europe/Berlin:20280305T113000
DTSTAMP:20260422T115046
CREATED:20260327T120935Z
LAST-MODIFIED:20260327T120935Z
UID:10011012-1835865000-1835868600@martinus-hn.de
SUMMARY:Eucharistiefeier in St. Martinus
DESCRIPTION:
URL:https://martinus-hn.de/veranstaltung/eucharistiefeier-in-st-martinus/2028-03-05/
LOCATION:St. Martinus\, Auf dem Bau 1\, Heilbronn-Sontheim\, 74081\, Deutschland
CATEGORIES:Gottesdienst
END:VEVENT
BEGIN:VEVENT
DTSTART;TZID=Europe/Berlin:20280312T103000
DTEND;TZID=Europe/Berlin:20280312T113000
DTSTAMP:20260422T115046
CREATED:20260327T120935Z
LAST-MODIFIED:20260327T120935Z
UID:10011013-1836469800-1836473400@martinus-hn.de
SUMMARY:Eucharistiefeier in St. Martinus
DESCRIPTION:
URL:https://martinus-hn.de/veranstaltung/eucharistiefeier-in-st-martinus/2028-03-12/
LOCATION:St. Martinus\, Auf dem Bau 1\, Heilbronn-Sontheim\, 74081\, Deutschland
CATEGORIES:Gottesdienst
END:VEVENT
BEGIN:VEVENT
DTSTART;TZID=Europe/Berlin:20280319T103000
DTEND;TZID=Europe/Berlin:20280319T113000
DTSTAMP:20260422T115046
CREATED:20260327T120935Z
LAST-MODIFIED:20260327T120935Z
UID:10011014-1837074600-1837078200@martinus-hn.de
SUMMARY:Eucharistiefeier in St. Martinus
DESCRIPTION:
URL:https://martinus-hn.de/veranstaltung/eucharistiefeier-in-st-martinus/2028-03-19/
LOCATION:St. Martinus\, Auf dem Bau 1\, Heilbronn-Sontheim\, 74081\, Deutschland
CATEGORIES:Gottesdienst
END:VEVENT
BEGIN:VEVENT
DTSTART;TZID=Europe/Berlin:20280326T103000
DTEND;TZID=Europe/Berlin:20280326T113000
DTSTAMP:20260422T115046
CREATED:20260327T120935Z
LAST-MODIFIED:20260327T120935Z
UID:10011015-1837679400-1837683000@martinus-hn.de
SUMMARY:Eucharistiefeier in St. Martinus
DESCRIPTION:
URL:https://martinus-hn.de/veranstaltung/eucharistiefeier-in-st-martinus/2028-03-26/
LOCATION:St. Martinus\, Auf dem Bau 1\, Heilbronn-Sontheim\, 74081\, Deutschland
CATEGORIES:Gottesdienst
END:VEVENT
BEGIN:VEVENT
DTSTART;TZID=Europe/Berlin:20280402T103000
DTEND;TZID=Europe/Berlin:20280402T113000
DTSTAMP:20260422T115046
CREATED:20260327T120935Z
LAST-MODIFIED:20260327T120935Z
UID:10011016-1838284200-1838287800@martinus-hn.de
SUMMARY:Eucharistiefeier in St. Martinus
DESCRIPTION:
URL:https://martinus-hn.de/veranstaltung/eucharistiefeier-in-st-martinus/2028-04-02/
LOCATION:St. Martinus\, Auf dem Bau 1\, Heilbronn-Sontheim\, 74081\, Deutschland
CATEGORIES:Gottesdienst
END:VEVENT
BEGIN:VEVENT
DTSTART;TZID=Europe/Berlin:20280409T103000
DTEND;TZID=Europe/Berlin:20280409T113000
DTSTAMP:20260422T115046
CREATED:20260327T120935Z
LAST-MODIFIED:20260327T120935Z
UID:10011017-1838889000-1838892600@martinus-hn.de
SUMMARY:Eucharistiefeier in St. Martinus
DESCRIPTION:
URL:https://martinus-hn.de/veranstaltung/eucharistiefeier-in-st-martinus/2028-04-09/
LOCATION:St. Martinus\, Auf dem Bau 1\, Heilbronn-Sontheim\, 74081\, Deutschland
CATEGORIES:Gottesdienst
END:VEVENT
BEGIN:VEVENT
DTSTART;TZID=Europe/Berlin:20280416T103000
DTEND;TZID=Europe/Berlin:20280416T113000
DTSTAMP:20260422T115046
CREATED:20260327T120935Z
LAST-MODIFIED:20260327T120935Z
UID:10011018-1839493800-1839497400@martinus-hn.de
SUMMARY:Eucharistiefeier in St. Martinus
DESCRIPTION:
URL:https://martinus-hn.de/veranstaltung/eucharistiefeier-in-st-martinus/2028-04-16/
LOCATION:St. Martinus\, Auf dem Bau 1\, Heilbronn-Sontheim\, 74081\, Deutschland
CATEGORIES:Gottesdienst
END:VEVENT
BEGIN:VEVENT
DTSTART;TZID=Europe/Berlin:20280423T103000
DTEND;TZID=Europe/Berlin:20280423T113000
DTSTAMP:20260422T115046
CREATED:20260327T120935Z
LAST-MODIFIED:20260327T120935Z
UID:10011019-1840098600-1840102200@martinus-hn.de
SUMMARY:Eucharistiefeier in St. Martinus
DESCRIPTION:
URL:https://martinus-hn.de/veranstaltung/eucharistiefeier-in-st-martinus/2028-04-23/
LOCATION:St. Martinus\, Auf dem Bau 1\, Heilbronn-Sontheim\, 74081\, Deutschland
CATEGORIES:Gottesdienst
END:VEVENT
BEGIN:VEVENT
DTSTART;TZID=Europe/Berlin:20280430T103000
DTEND;TZID=Europe/Berlin:20280430T113000
DTSTAMP:20260422T115046
CREATED:20260327T120935Z
LAST-MODIFIED:20260327T120935Z
UID:10011020-1840703400-1840707000@martinus-hn.de
SUMMARY:Eucharistiefeier in St. Martinus
DESCRIPTION:
URL:https://martinus-hn.de/veranstaltung/eucharistiefeier-in-st-martinus/2028-04-30/
LOCATION:St. Martinus\, Auf dem Bau 1\, Heilbronn-Sontheim\, 74081\, Deutschland
CATEGORIES:Gottesdienst
END:VEVENT
BEGIN:VEVENT
DTSTART;TZID=Europe/Berlin:20280507T103000
DTEND;TZID=Europe/Berlin:20280507T113000
DTSTAMP:20260422T115046
CREATED:20260327T120935Z
LAST-MODIFIED:20260327T120935Z
UID:10011021-1841308200-1841311800@martinus-hn.de
SUMMARY:Eucharistiefeier in St. Martinus
DESCRIPTION:
URL:https://martinus-hn.de/veranstaltung/eucharistiefeier-in-st-martinus/2028-05-07/
LOCATION:St. Martinus\, Auf dem Bau 1\, Heilbronn-Sontheim\, 74081\, Deutschland
CATEGORIES:Gottesdienst
END:VEVENT
BEGIN:VEVENT
DTSTART;TZID=Europe/Berlin:20280514T103000
DTEND;TZID=Europe/Berlin:20280514T113000
DTSTAMP:20260422T115046
CREATED:20260327T120935Z
LAST-MODIFIED:20260327T120935Z
UID:10011022-1841913000-1841916600@martinus-hn.de
SUMMARY:Eucharistiefeier in St. Martinus
DESCRIPTION:
URL:https://martinus-hn.de/veranstaltung/eucharistiefeier-in-st-martinus/2028-05-14/
LOCATION:St. Martinus\, Auf dem Bau 1\, Heilbronn-Sontheim\, 74081\, Deutschland
CATEGORIES:Gottesdienst
END:VEVENT
BEGIN:VEVENT
DTSTART;TZID=Europe/Berlin:20280521T103000
DTEND;TZID=Europe/Berlin:20280521T113000
DTSTAMP:20260422T115046
CREATED:20260327T120935Z
LAST-MODIFIED:20260327T120935Z
UID:10011023-1842517800-1842521400@martinus-hn.de
SUMMARY:Eucharistiefeier in St. Martinus
DESCRIPTION:
URL:https://martinus-hn.de/veranstaltung/eucharistiefeier-in-st-martinus/2028-05-21/
LOCATION:St. Martinus\, Auf dem Bau 1\, Heilbronn-Sontheim\, 74081\, Deutschland
CATEGORIES:Gottesdienst
END:VEVENT
BEGIN:VEVENT
DTSTART;TZID=Europe/Berlin:20280528T103000
DTEND;TZID=Europe/Berlin:20280528T113000
DTSTAMP:20260422T115046
CREATED:20260327T120935Z
LAST-MODIFIED:20260327T120935Z
UID:10011024-1843122600-1843126200@martinus-hn.de
SUMMARY:Eucharistiefeier in St. Martinus
DESCRIPTION:
URL:https://martinus-hn.de/veranstaltung/eucharistiefeier-in-st-martinus/2028-05-28/
LOCATION:St. Martinus\, Auf dem Bau 1\, Heilbronn-Sontheim\, 74081\, Deutschland
CATEGORIES:Gottesdienst
END:VEVENT
BEGIN:VEVENT
DTSTART;TZID=Europe/Berlin:20280604T103000
DTEND;TZID=Europe/Berlin:20280604T113000
DTSTAMP:20260422T115046
CREATED:20260327T120935Z
LAST-MODIFIED:20260327T120935Z
UID:10011025-1843727400-1843731000@martinus-hn.de
SUMMARY:Eucharistiefeier in St. Martinus
DESCRIPTION:
URL:https://martinus-hn.de/veranstaltung/eucharistiefeier-in-st-martinus/2028-06-04/
LOCATION:St. Martinus\, Auf dem Bau 1\, Heilbronn-Sontheim\, 74081\, Deutschland
CATEGORIES:Gottesdienst
END:VEVENT
BEGIN:VEVENT
DTSTART;TZID=Europe/Berlin:20280611T103000
DTEND;TZID=Europe/Berlin:20280611T113000
DTSTAMP:20260422T115046
CREATED:20260327T120935Z
LAST-MODIFIED:20260327T120935Z
UID:10011026-1844332200-1844335800@martinus-hn.de
SUMMARY:Eucharistiefeier in St. Martinus
DESCRIPTION:
URL:https://martinus-hn.de/veranstaltung/eucharistiefeier-in-st-martinus/2028-06-11/
LOCATION:St. Martinus\, Auf dem Bau 1\, Heilbronn-Sontheim\, 74081\, Deutschland
CATEGORIES:Gottesdienst
END:VEVENT
BEGIN:VEVENT
DTSTART;TZID=Europe/Berlin:20280618T103000
DTEND;TZID=Europe/Berlin:20280618T113000
DTSTAMP:20260422T115046
CREATED:20260327T120935Z
LAST-MODIFIED:20260327T120935Z
UID:10011027-1844937000-1844940600@martinus-hn.de
SUMMARY:Eucharistiefeier in St. Martinus
DESCRIPTION:
URL:https://martinus-hn.de/veranstaltung/eucharistiefeier-in-st-martinus/2028-06-18/
LOCATION:St. Martinus\, Auf dem Bau 1\, Heilbronn-Sontheim\, 74081\, Deutschland
CATEGORIES:Gottesdienst
END:VEVENT
BEGIN:VEVENT
DTSTART;TZID=Europe/Berlin:20280625T103000
DTEND;TZID=Europe/Berlin:20280625T113000
DTSTAMP:20260422T115046
CREATED:20260327T120935Z
LAST-MODIFIED:20260327T120935Z
UID:10011028-1845541800-1845545400@martinus-hn.de
SUMMARY:Eucharistiefeier in St. Martinus
DESCRIPTION:
URL:https://martinus-hn.de/veranstaltung/eucharistiefeier-in-st-martinus/2028-06-25/
LOCATION:St. Martinus\, Auf dem Bau 1\, Heilbronn-Sontheim\, 74081\, Deutschland
CATEGORIES:Gottesdienst
END:VEVENT
BEGIN:VEVENT
DTSTART;TZID=Europe/Berlin:20280702T103000
DTEND;TZID=Europe/Berlin:20280702T113000
DTSTAMP:20260422T115046
CREATED:20260327T120935Z
LAST-MODIFIED:20260327T120935Z
UID:10011029-1846146600-1846150200@martinus-hn.de
SUMMARY:Eucharistiefeier in St. Martinus
DESCRIPTION:
URL:https://martinus-hn.de/veranstaltung/eucharistiefeier-in-st-martinus/2028-07-02/
LOCATION:St. Martinus\, Auf dem Bau 1\, Heilbronn-Sontheim\, 74081\, Deutschland
CATEGORIES:Gottesdienst
END:VEVENT
BEGIN:VEVENT
DTSTART;TZID=Europe/Berlin:20280709T103000
DTEND;TZID=Europe/Berlin:20280709T113000
DTSTAMP:20260422T115046
CREATED:20260327T120935Z
LAST-MODIFIED:20260327T120935Z
UID:10011030-1846751400-1846755000@martinus-hn.de
SUMMARY:Eucharistiefeier in St. Martinus
DESCRIPTION:
URL:https://martinus-hn.de/veranstaltung/eucharistiefeier-in-st-martinus/2028-07-09/
LOCATION:St. Martinus\, Auf dem Bau 1\, Heilbronn-Sontheim\, 74081\, Deutschland
CATEGORIES:Gottesdienst
END:VEVENT
BEGIN:VEVENT
DTSTART;TZID=Europe/Berlin:20280716T103000
DTEND;TZID=Europe/Berlin:20280716T113000
DTSTAMP:20260422T115046
CREATED:20260327T120935Z
LAST-MODIFIED:20260327T120935Z
UID:10011031-1847356200-1847359800@martinus-hn.de
SUMMARY:Eucharistiefeier in St. Martinus
DESCRIPTION:
URL:https://martinus-hn.de/veranstaltung/eucharistiefeier-in-st-martinus/2028-07-16/
LOCATION:St. Martinus\, Auf dem Bau 1\, Heilbronn-Sontheim\, 74081\, Deutschland
CATEGORIES:Gottesdienst
END:VEVENT
BEGIN:VEVENT
DTSTART;TZID=Europe/Berlin:20280723T103000
DTEND;TZID=Europe/Berlin:20280723T113000
DTSTAMP:20260422T115046
CREATED:20260327T120935Z
LAST-MODIFIED:20260327T120935Z
UID:10011032-1847961000-1847964600@martinus-hn.de
SUMMARY:Eucharistiefeier in St. Martinus
DESCRIPTION:
URL:https://martinus-hn.de/veranstaltung/eucharistiefeier-in-st-martinus/2028-07-23/
LOCATION:St. Martinus\, Auf dem Bau 1\, Heilbronn-Sontheim\, 74081\, Deutschland
CATEGORIES:Gottesdienst
END:VEVENT
BEGIN:VEVENT
DTSTART;TZID=Europe/Berlin:20280730T103000
DTEND;TZID=Europe/Berlin:20280730T113000
DTSTAMP:20260422T115046
CREATED:20260327T120935Z
LAST-MODIFIED:20260327T120935Z
UID:10011033-1848565800-1848569400@martinus-hn.de
SUMMARY:Eucharistiefeier in St. Martinus
DESCRIPTION:
URL:https://martinus-hn.de/veranstaltung/eucharistiefeier-in-st-martinus/2028-07-30/
LOCATION:St. Martinus\, Auf dem Bau 1\, Heilbronn-Sontheim\, 74081\, Deutschland
CATEGORIES:Gottesdienst
END:VEVENT
BEGIN:VEVENT
DTSTART;TZID=Europe/Berlin:20280806T103000
DTEND;TZID=Europe/Berlin:20280806T113000
DTSTAMP:20260422T115046
CREATED:20260327T120935Z
LAST-MODIFIED:20260327T120935Z
UID:10011034-1849170600-1849174200@martinus-hn.de
SUMMARY:Eucharistiefeier in St. Martinus
DESCRIPTION:
URL:https://martinus-hn.de/veranstaltung/eucharistiefeier-in-st-martinus/2028-08-06/
LOCATION:St. Martinus\, Auf dem Bau 1\, Heilbronn-Sontheim\, 74081\, Deutschland
CATEGORIES:Gottesdienst
END:VEVENT
BEGIN:VEVENT
DTSTART;TZID=Europe/Berlin:20280813T103000
DTEND;TZID=Europe/Berlin:20280813T113000
DTSTAMP:20260422T115046
CREATED:20260327T120935Z
LAST-MODIFIED:20260327T120935Z
UID:10011035-1849775400-1849779000@martinus-hn.de
SUMMARY:Eucharistiefeier in St. Martinus
DESCRIPTION:
URL:https://martinus-hn.de/veranstaltung/eucharistiefeier-in-st-martinus/2028-08-13/
LOCATION:St. Martinus\, Auf dem Bau 1\, Heilbronn-Sontheim\, 74081\, Deutschland
CATEGORIES:Gottesdienst
END:VEVENT
END:VCALENDAR