BEGIN:VCALENDAR
VERSION:2.0
PRODID:-//St. Martinus Heilbronn-Sontheim - ECPv6.10.2//NONSGML v1.0//EN
CALSCALE:GREGORIAN
METHOD:PUBLISH
X-ORIGINAL-URL:https://martinus-hn.de
X-WR-CALDESC:Veranstaltungen für St. Martinus Heilbronn-Sontheim
REFRESH-INTERVAL;VALUE=DURATION:PT1H
X-Robots-Tag:noindex
X-PUBLISHED-TTL:PT1H
BEGIN:VTIMEZONE
TZID:Europe/Berlin
BEGIN:DAYLIGHT
TZOFFSETFROM:+0100
TZOFFSETTO:+0200
TZNAME:CEST
DTSTART:20260329T010000
END:DAYLIGHT
BEGIN:STANDARD
TZOFFSETFROM:+0200
TZOFFSETTO:+0100
TZNAME:CET
DTSTART:20261025T010000
END:STANDARD
END:VTIMEZONE
BEGIN:VEVENT
DTSTART;TZID=Europe/Berlin:20260426T103000
DTEND;TZID=Europe/Berlin:20260426T113000
DTSTAMP:20260421T143326
CREATED:20260327T120935Z
LAST-MODIFIED:20260327T120935Z
UID:10010915-1777199400-1777203000@martinus-hn.de
SUMMARY:Eucharistiefeier in St. Martinus
DESCRIPTION:
URL:https://martinus-hn.de/veranstaltung/eucharistiefeier-in-st-martinus/2026-04-26/
LOCATION:St. Martinus\, Auf dem Bau 1\, Heilbronn-Sontheim\, 74081\, Deutschland
CATEGORIES:Gottesdienst
END:VEVENT
BEGIN:VEVENT
DTSTART;TZID=Europe/Berlin:20260426T113000
DTEND;TZID=Europe/Berlin:20260426T120000
DTSTAMP:20260421T143326
CREATED:20251229T101930Z
LAST-MODIFIED:20260327T141107Z
UID:10009015-1777203000-1777204800@martinus-hn.de
SUMMARY:Nord-Süd-Lädle in St. Martinus
DESCRIPTION:Verkauf von fair gehandelten Waren nach den Gottesdiensten
URL:https://martinus-hn.de/veranstaltung/nord-sued-laedle-in-st-martinus-26/
LOCATION:St. Martinus\, Auf dem Bau 1\, Heilbronn-Sontheim\, 74081\, Deutschland
CATEGORIES:Nord-Süd-Lädle
END:VEVENT
BEGIN:VEVENT
DTSTART;TZID=Europe/Berlin:20260503T103000
DTEND;TZID=Europe/Berlin:20260503T113000
DTSTAMP:20260421T143326
CREATED:20260327T141305Z
LAST-MODIFIED:20260327T141323Z
UID:10010916-1777804200-1777807800@martinus-hn.de
SUMMARY:Wort-Gottes-Feier in St. Martinus
DESCRIPTION:
URL:https://martinus-hn.de/veranstaltung/eucharistiefeier-in-st-martinus-3/
LOCATION:St. Martinus\, Auf dem Bau 1\, Heilbronn-Sontheim\, 74081\, Deutschland
CATEGORIES:Gottesdienst
END:VEVENT
BEGIN:VEVENT
DTSTART;TZID=Europe/Berlin:20260510T103000
DTEND;TZID=Europe/Berlin:20260510T113000
DTSTAMP:20260421T143326
CREATED:20260327T120935Z
LAST-MODIFIED:20260327T120935Z
UID:10010917-1778409000-1778412600@martinus-hn.de
SUMMARY:Eucharistiefeier in St. Martinus
DESCRIPTION:
URL:https://martinus-hn.de/veranstaltung/eucharistiefeier-in-st-martinus/2026-05-10/
LOCATION:St. Martinus\, Auf dem Bau 1\, Heilbronn-Sontheim\, 74081\, Deutschland
CATEGORIES:Gottesdienst
END:VEVENT
BEGIN:VEVENT
DTSTART;TZID=Europe/Berlin:20260510T114500
DTEND;TZID=Europe/Berlin:20260510T123000
DTSTAMP:20260421T143326
CREATED:20260120T125823Z
LAST-MODIFIED:20260120T132225Z
UID:10009025-1778413500-1778416200@martinus-hn.de
SUMMARY:Taufe
DESCRIPTION:im Anschluss an den Sonntagsgottesdienst in der St.-Martinus-Kirche
URL:https://martinus-hn.de/veranstaltung/taufe-9/2026-05-10/
LOCATION:St. Martinus\, Auf dem Bau 1\, Heilbronn-Sontheim\, 74081\, Deutschland
CATEGORIES:Taufe
END:VEVENT
BEGIN:VEVENT
DTSTART;TZID=Europe/Berlin:20260514T103000
DTEND;TZID=Europe/Berlin:20260514T113000
DTSTAMP:20260421T143327
CREATED:20260305T122038Z
LAST-MODIFIED:20260327T141753Z
UID:10009688-1778754600-1778758200@martinus-hn.de
SUMMARY:Eucharistiefeier an Christi Himmelfahrt in St. Martinus
DESCRIPTION:
URL:https://martinus-hn.de/veranstaltung/eucharistiefeier-an-christi-himmelfahrt-in-st-martinus/
LOCATION:St. Martinus\, Auf dem Bau 1\, Heilbronn-Sontheim\, 74081\, Deutschland
CATEGORIES:Besondere Gottesdienste,Gottesdienst
END:VEVENT
BEGIN:VEVENT
DTSTART;TZID=Europe/Berlin:20260517T103000
DTEND;TZID=Europe/Berlin:20260517T113000
DTSTAMP:20260421T143327
CREATED:20260327T120935Z
LAST-MODIFIED:20260327T120935Z
UID:10010918-1779013800-1779017400@martinus-hn.de
SUMMARY:Eucharistiefeier in St. Martinus
DESCRIPTION:
URL:https://martinus-hn.de/veranstaltung/eucharistiefeier-in-st-martinus/2026-05-17/
LOCATION:St. Martinus\, Auf dem Bau 1\, Heilbronn-Sontheim\, 74081\, Deutschland
CATEGORIES:Gottesdienst
END:VEVENT
BEGIN:VEVENT
DTSTART;TZID=Europe/Berlin:20260523T183000
DTEND;TZID=Europe/Berlin:20260523T193000
DTSTAMP:20260421T143327
CREATED:20260327T142147Z
LAST-MODIFIED:20260327T142323Z
UID:10009707-1779561000-1779564600@martinus-hn.de
SUMMARY:Vorabendgottesdienst zum Pfingstfest in St. Martinus
DESCRIPTION:
URL:https://martinus-hn.de/veranstaltung/eucharistiefeier-in-st-maximilian-kolbe-5/
LOCATION:St. Martinus\, Auf dem Bau 1\, Heilbronn-Sontheim\, 74081\, Deutschland
CATEGORIES:Besondere Gottesdienste,Gottesdienst
END:VEVENT
BEGIN:VEVENT
DTSTART;TZID=Europe/Berlin:20260531T103000
DTEND;TZID=Europe/Berlin:20260531T113000
DTSTAMP:20260421T143327
CREATED:20260327T142854Z
LAST-MODIFIED:20260327T142938Z
UID:10010920-1780223400-1780227000@martinus-hn.de
SUMMARY:Wort-Gottes-Feier in St. Martinus
DESCRIPTION:
URL:https://martinus-hn.de/veranstaltung/eucharistiefeier-in-st-martinus-6/
LOCATION:St. Martinus\, Auf dem Bau 1\, Heilbronn-Sontheim\, 74081\, Deutschland
CATEGORIES:Gottesdienst
END:VEVENT
BEGIN:VEVENT
DTSTART;TZID=Europe/Berlin:20260607T103000
DTEND;TZID=Europe/Berlin:20260607T113000
DTSTAMP:20260421T143327
CREATED:20260327T120935Z
LAST-MODIFIED:20260327T120935Z
UID:10010921-1780828200-1780831800@martinus-hn.de
SUMMARY:Eucharistiefeier in St. Martinus
DESCRIPTION:
URL:https://martinus-hn.de/veranstaltung/eucharistiefeier-in-st-martinus/2026-06-07/
LOCATION:St. Martinus\, Auf dem Bau 1\, Heilbronn-Sontheim\, 74081\, Deutschland
CATEGORIES:Gottesdienst
END:VEVENT
BEGIN:VEVENT
DTSTART;TZID=Europe/Berlin:20260614T103000
DTEND;TZID=Europe/Berlin:20260614T113000
DTSTAMP:20260421T143327
CREATED:20260327T143319Z
LAST-MODIFIED:20260327T143337Z
UID:10010922-1781433000-1781436600@martinus-hn.de
SUMMARY:Wort-Gottes-Feier in St. Martinus
DESCRIPTION:
URL:https://martinus-hn.de/veranstaltung/eucharistiefeier-in-st-martinus-7/
LOCATION:St. Martinus\, Auf dem Bau 1\, Heilbronn-Sontheim\, 74081\, Deutschland
CATEGORIES:Gottesdienst
END:VEVENT
BEGIN:VEVENT
DTSTART;TZID=Europe/Berlin:20260621T103000
DTEND;TZID=Europe/Berlin:20260621T113000
DTSTAMP:20260421T143327
CREATED:20260327T120935Z
LAST-MODIFIED:20260327T120935Z
UID:10010923-1782037800-1782041400@martinus-hn.de
SUMMARY:Eucharistiefeier in St. Martinus
DESCRIPTION:
URL:https://martinus-hn.de/veranstaltung/eucharistiefeier-in-st-martinus/2026-06-21/
LOCATION:St. Martinus\, Auf dem Bau 1\, Heilbronn-Sontheim\, 74081\, Deutschland
CATEGORIES:Gottesdienst
END:VEVENT
BEGIN:VEVENT
DTSTART;TZID=Europe/Berlin:20260621T114500
DTEND;TZID=Europe/Berlin:20260621T123000
DTSTAMP:20260421T143327
CREATED:20260120T125823Z
LAST-MODIFIED:20260120T132225Z
UID:10009026-1782042300-1782045000@martinus-hn.de
SUMMARY:Taufe
DESCRIPTION:im Anschluss an den Sonntagsgottesdienst in der St.-Martinus-Kirche
URL:https://martinus-hn.de/veranstaltung/taufe-9/2026-06-21/
LOCATION:St. Martinus\, Auf dem Bau 1\, Heilbronn-Sontheim\, 74081\, Deutschland
CATEGORIES:Taufe
END:VEVENT
BEGIN:VEVENT
DTSTART;TZID=Europe/Berlin:20260628T103000
DTEND;TZID=Europe/Berlin:20260628T113000
DTSTAMP:20260421T143327
CREATED:20260327T143654Z
LAST-MODIFIED:20260327T143712Z
UID:10010924-1782642600-1782646200@martinus-hn.de
SUMMARY:Wort-Gottes-Feier in St. Martinus
DESCRIPTION:
URL:https://martinus-hn.de/veranstaltung/eucharistiefeier-in-st-martinus-8/
LOCATION:St. Martinus\, Auf dem Bau 1\, Heilbronn-Sontheim\, 74081\, Deutschland
CATEGORIES:Gottesdienst
END:VEVENT
BEGIN:VEVENT
DTSTART;TZID=Europe/Berlin:20260705T103000
DTEND;TZID=Europe/Berlin:20260705T113000
DTSTAMP:20260421T143327
CREATED:20260327T120935Z
LAST-MODIFIED:20260327T120935Z
UID:10010925-1783247400-1783251000@martinus-hn.de
SUMMARY:Eucharistiefeier in St. Martinus
DESCRIPTION:
URL:https://martinus-hn.de/veranstaltung/eucharistiefeier-in-st-martinus/2026-07-05/
LOCATION:St. Martinus\, Auf dem Bau 1\, Heilbronn-Sontheim\, 74081\, Deutschland
CATEGORIES:Gottesdienst
END:VEVENT
BEGIN:VEVENT
DTSTART;TZID=Europe/Berlin:20260712T103000
DTEND;TZID=Europe/Berlin:20260712T113000
DTSTAMP:20260421T143327
CREATED:20260327T120935Z
LAST-MODIFIED:20260327T120935Z
UID:10010926-1783852200-1783855800@martinus-hn.de
SUMMARY:Eucharistiefeier in St. Martinus
DESCRIPTION:
URL:https://martinus-hn.de/veranstaltung/eucharistiefeier-in-st-martinus/2026-07-12/
LOCATION:St. Martinus\, Auf dem Bau 1\, Heilbronn-Sontheim\, 74081\, Deutschland
CATEGORIES:Gottesdienst
END:VEVENT
BEGIN:VEVENT
DTSTART;TZID=Europe/Berlin:20260712T114500
DTEND;TZID=Europe/Berlin:20260712T123000
DTSTAMP:20260421T143327
CREATED:20260120T125823Z
LAST-MODIFIED:20260120T132225Z
UID:10009030-1783856700-1783859400@martinus-hn.de
SUMMARY:Taufe
DESCRIPTION:im Anschluss an den Sonntagsgottesdienst in der St.-Martinus-Kirche
URL:https://martinus-hn.de/veranstaltung/taufe-9/2026-07-12/
LOCATION:St. Martinus\, Auf dem Bau 1\, Heilbronn-Sontheim\, 74081\, Deutschland
CATEGORIES:Taufe
END:VEVENT
BEGIN:VEVENT
DTSTART;TZID=Europe/Berlin:20260719T103000
DTEND;TZID=Europe/Berlin:20260719T113000
DTSTAMP:20260421T143327
CREATED:20260327T120935Z
LAST-MODIFIED:20260327T120935Z
UID:10010927-1784457000-1784460600@martinus-hn.de
SUMMARY:Eucharistiefeier in St. Martinus
DESCRIPTION:
URL:https://martinus-hn.de/veranstaltung/eucharistiefeier-in-st-martinus/2026-07-19/
LOCATION:St. Martinus\, Auf dem Bau 1\, Heilbronn-Sontheim\, 74081\, Deutschland
CATEGORIES:Gottesdienst
END:VEVENT
BEGIN:VEVENT
DTSTART;TZID=Europe/Berlin:20260726T103000
DTEND;TZID=Europe/Berlin:20260726T113000
DTSTAMP:20260421T143327
CREATED:20260327T120935Z
LAST-MODIFIED:20260327T120935Z
UID:10010928-1785061800-1785065400@martinus-hn.de
SUMMARY:Eucharistiefeier in St. Martinus
DESCRIPTION:
URL:https://martinus-hn.de/veranstaltung/eucharistiefeier-in-st-martinus/2026-07-26/
LOCATION:St. Martinus\, Auf dem Bau 1\, Heilbronn-Sontheim\, 74081\, Deutschland
CATEGORIES:Gottesdienst
END:VEVENT
BEGIN:VEVENT
DTSTART;TZID=Europe/Berlin:20260802T103000
DTEND;TZID=Europe/Berlin:20260802T113000
DTSTAMP:20260421T143327
CREATED:20260327T120935Z
LAST-MODIFIED:20260327T120935Z
UID:10010929-1785666600-1785670200@martinus-hn.de
SUMMARY:Eucharistiefeier in St. Martinus
DESCRIPTION:
URL:https://martinus-hn.de/veranstaltung/eucharistiefeier-in-st-martinus/2026-08-02/
LOCATION:St. Martinus\, Auf dem Bau 1\, Heilbronn-Sontheim\, 74081\, Deutschland
CATEGORIES:Gottesdienst
END:VEVENT
BEGIN:VEVENT
DTSTART;TZID=Europe/Berlin:20260809T103000
DTEND;TZID=Europe/Berlin:20260809T113000
DTSTAMP:20260421T143327
CREATED:20260327T120935Z
LAST-MODIFIED:20260327T120935Z
UID:10010930-1786271400-1786275000@martinus-hn.de
SUMMARY:Eucharistiefeier in St. Martinus
DESCRIPTION:
URL:https://martinus-hn.de/veranstaltung/eucharistiefeier-in-st-martinus/2026-08-09/
LOCATION:St. Martinus\, Auf dem Bau 1\, Heilbronn-Sontheim\, 74081\, Deutschland
CATEGORIES:Gottesdienst
END:VEVENT
BEGIN:VEVENT
DTSTART;TZID=Europe/Berlin:20260816T103000
DTEND;TZID=Europe/Berlin:20260816T113000
DTSTAMP:20260421T143327
CREATED:20260327T120935Z
LAST-MODIFIED:20260327T120935Z
UID:10010931-1786876200-1786879800@martinus-hn.de
SUMMARY:Eucharistiefeier in St. Martinus
DESCRIPTION:
URL:https://martinus-hn.de/veranstaltung/eucharistiefeier-in-st-martinus/2026-08-16/
LOCATION:St. Martinus\, Auf dem Bau 1\, Heilbronn-Sontheim\, 74081\, Deutschland
CATEGORIES:Gottesdienst
END:VEVENT
BEGIN:VEVENT
DTSTART;TZID=Europe/Berlin:20260823T103000
DTEND;TZID=Europe/Berlin:20260823T113000
DTSTAMP:20260421T143327
CREATED:20260327T120935Z
LAST-MODIFIED:20260327T120935Z
UID:10010932-1787481000-1787484600@martinus-hn.de
SUMMARY:Eucharistiefeier in St. Martinus
DESCRIPTION:
URL:https://martinus-hn.de/veranstaltung/eucharistiefeier-in-st-martinus/2026-08-23/
LOCATION:St. Martinus\, Auf dem Bau 1\, Heilbronn-Sontheim\, 74081\, Deutschland
CATEGORIES:Gottesdienst
END:VEVENT
BEGIN:VEVENT
DTSTART;TZID=Europe/Berlin:20260830T103000
DTEND;TZID=Europe/Berlin:20260830T113000
DTSTAMP:20260421T143327
CREATED:20260327T120935Z
LAST-MODIFIED:20260327T120935Z
UID:10010933-1788085800-1788089400@martinus-hn.de
SUMMARY:Eucharistiefeier in St. Martinus
DESCRIPTION:
URL:https://martinus-hn.de/veranstaltung/eucharistiefeier-in-st-martinus/2026-08-30/
LOCATION:St. Martinus\, Auf dem Bau 1\, Heilbronn-Sontheim\, 74081\, Deutschland
CATEGORIES:Gottesdienst
END:VEVENT
BEGIN:VEVENT
DTSTART;TZID=Europe/Berlin:20260906T103000
DTEND;TZID=Europe/Berlin:20260906T113000
DTSTAMP:20260421T143327
CREATED:20260327T120935Z
LAST-MODIFIED:20260327T120935Z
UID:10010934-1788690600-1788694200@martinus-hn.de
SUMMARY:Eucharistiefeier in St. Martinus
DESCRIPTION:
URL:https://martinus-hn.de/veranstaltung/eucharistiefeier-in-st-martinus/2026-09-06/
LOCATION:St. Martinus\, Auf dem Bau 1\, Heilbronn-Sontheim\, 74081\, Deutschland
CATEGORIES:Gottesdienst
END:VEVENT
BEGIN:VEVENT
DTSTART;TZID=Europe/Berlin:20260913T103000
DTEND;TZID=Europe/Berlin:20260913T113000
DTSTAMP:20260421T143327
CREATED:20260327T120935Z
LAST-MODIFIED:20260327T120935Z
UID:10010935-1789295400-1789299000@martinus-hn.de
SUMMARY:Eucharistiefeier in St. Martinus
DESCRIPTION:
URL:https://martinus-hn.de/veranstaltung/eucharistiefeier-in-st-martinus/2026-09-13/
LOCATION:St. Martinus\, Auf dem Bau 1\, Heilbronn-Sontheim\, 74081\, Deutschland
CATEGORIES:Gottesdienst
END:VEVENT
BEGIN:VEVENT
DTSTART;TZID=Europe/Berlin:20260920T103000
DTEND;TZID=Europe/Berlin:20260920T113000
DTSTAMP:20260421T143327
CREATED:20260327T120935Z
LAST-MODIFIED:20260327T120935Z
UID:10010936-1789900200-1789903800@martinus-hn.de
SUMMARY:Eucharistiefeier in St. Martinus
DESCRIPTION:
URL:https://martinus-hn.de/veranstaltung/eucharistiefeier-in-st-martinus/2026-09-20/
LOCATION:St. Martinus\, Auf dem Bau 1\, Heilbronn-Sontheim\, 74081\, Deutschland
CATEGORIES:Gottesdienst
END:VEVENT
BEGIN:VEVENT
DTSTART;TZID=Europe/Berlin:20260920T114500
DTEND;TZID=Europe/Berlin:20260920T123000
DTSTAMP:20260421T143327
CREATED:20260120T125823Z
LAST-MODIFIED:20260120T132225Z
UID:10009028-1789904700-1789907400@martinus-hn.de
SUMMARY:Taufe
DESCRIPTION:im Anschluss an den Sonntagsgottesdienst in der St.-Martinus-Kirche
URL:https://martinus-hn.de/veranstaltung/taufe-9/2026-09-20/
LOCATION:St. Martinus\, Auf dem Bau 1\, Heilbronn-Sontheim\, 74081\, Deutschland
CATEGORIES:Taufe
END:VEVENT
BEGIN:VEVENT
DTSTART;TZID=Europe/Berlin:20260927T103000
DTEND;TZID=Europe/Berlin:20260927T113000
DTSTAMP:20260421T143327
CREATED:20260327T120935Z
LAST-MODIFIED:20260327T120935Z
UID:10010937-1790505000-1790508600@martinus-hn.de
SUMMARY:Eucharistiefeier in St. Martinus
DESCRIPTION:
URL:https://martinus-hn.de/veranstaltung/eucharistiefeier-in-st-martinus/2026-09-27/
LOCATION:St. Martinus\, Auf dem Bau 1\, Heilbronn-Sontheim\, 74081\, Deutschland
CATEGORIES:Gottesdienst
END:VEVENT
BEGIN:VEVENT
DTSTART;TZID=Europe/Berlin:20261004T103000
DTEND;TZID=Europe/Berlin:20261004T113000
DTSTAMP:20260421T143327
CREATED:20260327T120935Z
LAST-MODIFIED:20260327T120935Z
UID:10010938-1791109800-1791113400@martinus-hn.de
SUMMARY:Eucharistiefeier in St. Martinus
DESCRIPTION:
URL:https://martinus-hn.de/veranstaltung/eucharistiefeier-in-st-martinus/2026-10-04/
LOCATION:St. Martinus\, Auf dem Bau 1\, Heilbronn-Sontheim\, 74081\, Deutschland
CATEGORIES:Gottesdienst
END:VEVENT
END:VCALENDAR