BEGIN:VCALENDAR
VERSION:2.0
PRODID:-//St. Martinus Heilbronn-Sontheim - ECPv6.10.2//NONSGML v1.0//EN
CALSCALE:GREGORIAN
METHOD:PUBLISH
X-ORIGINAL-URL:https://martinus-hn.de
X-WR-CALDESC:Veranstaltungen für St. Martinus Heilbronn-Sontheim
REFRESH-INTERVAL;VALUE=DURATION:PT1H
X-Robots-Tag:noindex
X-PUBLISHED-TTL:PT1H
BEGIN:VTIMEZONE
TZID:Europe/Berlin
BEGIN:DAYLIGHT
TZOFFSETFROM:+0100
TZOFFSETTO:+0200
TZNAME:CEST
DTSTART:20260329T010000
END:DAYLIGHT
BEGIN:STANDARD
TZOFFSETFROM:+0200
TZOFFSETTO:+0100
TZNAME:CET
DTSTART:20261025T010000
END:STANDARD
END:VTIMEZONE
BEGIN:VEVENT
DTSTART;TZID=Europe/Berlin:20260419T103000
DTEND;TZID=Europe/Berlin:20260419T113000
DTSTAMP:20260421T162900
CREATED:20260327T140831Z
LAST-MODIFIED:20260327T140855Z
UID:10010914-1776594600-1776598200@martinus-hn.de
SUMMARY:Wort-Gottes-Feier in St. Martinus
DESCRIPTION:
URL:https://martinus-hn.de/veranstaltung/eucharistiefeier-in-st-martinus-2/
LOCATION:St. Martinus\, Auf dem Bau 1\, Heilbronn-Sontheim\, 74081\, Deutschland
CATEGORIES:Gottesdienst
END:VEVENT
BEGIN:VEVENT
DTSTART;TZID=Europe/Berlin:20260413T100000
DTEND;TZID=Europe/Berlin:20260413T123000
DTSTAMP:20260421T162900
CREATED:20251103T173009Z
LAST-MODIFIED:20251103T173009Z
UID:10008930-1776074400-1776083400@martinus-hn.de
SUMMARY:Dankfest zur Erstkommunion
DESCRIPTION:Dankgottesdienst in St. Martinus und anschließendes Fest im Gemeindesaal
URL:https://martinus-hn.de/veranstaltung/dankfest-zur-erstkommunion-2/
LOCATION:St. Martinus\, Auf dem Bau 1\, Heilbronn-Sontheim\, 74081\, Deutschland
CATEGORIES:Erstkommunion
END:VEVENT
BEGIN:VEVENT
DTSTART;TZID=Europe/Berlin:20260412T103000
DTEND;TZID=Europe/Berlin:20260412T120000
DTSTAMP:20260421T162900
CREATED:20251103T172927Z
LAST-MODIFIED:20251211T235817Z
UID:10008929-1775989800-1775995200@martinus-hn.de
SUMMARY:Feier der Erstkommunion II
DESCRIPTION:Gruppe II der Kinder aus unserer Kirchengemeinde (und umliegenden Gemeinden) feiert ihre Erste Heilige Kommunion \nHerzliche Einladung an die ganze Gemeinde!
URL:https://martinus-hn.de/veranstaltung/feier-der-erstkommunion-6/
LOCATION:St. Martinus\, Auf dem Bau 1\, Heilbronn-Sontheim\, 74081\, Deutschland
CATEGORIES:Besondere Gottesdienste,Erstkommunion,Heilig-Geist-Chor
END:VEVENT
BEGIN:VEVENT
DTSTART;TZID=Europe/Berlin:20260411T103000
DTEND;TZID=Europe/Berlin:20260411T120000
DTSTAMP:20260421T162900
CREATED:20251211T235900Z
LAST-MODIFIED:20260327T140425Z
UID:10009004-1775903400-1775908800@martinus-hn.de
SUMMARY:Feier der Erstkommunion I
DESCRIPTION:Gruppe I der Kinder aus unserer Kirchengemeinde (und umliegenden Gemeinden) feiert ihre Erste Heilige Kommunion \nHerzliche Einladung an die ganze Gemeinde!
URL:https://martinus-hn.de/veranstaltung/feier-der-erstkommunion-i/
LOCATION:St. Martinus\, Auf dem Bau 1\, Heilbronn-Sontheim\, 74081\, Deutschland
CATEGORIES:Besondere Gottesdienste,Erstkommunion,Gottesdienst,Heilig-Geist-Chor
END:VEVENT
BEGIN:VEVENT
DTSTART;TZID=Europe/Berlin:20260410T140000
DTEND;TZID=Europe/Berlin:20260410T180000
DTSTAMP:20260421T162900
CREATED:20251103T172847Z
LAST-MODIFIED:20251103T172847Z
UID:10008928-1775829600-1775844000@martinus-hn.de
SUMMARY:Probe zum Erstkommuniongottesdienst
DESCRIPTION:
URL:https://martinus-hn.de/veranstaltung/probe-zum-erstkommuniongottesdienst-2/
LOCATION:St. Martinus\, Auf dem Bau 1\, Heilbronn-Sontheim\, 74081\, Deutschland
CATEGORIES:Erstkommunion
END:VEVENT
BEGIN:VEVENT
DTSTART;TZID=Europe/Berlin:20260405T060000
DTEND;TZID=Europe/Berlin:20260405T080000
DTSTAMP:20260421T162900
CREATED:20260304T133849Z
LAST-MODIFIED:20260327T135804Z
UID:10009679-1775368800-1775376000@martinus-hn.de
SUMMARY:Auferstehungsfeier am Ostersonntag in St. Martinus
DESCRIPTION:mit Start am Osterfeuer auf dem Kirchplatz
URL:https://martinus-hn.de/veranstaltung/auferstehungsfeier-in-st-martinus/
LOCATION:St. Martinus\, Auf dem Bau 1\, Heilbronn-Sontheim\, 74081\, Deutschland
CATEGORIES:Gottesdienst,Kar- und Ostertage
END:VEVENT
BEGIN:VEVENT
DTSTART;TZID=Europe/Berlin:20260403T100000
DTEND;TZID=Europe/Berlin:20260403T110000
DTSTAMP:20260421T162900
CREATED:20260304T133540Z
LAST-MODIFIED:20260304T161323Z
UID:10009678-1775210400-1775214000@martinus-hn.de
SUMMARY:Kinderkreuzweg am Karfreitag in St. Martinus
DESCRIPTION:
URL:https://martinus-hn.de/veranstaltung/kinderkreuzweg-am-karfreitag-in-st-martinus/
LOCATION:St. Martinus\, Auf dem Bau 1\, Heilbronn-Sontheim\, 74081\, Deutschland
CATEGORIES:Gottesdienst,Kar- und Ostertage,Kinder und junge Familien,Kinder- und Familiengottesdienste
END:VEVENT
BEGIN:VEVENT
DTSTART;TZID=Europe/Berlin:20260402T193000
DTEND;TZID=Europe/Berlin:20260402T210000
DTSTAMP:20260421T162900
CREATED:20260304T133325Z
LAST-MODIFIED:20260327T135412Z
UID:10009049-1775158200-1775163600@martinus-hn.de
SUMMARY:Abendmahlsgottesdienst an Gründonnerstag in St. Martinus
DESCRIPTION:
URL:https://martinus-hn.de/veranstaltung/abendmahlsgottesdienst-an-gruendonnerstag-in-st-martinus/
LOCATION:St. Martinus\, Auf dem Bau 1\, Heilbronn-Sontheim\, 74081\, Deutschland
CATEGORIES:Gottesdienst,Kar- und Ostertage
END:VEVENT
BEGIN:VEVENT
DTSTART;TZID=Europe/Berlin:20260329T103000
DTEND;TZID=Europe/Berlin:20260329T113000
DTSTAMP:20260421T162900
CREATED:20260304T101045Z
LAST-MODIFIED:20260327T121258Z
UID:10007697-1774780200-1774783800@martinus-hn.de
SUMMARY:Familiengottesdienst zum Palmsonntag in St. Martinus
DESCRIPTION:
URL:https://martinus-hn.de/veranstaltung/eucharistiefeier-in-st-martinus-67/
LOCATION:St. Martinus\, Auf dem Bau 1\, Heilbronn-Sontheim\, 74081\, Deutschland
CATEGORIES:Besondere Gottesdienste,Erstkommunion,Gottesdienst,Kar- und Ostertage,Kinder und junge Familien,Kinder- und Familiengottesdienste
END:VEVENT
BEGIN:VEVENT
DTSTART;TZID=Europe/Berlin:20260322T103000
DTEND;TZID=Europe/Berlin:20260322T113000
DTSTAMP:20260421T162900
CREATED:20260304T094345Z
LAST-MODIFIED:20260304T094449Z
UID:10007696-1774175400-1774179000@martinus-hn.de
SUMMARY:Wort-Gottes-Feier zum Misereorsonntag in St. Martinus
DESCRIPTION:
URL:https://martinus-hn.de/veranstaltung/eucharistiefeier-in-st-martinus-66/
LOCATION:St. Martinus\, Auf dem Bau 1\, Heilbronn-Sontheim\, 74081\, Deutschland
CATEGORIES:Gottesdienst
END:VEVENT
BEGIN:VEVENT
DTSTART;TZID=Europe/Berlin:20260315T103000
DTEND;TZID=Europe/Berlin:20260315T113000
DTSTAMP:20260421T162900
CREATED:20260327T120935Z
LAST-MODIFIED:20260327T120935Z
UID:10010909-1773570600-1773574200@martinus-hn.de
SUMMARY:Eucharistiefeier in St. Martinus
DESCRIPTION:
URL:https://martinus-hn.de/veranstaltung/eucharistiefeier-in-st-martinus/2026-03-15/
LOCATION:St. Martinus\, Auf dem Bau 1\, Heilbronn-Sontheim\, 74081\, Deutschland
CATEGORIES:Gottesdienst
END:VEVENT
BEGIN:VEVENT
DTSTART;TZID=Europe/Berlin:20260308T114500
DTEND;TZID=Europe/Berlin:20260308T123000
DTSTAMP:20260421T162900
CREATED:20260120T125823Z
LAST-MODIFIED:20260120T132225Z
UID:10009024-1772970300-1772973000@martinus-hn.de
SUMMARY:Taufe
DESCRIPTION:im Anschluss an den Sonntagsgottesdienst in der St.-Martinus-Kirche
URL:https://martinus-hn.de/veranstaltung/taufe-9/2026-03-08/
LOCATION:St. Martinus\, Auf dem Bau 1\, Heilbronn-Sontheim\, 74081\, Deutschland
CATEGORIES:Taufe
END:VEVENT
BEGIN:VEVENT
DTSTART;TZID=Europe/Berlin:20260308T103000
DTEND;TZID=Europe/Berlin:20260308T113000
DTSTAMP:20260421T162900
CREATED:20260327T120935Z
LAST-MODIFIED:20260327T120935Z
UID:10010908-1772965800-1772969400@martinus-hn.de
SUMMARY:Eucharistiefeier in St. Martinus
DESCRIPTION:
URL:https://martinus-hn.de/veranstaltung/eucharistiefeier-in-st-martinus/2026-03-08/
LOCATION:St. Martinus\, Auf dem Bau 1\, Heilbronn-Sontheim\, 74081\, Deutschland
CATEGORIES:Gottesdienst
END:VEVENT
BEGIN:VEVENT
DTSTART;TZID=Europe/Berlin:20260301T103000
DTEND;TZID=Europe/Berlin:20260301T113000
DTSTAMP:20260421T162900
CREATED:20251103T171340Z
LAST-MODIFIED:20251103T171408Z
UID:10007693-1772361000-1772364600@martinus-hn.de
SUMMARY:Wort-Gottes-Feier zum 2. Fastensonntag in St. Martinus
DESCRIPTION:
URL:https://martinus-hn.de/veranstaltung/eucharistiefeier-in-st-martinus-64/
LOCATION:St. Martinus\, Auf dem Bau 1\, Heilbronn-Sontheim\, 74081\, Deutschland
CATEGORIES:Fastenzeit,Gottesdienst
END:VEVENT
BEGIN:VEVENT
DTSTART;TZID=Europe/Berlin:20260222T103000
DTEND;TZID=Europe/Berlin:20260222T113000
DTSTAMP:20260421T162900
CREATED:20251103T171555Z
LAST-MODIFIED:20251103T171620Z
UID:10007692-1771756200-1771759800@martinus-hn.de
SUMMARY:Eucharistiefeier zum 1. Fastensonntag in St. Martinus
DESCRIPTION:
URL:https://martinus-hn.de/veranstaltung/eucharistiefeier-in-st-martinus-65/
LOCATION:St. Martinus\, Auf dem Bau 1\, Heilbronn-Sontheim\, 74081\, Deutschland
CATEGORIES:Fastenzeit,Gottesdienst
END:VEVENT
BEGIN:VEVENT
DTSTART;TZID=Europe/Berlin:20260218T183000
DTEND;TZID=Europe/Berlin:20260218T193000
DTSTAMP:20260421T162900
CREATED:20251103T171237Z
LAST-MODIFIED:20251103T171237Z
UID:10008913-1771439400-1771443000@martinus-hn.de
SUMMARY:Eucharistiefeier zum Aschermittwoch in St. Martinus
DESCRIPTION:mit Austeilung des Aschekreuzes
URL:https://martinus-hn.de/veranstaltung/eucharistiefeier-zum-aschermittwoch-in-st-martinus/
LOCATION:St. Martinus\, Auf dem Bau 1\, Heilbronn-Sontheim\, 74081\, Deutschland
CATEGORIES:Besondere Gottesdienste,Fastenzeit,Gottesdienst
END:VEVENT
BEGIN:VEVENT
DTSTART;TZID=Europe/Berlin:20260215T113000
DTEND;TZID=Europe/Berlin:20260215T113000
DTSTAMP:20260421T162900
CREATED:20251229T095519Z
LAST-MODIFIED:20251229T095931Z
UID:10009011-1771155000-1771155000@martinus-hn.de
SUMMARY:Nord-Süd-Lädle in St. Martinus
DESCRIPTION:Verkauf von fair gehandelten Waren nach den Gottesdiensten
URL:https://martinus-hn.de/veranstaltung/nord-sued-laedle-90/
LOCATION:St. Martinus\, Auf dem Bau 1\, Heilbronn-Sontheim\, 74081\, Deutschland
CATEGORIES:Nord-Süd-Lädle
END:VEVENT
BEGIN:VEVENT
DTSTART;TZID=Europe/Berlin:20260215T103000
DTEND;TZID=Europe/Berlin:20260215T113000
DTSTAMP:20260421T162900
CREATED:20251103T171009Z
LAST-MODIFIED:20251103T171040Z
UID:10007691-1771151400-1771155000@martinus-hn.de
SUMMARY:Eucharistiefeier mit Narrenpredigt zu Fasnet in St. Martinus
DESCRIPTION:
URL:https://martinus-hn.de/veranstaltung/eucharistiefeier-in-st-martinus-63/
LOCATION:St. Martinus\, Auf dem Bau 1\, Heilbronn-Sontheim\, 74081\, Deutschland
CATEGORIES:Besondere Gottesdienste,Gottesdienst
END:VEVENT
BEGIN:VEVENT
DTSTART;TZID=Europe/Berlin:20260208T103000
DTEND;TZID=Europe/Berlin:20260208T113000
DTSTAMP:20260421T162900
CREATED:20251103T170916Z
LAST-MODIFIED:20251103T170934Z
UID:10007690-1770546600-1770550200@martinus-hn.de
SUMMARY:Wort-Gottes-Feier in St. Martinus
DESCRIPTION:
URL:https://martinus-hn.de/veranstaltung/eucharistiefeier-in-st-martinus-62/
LOCATION:St. Martinus\, Auf dem Bau 1\, Heilbronn-Sontheim\, 74081\, Deutschland
CATEGORIES:Gottesdienst
END:VEVENT
BEGIN:VEVENT
DTSTART;TZID=Europe/Berlin:20260201T114500
DTEND;TZID=Europe/Berlin:20260201T123000
DTSTAMP:20260421T162900
CREATED:20260120T125823Z
LAST-MODIFIED:20260120T132225Z
UID:10009023-1769946300-1769949000@martinus-hn.de
SUMMARY:Taufe
DESCRIPTION:im Anschluss an den Sonntagsgottesdienst in der St.-Martinus-Kirche
URL:https://martinus-hn.de/veranstaltung/taufe-9/2026-02-01/
LOCATION:St. Martinus\, Auf dem Bau 1\, Heilbronn-Sontheim\, 74081\, Deutschland
CATEGORIES:Taufe
END:VEVENT
BEGIN:VEVENT
DTSTART;TZID=Europe/Berlin:20260125T113000
DTEND;TZID=Europe/Berlin:20260125T113000
DTSTAMP:20260421T162900
CREATED:20251229T095108Z
LAST-MODIFIED:20251229T095750Z
UID:10009009-1769340600-1769340600@martinus-hn.de
SUMMARY:Nord-Süd-Lädle in St. Martinus
DESCRIPTION:Verkauf von fair gehandelten Waren nach den Gottesdiensten
URL:https://martinus-hn.de/veranstaltung/nord-sued-laedle-88/
LOCATION:St. Martinus\, Auf dem Bau 1\, Heilbronn-Sontheim\, 74081\, Deutschland
CATEGORIES:Nord-Süd-Lädle
END:VEVENT
BEGIN:VEVENT
DTSTART;TZID=Europe/Berlin:20260125T103000
DTEND;TZID=Europe/Berlin:20260125T113000
DTSTAMP:20260421T162900
CREATED:20251103T170759Z
LAST-MODIFIED:20251103T170810Z
UID:10007688-1769337000-1769340600@martinus-hn.de
SUMMARY:Wort-Gottes-Feier in St. Martinus
DESCRIPTION:
URL:https://martinus-hn.de/veranstaltung/eucharistiefeier-in-st-martinus-61/
LOCATION:St. Martinus\, Auf dem Bau 1\, Heilbronn-Sontheim\, 74081\, Deutschland
CATEGORIES:Gottesdienst
END:VEVENT
END:VCALENDAR