BEGIN:VCALENDAR
VERSION:2.0
PRODID:-//St. Martinus Heilbronn-Sontheim - ECPv6.10.2//NONSGML v1.0//EN
CALSCALE:GREGORIAN
METHOD:PUBLISH
X-WR-CALNAME:St. Martinus Heilbronn-Sontheim
X-ORIGINAL-URL:https://martinus-hn.de
X-WR-CALDESC:Veranstaltungen für St. Martinus Heilbronn-Sontheim
REFRESH-INTERVAL;VALUE=DURATION:PT1H
X-Robots-Tag:noindex
X-PUBLISHED-TTL:PT1H
BEGIN:VTIMEZONE
TZID:Europe/Berlin
BEGIN:DAYLIGHT
TZOFFSETFROM:+0100
TZOFFSETTO:+0200
TZNAME:CEST
DTSTART:20290325T010000
END:DAYLIGHT
BEGIN:STANDARD
TZOFFSETFROM:+0200
TZOFFSETTO:+0100
TZNAME:CET
DTSTART:20291028T010000
END:STANDARD
BEGIN:DAYLIGHT
TZOFFSETFROM:+0100
TZOFFSETTO:+0200
TZNAME:CEST
DTSTART:20300331T010000
END:DAYLIGHT
BEGIN:STANDARD
TZOFFSETFROM:+0200
TZOFFSETTO:+0100
TZNAME:CET
DTSTART:20301027T010000
END:STANDARD
END:VTIMEZONE
BEGIN:VEVENT
DTSTART;TZID=Europe/Berlin:20291002T183000
DTEND;TZID=Europe/Berlin:20291002T193000
DTSTAMP:20260422T004523
CREATED:20260327T115841Z
LAST-MODIFIED:20260327T115841Z
UID:10010557-1885660200-1885663800@martinus-hn.de
SUMMARY:Eucharistiefeier in Heilig Geist
DESCRIPTION:
URL:https://martinus-hn.de/veranstaltung/eucharistiefeier-in-heilig-geist-dienstag/2029-10-02/
LOCATION:Heilig-Geist-Kirche\, Heilbronner Weg 17\, Heilbronn-Horkheim\, 74081
CATEGORIES:Gottesdienst
END:VEVENT
BEGIN:VEVENT
DTSTART;TZID=Europe/Berlin:20291009T183000
DTEND;TZID=Europe/Berlin:20291009T193000
DTSTAMP:20260422T004523
CREATED:20260327T115841Z
LAST-MODIFIED:20260327T115841Z
UID:10010558-1886265000-1886268600@martinus-hn.de
SUMMARY:Eucharistiefeier in Heilig Geist
DESCRIPTION:
URL:https://martinus-hn.de/veranstaltung/eucharistiefeier-in-heilig-geist-dienstag/2029-10-09/
LOCATION:Heilig-Geist-Kirche\, Heilbronner Weg 17\, Heilbronn-Horkheim\, 74081
CATEGORIES:Gottesdienst
END:VEVENT
BEGIN:VEVENT
DTSTART;TZID=Europe/Berlin:20291013T183000
DTEND;TZID=Europe/Berlin:20291013T193000
DTSTAMP:20260422T004523
CREATED:20260304T153850Z
LAST-MODIFIED:20260327T114702Z
UID:10009928-1886610600-1886614200@martinus-hn.de
SUMMARY:Eucharistiefeier in Heilig Geist
DESCRIPTION:
URL:https://martinus-hn.de/veranstaltung/eucharistiefeier-in-heilig-geist/2029-10-13/
LOCATION:Heilig-Geist-Kirche\, Heilbronner Weg 17\, Heilbronn-Horkheim\, 74081
CATEGORIES:Gottesdienst
END:VEVENT
BEGIN:VEVENT
DTSTART;TZID=Europe/Berlin:20291016T183000
DTEND;TZID=Europe/Berlin:20291016T193000
DTSTAMP:20260422T004523
CREATED:20260327T115841Z
LAST-MODIFIED:20260327T115841Z
UID:10010559-1886869800-1886873400@martinus-hn.de
SUMMARY:Eucharistiefeier in Heilig Geist
DESCRIPTION:
URL:https://martinus-hn.de/veranstaltung/eucharistiefeier-in-heilig-geist-dienstag/2029-10-16/
LOCATION:Heilig-Geist-Kirche\, Heilbronner Weg 17\, Heilbronn-Horkheim\, 74081
CATEGORIES:Gottesdienst
END:VEVENT
BEGIN:VEVENT
DTSTART;TZID=Europe/Berlin:20291023T183000
DTEND;TZID=Europe/Berlin:20291023T193000
DTSTAMP:20260422T004523
CREATED:20260327T115841Z
LAST-MODIFIED:20260327T115841Z
UID:10010560-1887474600-1887478200@martinus-hn.de
SUMMARY:Eucharistiefeier in Heilig Geist
DESCRIPTION:
URL:https://martinus-hn.de/veranstaltung/eucharistiefeier-in-heilig-geist-dienstag/2029-10-23/
LOCATION:Heilig-Geist-Kirche\, Heilbronner Weg 17\, Heilbronn-Horkheim\, 74081
CATEGORIES:Gottesdienst
END:VEVENT
BEGIN:VEVENT
DTSTART;TZID=Europe/Berlin:20291027T183000
DTEND;TZID=Europe/Berlin:20291027T193000
DTSTAMP:20260422T004523
CREATED:20260304T153850Z
LAST-MODIFIED:20260327T114702Z
UID:10009929-1887820200-1887823800@martinus-hn.de
SUMMARY:Eucharistiefeier in Heilig Geist
DESCRIPTION:
URL:https://martinus-hn.de/veranstaltung/eucharistiefeier-in-heilig-geist/2029-10-27/
LOCATION:Heilig-Geist-Kirche\, Heilbronner Weg 17\, Heilbronn-Horkheim\, 74081
CATEGORIES:Gottesdienst
END:VEVENT
BEGIN:VEVENT
DTSTART;TZID=Europe/Berlin:20291030T183000
DTEND;TZID=Europe/Berlin:20291030T193000
DTSTAMP:20260422T004523
CREATED:20260327T115841Z
LAST-MODIFIED:20260327T115841Z
UID:10010561-1888079400-1888083000@martinus-hn.de
SUMMARY:Eucharistiefeier in Heilig Geist
DESCRIPTION:
URL:https://martinus-hn.de/veranstaltung/eucharistiefeier-in-heilig-geist-dienstag/2029-10-30/
LOCATION:Heilig-Geist-Kirche\, Heilbronner Weg 17\, Heilbronn-Horkheim\, 74081
CATEGORIES:Gottesdienst
END:VEVENT
BEGIN:VEVENT
DTSTART;TZID=Europe/Berlin:20291106T183000
DTEND;TZID=Europe/Berlin:20291106T193000
DTSTAMP:20260422T004523
CREATED:20260327T115841Z
LAST-MODIFIED:20260327T115841Z
UID:10010562-1888684200-1888687800@martinus-hn.de
SUMMARY:Eucharistiefeier in Heilig Geist
DESCRIPTION:
URL:https://martinus-hn.de/veranstaltung/eucharistiefeier-in-heilig-geist-dienstag/2029-11-06/
LOCATION:Heilig-Geist-Kirche\, Heilbronner Weg 17\, Heilbronn-Horkheim\, 74081
CATEGORIES:Gottesdienst
END:VEVENT
BEGIN:VEVENT
DTSTART;TZID=Europe/Berlin:20291110T183000
DTEND;TZID=Europe/Berlin:20291110T193000
DTSTAMP:20260422T004523
CREATED:20260304T153850Z
LAST-MODIFIED:20260327T114702Z
UID:10009930-1889029800-1889033400@martinus-hn.de
SUMMARY:Eucharistiefeier in Heilig Geist
DESCRIPTION:
URL:https://martinus-hn.de/veranstaltung/eucharistiefeier-in-heilig-geist/2029-11-10/
LOCATION:Heilig-Geist-Kirche\, Heilbronner Weg 17\, Heilbronn-Horkheim\, 74081
CATEGORIES:Gottesdienst
END:VEVENT
BEGIN:VEVENT
DTSTART;TZID=Europe/Berlin:20291113T183000
DTEND;TZID=Europe/Berlin:20291113T193000
DTSTAMP:20260422T004523
CREATED:20260327T115841Z
LAST-MODIFIED:20260327T115841Z
UID:10010563-1889289000-1889292600@martinus-hn.de
SUMMARY:Eucharistiefeier in Heilig Geist
DESCRIPTION:
URL:https://martinus-hn.de/veranstaltung/eucharistiefeier-in-heilig-geist-dienstag/2029-11-13/
LOCATION:Heilig-Geist-Kirche\, Heilbronner Weg 17\, Heilbronn-Horkheim\, 74081
CATEGORIES:Gottesdienst
END:VEVENT
BEGIN:VEVENT
DTSTART;TZID=Europe/Berlin:20291120T183000
DTEND;TZID=Europe/Berlin:20291120T193000
DTSTAMP:20260422T004523
CREATED:20260327T115841Z
LAST-MODIFIED:20260327T115841Z
UID:10010564-1889893800-1889897400@martinus-hn.de
SUMMARY:Eucharistiefeier in Heilig Geist
DESCRIPTION:
URL:https://martinus-hn.de/veranstaltung/eucharistiefeier-in-heilig-geist-dienstag/2029-11-20/
LOCATION:Heilig-Geist-Kirche\, Heilbronner Weg 17\, Heilbronn-Horkheim\, 74081
CATEGORIES:Gottesdienst
END:VEVENT
BEGIN:VEVENT
DTSTART;TZID=Europe/Berlin:20291124T183000
DTEND;TZID=Europe/Berlin:20291124T193000
DTSTAMP:20260422T004523
CREATED:20260304T153850Z
LAST-MODIFIED:20260327T114702Z
UID:10009931-1890239400-1890243000@martinus-hn.de
SUMMARY:Eucharistiefeier in Heilig Geist
DESCRIPTION:
URL:https://martinus-hn.de/veranstaltung/eucharistiefeier-in-heilig-geist/2029-11-24/
LOCATION:Heilig-Geist-Kirche\, Heilbronner Weg 17\, Heilbronn-Horkheim\, 74081
CATEGORIES:Gottesdienst
END:VEVENT
BEGIN:VEVENT
DTSTART;TZID=Europe/Berlin:20291127T183000
DTEND;TZID=Europe/Berlin:20291127T193000
DTSTAMP:20260422T004523
CREATED:20260327T115841Z
LAST-MODIFIED:20260327T115841Z
UID:10010565-1890498600-1890502200@martinus-hn.de
SUMMARY:Eucharistiefeier in Heilig Geist
DESCRIPTION:
URL:https://martinus-hn.de/veranstaltung/eucharistiefeier-in-heilig-geist-dienstag/2029-11-27/
LOCATION:Heilig-Geist-Kirche\, Heilbronner Weg 17\, Heilbronn-Horkheim\, 74081
CATEGORIES:Gottesdienst
END:VEVENT
BEGIN:VEVENT
DTSTART;TZID=Europe/Berlin:20291204T183000
DTEND;TZID=Europe/Berlin:20291204T193000
DTSTAMP:20260422T004523
CREATED:20260327T115841Z
LAST-MODIFIED:20260327T115841Z
UID:10010566-1891103400-1891107000@martinus-hn.de
SUMMARY:Eucharistiefeier in Heilig Geist
DESCRIPTION:
URL:https://martinus-hn.de/veranstaltung/eucharistiefeier-in-heilig-geist-dienstag/2029-12-04/
LOCATION:Heilig-Geist-Kirche\, Heilbronner Weg 17\, Heilbronn-Horkheim\, 74081
CATEGORIES:Gottesdienst
END:VEVENT
BEGIN:VEVENT
DTSTART;TZID=Europe/Berlin:20291208T183000
DTEND;TZID=Europe/Berlin:20291208T193000
DTSTAMP:20260422T004523
CREATED:20260304T153850Z
LAST-MODIFIED:20260327T114702Z
UID:10009932-1891449000-1891452600@martinus-hn.de
SUMMARY:Eucharistiefeier in Heilig Geist
DESCRIPTION:
URL:https://martinus-hn.de/veranstaltung/eucharistiefeier-in-heilig-geist/2029-12-08/
LOCATION:Heilig-Geist-Kirche\, Heilbronner Weg 17\, Heilbronn-Horkheim\, 74081
CATEGORIES:Gottesdienst
END:VEVENT
BEGIN:VEVENT
DTSTART;TZID=Europe/Berlin:20291211T183000
DTEND;TZID=Europe/Berlin:20291211T193000
DTSTAMP:20260422T004523
CREATED:20260327T115841Z
LAST-MODIFIED:20260327T115841Z
UID:10010567-1891708200-1891711800@martinus-hn.de
SUMMARY:Eucharistiefeier in Heilig Geist
DESCRIPTION:
URL:https://martinus-hn.de/veranstaltung/eucharistiefeier-in-heilig-geist-dienstag/2029-12-11/
LOCATION:Heilig-Geist-Kirche\, Heilbronner Weg 17\, Heilbronn-Horkheim\, 74081
CATEGORIES:Gottesdienst
END:VEVENT
BEGIN:VEVENT
DTSTART;TZID=Europe/Berlin:20291218T183000
DTEND;TZID=Europe/Berlin:20291218T193000
DTSTAMP:20260422T004523
CREATED:20260327T115841Z
LAST-MODIFIED:20260327T115841Z
UID:10010568-1892313000-1892316600@martinus-hn.de
SUMMARY:Eucharistiefeier in Heilig Geist
DESCRIPTION:
URL:https://martinus-hn.de/veranstaltung/eucharistiefeier-in-heilig-geist-dienstag/2029-12-18/
LOCATION:Heilig-Geist-Kirche\, Heilbronner Weg 17\, Heilbronn-Horkheim\, 74081
CATEGORIES:Gottesdienst
END:VEVENT
BEGIN:VEVENT
DTSTART;TZID=Europe/Berlin:20291222T183000
DTEND;TZID=Europe/Berlin:20291222T193000
DTSTAMP:20260422T004523
CREATED:20260304T153850Z
LAST-MODIFIED:20260327T114702Z
UID:10009933-1892658600-1892662200@martinus-hn.de
SUMMARY:Eucharistiefeier in Heilig Geist
DESCRIPTION:
URL:https://martinus-hn.de/veranstaltung/eucharistiefeier-in-heilig-geist/2029-12-22/
LOCATION:Heilig-Geist-Kirche\, Heilbronner Weg 17\, Heilbronn-Horkheim\, 74081
CATEGORIES:Gottesdienst
END:VEVENT
BEGIN:VEVENT
DTSTART;TZID=Europe/Berlin:20291225T183000
DTEND;TZID=Europe/Berlin:20291225T193000
DTSTAMP:20260422T004523
CREATED:20260327T115841Z
LAST-MODIFIED:20260327T115841Z
UID:10010569-1892917800-1892921400@martinus-hn.de
SUMMARY:Eucharistiefeier in Heilig Geist
DESCRIPTION:
URL:https://martinus-hn.de/veranstaltung/eucharistiefeier-in-heilig-geist-dienstag/2029-12-25/
LOCATION:Heilig-Geist-Kirche\, Heilbronner Weg 17\, Heilbronn-Horkheim\, 74081
CATEGORIES:Gottesdienst
END:VEVENT
BEGIN:VEVENT
DTSTART;TZID=Europe/Berlin:20300101T183000
DTEND;TZID=Europe/Berlin:20300101T193000
DTSTAMP:20260422T004523
CREATED:20260327T115841Z
LAST-MODIFIED:20260327T115841Z
UID:10010570-1893522600-1893526200@martinus-hn.de
SUMMARY:Eucharistiefeier in Heilig Geist
DESCRIPTION:
URL:https://martinus-hn.de/veranstaltung/eucharistiefeier-in-heilig-geist-dienstag/2030-01-01/
LOCATION:Heilig-Geist-Kirche\, Heilbronner Weg 17\, Heilbronn-Horkheim\, 74081
CATEGORIES:Gottesdienst
END:VEVENT
BEGIN:VEVENT
DTSTART;TZID=Europe/Berlin:20300105T183000
DTEND;TZID=Europe/Berlin:20300105T193000
DTSTAMP:20260422T004523
CREATED:20260304T153850Z
LAST-MODIFIED:20260327T114702Z
UID:10009934-1893868200-1893871800@martinus-hn.de
SUMMARY:Eucharistiefeier in Heilig Geist
DESCRIPTION:
URL:https://martinus-hn.de/veranstaltung/eucharistiefeier-in-heilig-geist/2030-01-05/
LOCATION:Heilig-Geist-Kirche\, Heilbronner Weg 17\, Heilbronn-Horkheim\, 74081
CATEGORIES:Gottesdienst
END:VEVENT
BEGIN:VEVENT
DTSTART;TZID=Europe/Berlin:20300108T183000
DTEND;TZID=Europe/Berlin:20300108T193000
DTSTAMP:20260422T004523
CREATED:20260327T115841Z
LAST-MODIFIED:20260327T115841Z
UID:10010571-1894127400-1894131000@martinus-hn.de
SUMMARY:Eucharistiefeier in Heilig Geist
DESCRIPTION:
URL:https://martinus-hn.de/veranstaltung/eucharistiefeier-in-heilig-geist-dienstag/2030-01-08/
LOCATION:Heilig-Geist-Kirche\, Heilbronner Weg 17\, Heilbronn-Horkheim\, 74081
CATEGORIES:Gottesdienst
END:VEVENT
BEGIN:VEVENT
DTSTART;TZID=Europe/Berlin:20300115T183000
DTEND;TZID=Europe/Berlin:20300115T193000
DTSTAMP:20260422T004523
CREATED:20260327T115841Z
LAST-MODIFIED:20260327T115841Z
UID:10010572-1894732200-1894735800@martinus-hn.de
SUMMARY:Eucharistiefeier in Heilig Geist
DESCRIPTION:
URL:https://martinus-hn.de/veranstaltung/eucharistiefeier-in-heilig-geist-dienstag/2030-01-15/
LOCATION:Heilig-Geist-Kirche\, Heilbronner Weg 17\, Heilbronn-Horkheim\, 74081
CATEGORIES:Gottesdienst
END:VEVENT
BEGIN:VEVENT
DTSTART;TZID=Europe/Berlin:20300119T183000
DTEND;TZID=Europe/Berlin:20300119T193000
DTSTAMP:20260422T004523
CREATED:20260304T153850Z
LAST-MODIFIED:20260327T114702Z
UID:10009935-1895077800-1895081400@martinus-hn.de
SUMMARY:Eucharistiefeier in Heilig Geist
DESCRIPTION:
URL:https://martinus-hn.de/veranstaltung/eucharistiefeier-in-heilig-geist/2030-01-19/
LOCATION:Heilig-Geist-Kirche\, Heilbronner Weg 17\, Heilbronn-Horkheim\, 74081
CATEGORIES:Gottesdienst
END:VEVENT
BEGIN:VEVENT
DTSTART;TZID=Europe/Berlin:20300122T183000
DTEND;TZID=Europe/Berlin:20300122T193000
DTSTAMP:20260422T004523
CREATED:20260327T115841Z
LAST-MODIFIED:20260327T115841Z
UID:10010573-1895337000-1895340600@martinus-hn.de
SUMMARY:Eucharistiefeier in Heilig Geist
DESCRIPTION:
URL:https://martinus-hn.de/veranstaltung/eucharistiefeier-in-heilig-geist-dienstag/2030-01-22/
LOCATION:Heilig-Geist-Kirche\, Heilbronner Weg 17\, Heilbronn-Horkheim\, 74081
CATEGORIES:Gottesdienst
END:VEVENT
BEGIN:VEVENT
DTSTART;TZID=Europe/Berlin:20300129T183000
DTEND;TZID=Europe/Berlin:20300129T193000
DTSTAMP:20260422T004523
CREATED:20260327T115841Z
LAST-MODIFIED:20260327T115841Z
UID:10010574-1895941800-1895945400@martinus-hn.de
SUMMARY:Eucharistiefeier in Heilig Geist
DESCRIPTION:
URL:https://martinus-hn.de/veranstaltung/eucharistiefeier-in-heilig-geist-dienstag/2030-01-29/
LOCATION:Heilig-Geist-Kirche\, Heilbronner Weg 17\, Heilbronn-Horkheim\, 74081
CATEGORIES:Gottesdienst
END:VEVENT
BEGIN:VEVENT
DTSTART;TZID=Europe/Berlin:20300202T183000
DTEND;TZID=Europe/Berlin:20300202T193000
DTSTAMP:20260422T004523
CREATED:20260304T153850Z
LAST-MODIFIED:20260327T114702Z
UID:10009936-1896287400-1896291000@martinus-hn.de
SUMMARY:Eucharistiefeier in Heilig Geist
DESCRIPTION:
URL:https://martinus-hn.de/veranstaltung/eucharistiefeier-in-heilig-geist/2030-02-02/
LOCATION:Heilig-Geist-Kirche\, Heilbronner Weg 17\, Heilbronn-Horkheim\, 74081
CATEGORIES:Gottesdienst
END:VEVENT
BEGIN:VEVENT
DTSTART;TZID=Europe/Berlin:20300205T183000
DTEND;TZID=Europe/Berlin:20300205T193000
DTSTAMP:20260422T004523
CREATED:20260327T115841Z
LAST-MODIFIED:20260327T115841Z
UID:10010575-1896546600-1896550200@martinus-hn.de
SUMMARY:Eucharistiefeier in Heilig Geist
DESCRIPTION:
URL:https://martinus-hn.de/veranstaltung/eucharistiefeier-in-heilig-geist-dienstag/2030-02-05/
LOCATION:Heilig-Geist-Kirche\, Heilbronner Weg 17\, Heilbronn-Horkheim\, 74081
CATEGORIES:Gottesdienst
END:VEVENT
BEGIN:VEVENT
DTSTART;TZID=Europe/Berlin:20300212T183000
DTEND;TZID=Europe/Berlin:20300212T193000
DTSTAMP:20260422T004523
CREATED:20260327T115841Z
LAST-MODIFIED:20260327T115841Z
UID:10010576-1897151400-1897155000@martinus-hn.de
SUMMARY:Eucharistiefeier in Heilig Geist
DESCRIPTION:
URL:https://martinus-hn.de/veranstaltung/eucharistiefeier-in-heilig-geist-dienstag/2030-02-12/
LOCATION:Heilig-Geist-Kirche\, Heilbronner Weg 17\, Heilbronn-Horkheim\, 74081
CATEGORIES:Gottesdienst
END:VEVENT
BEGIN:VEVENT
DTSTART;TZID=Europe/Berlin:20300216T183000
DTEND;TZID=Europe/Berlin:20300216T193000
DTSTAMP:20260422T004523
CREATED:20260304T153850Z
LAST-MODIFIED:20260327T114702Z
UID:10009937-1897497000-1897500600@martinus-hn.de
SUMMARY:Eucharistiefeier in Heilig Geist
DESCRIPTION:
URL:https://martinus-hn.de/veranstaltung/eucharistiefeier-in-heilig-geist/2030-02-16/
LOCATION:Heilig-Geist-Kirche\, Heilbronner Weg 17\, Heilbronn-Horkheim\, 74081
CATEGORIES:Gottesdienst
END:VEVENT
END:VCALENDAR