BEGIN:VCALENDAR
VERSION:2.0
PRODID:-//St. Martinus Heilbronn-Sontheim - ECPv6.10.2//NONSGML v1.0//EN
CALSCALE:GREGORIAN
METHOD:PUBLISH
X-WR-CALNAME:St. Martinus Heilbronn-Sontheim
X-ORIGINAL-URL:https://martinus-hn.de
X-WR-CALDESC:Veranstaltungen für St. Martinus Heilbronn-Sontheim
REFRESH-INTERVAL;VALUE=DURATION:PT1H
X-Robots-Tag:noindex
X-PUBLISHED-TTL:PT1H
BEGIN:VTIMEZONE
TZID:Europe/Berlin
BEGIN:DAYLIGHT
TZOFFSETFROM:+0100
TZOFFSETTO:+0200
TZNAME:CEST
DTSTART:20290325T010000
END:DAYLIGHT
BEGIN:STANDARD
TZOFFSETFROM:+0200
TZOFFSETTO:+0100
TZNAME:CET
DTSTART:20291028T010000
END:STANDARD
END:VTIMEZONE
BEGIN:VEVENT
DTSTART;TZID=Europe/Berlin:20290703T183000
DTEND;TZID=Europe/Berlin:20290703T193000
DTSTAMP:20260421T210837
CREATED:20260327T115841Z
LAST-MODIFIED:20260327T115841Z
UID:10010544-1877797800-1877801400@martinus-hn.de
SUMMARY:Eucharistiefeier in Heilig Geist
DESCRIPTION:
URL:https://martinus-hn.de/veranstaltung/eucharistiefeier-in-heilig-geist-dienstag/2029-07-03/
LOCATION:Heilig-Geist-Kirche\, Heilbronner Weg 17\, Heilbronn-Horkheim\, 74081
CATEGORIES:Gottesdienst
END:VEVENT
BEGIN:VEVENT
DTSTART;TZID=Europe/Berlin:20290707T183000
DTEND;TZID=Europe/Berlin:20290707T193000
DTSTAMP:20260421T210837
CREATED:20260304T153850Z
LAST-MODIFIED:20260327T114702Z
UID:10009921-1878143400-1878147000@martinus-hn.de
SUMMARY:Eucharistiefeier in Heilig Geist
DESCRIPTION:
URL:https://martinus-hn.de/veranstaltung/eucharistiefeier-in-heilig-geist/2029-07-07/
LOCATION:Heilig-Geist-Kirche\, Heilbronner Weg 17\, Heilbronn-Horkheim\, 74081
CATEGORIES:Gottesdienst
END:VEVENT
BEGIN:VEVENT
DTSTART;TZID=Europe/Berlin:20290710T183000
DTEND;TZID=Europe/Berlin:20290710T193000
DTSTAMP:20260421T210837
CREATED:20260327T115841Z
LAST-MODIFIED:20260327T115841Z
UID:10010545-1878402600-1878406200@martinus-hn.de
SUMMARY:Eucharistiefeier in Heilig Geist
DESCRIPTION:
URL:https://martinus-hn.de/veranstaltung/eucharistiefeier-in-heilig-geist-dienstag/2029-07-10/
LOCATION:Heilig-Geist-Kirche\, Heilbronner Weg 17\, Heilbronn-Horkheim\, 74081
CATEGORIES:Gottesdienst
END:VEVENT
BEGIN:VEVENT
DTSTART;TZID=Europe/Berlin:20290717T183000
DTEND;TZID=Europe/Berlin:20290717T193000
DTSTAMP:20260421T210837
CREATED:20260327T115841Z
LAST-MODIFIED:20260327T115841Z
UID:10010546-1879007400-1879011000@martinus-hn.de
SUMMARY:Eucharistiefeier in Heilig Geist
DESCRIPTION:
URL:https://martinus-hn.de/veranstaltung/eucharistiefeier-in-heilig-geist-dienstag/2029-07-17/
LOCATION:Heilig-Geist-Kirche\, Heilbronner Weg 17\, Heilbronn-Horkheim\, 74081
CATEGORIES:Gottesdienst
END:VEVENT
BEGIN:VEVENT
DTSTART;TZID=Europe/Berlin:20290721T183000
DTEND;TZID=Europe/Berlin:20290721T193000
DTSTAMP:20260421T210837
CREATED:20260304T153850Z
LAST-MODIFIED:20260327T114702Z
UID:10009922-1879353000-1879356600@martinus-hn.de
SUMMARY:Eucharistiefeier in Heilig Geist
DESCRIPTION:
URL:https://martinus-hn.de/veranstaltung/eucharistiefeier-in-heilig-geist/2029-07-21/
LOCATION:Heilig-Geist-Kirche\, Heilbronner Weg 17\, Heilbronn-Horkheim\, 74081
CATEGORIES:Gottesdienst
END:VEVENT
BEGIN:VEVENT
DTSTART;TZID=Europe/Berlin:20290724T183000
DTEND;TZID=Europe/Berlin:20290724T193000
DTSTAMP:20260421T210837
CREATED:20260327T115841Z
LAST-MODIFIED:20260327T115841Z
UID:10010547-1879612200-1879615800@martinus-hn.de
SUMMARY:Eucharistiefeier in Heilig Geist
DESCRIPTION:
URL:https://martinus-hn.de/veranstaltung/eucharistiefeier-in-heilig-geist-dienstag/2029-07-24/
LOCATION:Heilig-Geist-Kirche\, Heilbronner Weg 17\, Heilbronn-Horkheim\, 74081
CATEGORIES:Gottesdienst
END:VEVENT
BEGIN:VEVENT
DTSTART;TZID=Europe/Berlin:20290731T183000
DTEND;TZID=Europe/Berlin:20290731T193000
DTSTAMP:20260421T210837
CREATED:20260327T115841Z
LAST-MODIFIED:20260327T115841Z
UID:10010548-1880217000-1880220600@martinus-hn.de
SUMMARY:Eucharistiefeier in Heilig Geist
DESCRIPTION:
URL:https://martinus-hn.de/veranstaltung/eucharistiefeier-in-heilig-geist-dienstag/2029-07-31/
LOCATION:Heilig-Geist-Kirche\, Heilbronner Weg 17\, Heilbronn-Horkheim\, 74081
CATEGORIES:Gottesdienst
END:VEVENT
BEGIN:VEVENT
DTSTART;TZID=Europe/Berlin:20290804T183000
DTEND;TZID=Europe/Berlin:20290804T193000
DTSTAMP:20260421T210837
CREATED:20260304T153850Z
LAST-MODIFIED:20260327T114702Z
UID:10009923-1880562600-1880566200@martinus-hn.de
SUMMARY:Eucharistiefeier in Heilig Geist
DESCRIPTION:
URL:https://martinus-hn.de/veranstaltung/eucharistiefeier-in-heilig-geist/2029-08-04/
LOCATION:Heilig-Geist-Kirche\, Heilbronner Weg 17\, Heilbronn-Horkheim\, 74081
CATEGORIES:Gottesdienst
END:VEVENT
BEGIN:VEVENT
DTSTART;TZID=Europe/Berlin:20290807T183000
DTEND;TZID=Europe/Berlin:20290807T193000
DTSTAMP:20260421T210837
CREATED:20260327T115841Z
LAST-MODIFIED:20260327T115841Z
UID:10010549-1880821800-1880825400@martinus-hn.de
SUMMARY:Eucharistiefeier in Heilig Geist
DESCRIPTION:
URL:https://martinus-hn.de/veranstaltung/eucharistiefeier-in-heilig-geist-dienstag/2029-08-07/
LOCATION:Heilig-Geist-Kirche\, Heilbronner Weg 17\, Heilbronn-Horkheim\, 74081
CATEGORIES:Gottesdienst
END:VEVENT
BEGIN:VEVENT
DTSTART;TZID=Europe/Berlin:20290814T183000
DTEND;TZID=Europe/Berlin:20290814T193000
DTSTAMP:20260421T210837
CREATED:20260327T115841Z
LAST-MODIFIED:20260327T115841Z
UID:10010550-1881426600-1881430200@martinus-hn.de
SUMMARY:Eucharistiefeier in Heilig Geist
DESCRIPTION:
URL:https://martinus-hn.de/veranstaltung/eucharistiefeier-in-heilig-geist-dienstag/2029-08-14/
LOCATION:Heilig-Geist-Kirche\, Heilbronner Weg 17\, Heilbronn-Horkheim\, 74081
CATEGORIES:Gottesdienst
END:VEVENT
BEGIN:VEVENT
DTSTART;TZID=Europe/Berlin:20290818T183000
DTEND;TZID=Europe/Berlin:20290818T193000
DTSTAMP:20260421T210837
CREATED:20260304T153850Z
LAST-MODIFIED:20260327T114702Z
UID:10009924-1881772200-1881775800@martinus-hn.de
SUMMARY:Eucharistiefeier in Heilig Geist
DESCRIPTION:
URL:https://martinus-hn.de/veranstaltung/eucharistiefeier-in-heilig-geist/2029-08-18/
LOCATION:Heilig-Geist-Kirche\, Heilbronner Weg 17\, Heilbronn-Horkheim\, 74081
CATEGORIES:Gottesdienst
END:VEVENT
BEGIN:VEVENT
DTSTART;TZID=Europe/Berlin:20290821T183000
DTEND;TZID=Europe/Berlin:20290821T193000
DTSTAMP:20260421T210837
CREATED:20260327T115841Z
LAST-MODIFIED:20260327T115841Z
UID:10010551-1882031400-1882035000@martinus-hn.de
SUMMARY:Eucharistiefeier in Heilig Geist
DESCRIPTION:
URL:https://martinus-hn.de/veranstaltung/eucharistiefeier-in-heilig-geist-dienstag/2029-08-21/
LOCATION:Heilig-Geist-Kirche\, Heilbronner Weg 17\, Heilbronn-Horkheim\, 74081
CATEGORIES:Gottesdienst
END:VEVENT
BEGIN:VEVENT
DTSTART;TZID=Europe/Berlin:20290828T183000
DTEND;TZID=Europe/Berlin:20290828T193000
DTSTAMP:20260421T210837
CREATED:20260327T115841Z
LAST-MODIFIED:20260327T115841Z
UID:10010552-1882636200-1882639800@martinus-hn.de
SUMMARY:Eucharistiefeier in Heilig Geist
DESCRIPTION:
URL:https://martinus-hn.de/veranstaltung/eucharistiefeier-in-heilig-geist-dienstag/2029-08-28/
LOCATION:Heilig-Geist-Kirche\, Heilbronner Weg 17\, Heilbronn-Horkheim\, 74081
CATEGORIES:Gottesdienst
END:VEVENT
BEGIN:VEVENT
DTSTART;TZID=Europe/Berlin:20290901T183000
DTEND;TZID=Europe/Berlin:20290901T193000
DTSTAMP:20260421T210837
CREATED:20260304T153850Z
LAST-MODIFIED:20260327T114702Z
UID:10009925-1882981800-1882985400@martinus-hn.de
SUMMARY:Eucharistiefeier in Heilig Geist
DESCRIPTION:
URL:https://martinus-hn.de/veranstaltung/eucharistiefeier-in-heilig-geist/2029-09-01/
LOCATION:Heilig-Geist-Kirche\, Heilbronner Weg 17\, Heilbronn-Horkheim\, 74081
CATEGORIES:Gottesdienst
END:VEVENT
BEGIN:VEVENT
DTSTART;TZID=Europe/Berlin:20290904T183000
DTEND;TZID=Europe/Berlin:20290904T193000
DTSTAMP:20260421T210837
CREATED:20260327T115841Z
LAST-MODIFIED:20260327T115841Z
UID:10010553-1883241000-1883244600@martinus-hn.de
SUMMARY:Eucharistiefeier in Heilig Geist
DESCRIPTION:
URL:https://martinus-hn.de/veranstaltung/eucharistiefeier-in-heilig-geist-dienstag/2029-09-04/
LOCATION:Heilig-Geist-Kirche\, Heilbronner Weg 17\, Heilbronn-Horkheim\, 74081
CATEGORIES:Gottesdienst
END:VEVENT
BEGIN:VEVENT
DTSTART;TZID=Europe/Berlin:20290911T183000
DTEND;TZID=Europe/Berlin:20290911T193000
DTSTAMP:20260421T210837
CREATED:20260327T115841Z
LAST-MODIFIED:20260327T115841Z
UID:10010554-1883845800-1883849400@martinus-hn.de
SUMMARY:Eucharistiefeier in Heilig Geist
DESCRIPTION:
URL:https://martinus-hn.de/veranstaltung/eucharistiefeier-in-heilig-geist-dienstag/2029-09-11/
LOCATION:Heilig-Geist-Kirche\, Heilbronner Weg 17\, Heilbronn-Horkheim\, 74081
CATEGORIES:Gottesdienst
END:VEVENT
BEGIN:VEVENT
DTSTART;TZID=Europe/Berlin:20290915T183000
DTEND;TZID=Europe/Berlin:20290915T193000
DTSTAMP:20260421T210837
CREATED:20260304T153850Z
LAST-MODIFIED:20260327T114702Z
UID:10009926-1884191400-1884195000@martinus-hn.de
SUMMARY:Eucharistiefeier in Heilig Geist
DESCRIPTION:
URL:https://martinus-hn.de/veranstaltung/eucharistiefeier-in-heilig-geist/2029-09-15/
LOCATION:Heilig-Geist-Kirche\, Heilbronner Weg 17\, Heilbronn-Horkheim\, 74081
CATEGORIES:Gottesdienst
END:VEVENT
BEGIN:VEVENT
DTSTART;TZID=Europe/Berlin:20290918T183000
DTEND;TZID=Europe/Berlin:20290918T193000
DTSTAMP:20260421T210837
CREATED:20260327T115841Z
LAST-MODIFIED:20260327T115841Z
UID:10010555-1884450600-1884454200@martinus-hn.de
SUMMARY:Eucharistiefeier in Heilig Geist
DESCRIPTION:
URL:https://martinus-hn.de/veranstaltung/eucharistiefeier-in-heilig-geist-dienstag/2029-09-18/
LOCATION:Heilig-Geist-Kirche\, Heilbronner Weg 17\, Heilbronn-Horkheim\, 74081
CATEGORIES:Gottesdienst
END:VEVENT
BEGIN:VEVENT
DTSTART;TZID=Europe/Berlin:20290925T183000
DTEND;TZID=Europe/Berlin:20290925T193000
DTSTAMP:20260421T210837
CREATED:20260327T115841Z
LAST-MODIFIED:20260327T115841Z
UID:10010556-1885055400-1885059000@martinus-hn.de
SUMMARY:Eucharistiefeier in Heilig Geist
DESCRIPTION:
URL:https://martinus-hn.de/veranstaltung/eucharistiefeier-in-heilig-geist-dienstag/2029-09-25/
LOCATION:Heilig-Geist-Kirche\, Heilbronner Weg 17\, Heilbronn-Horkheim\, 74081
CATEGORIES:Gottesdienst
END:VEVENT
BEGIN:VEVENT
DTSTART;TZID=Europe/Berlin:20290929T183000
DTEND;TZID=Europe/Berlin:20290929T193000
DTSTAMP:20260421T210837
CREATED:20260304T153850Z
LAST-MODIFIED:20260327T114702Z
UID:10009927-1885401000-1885404600@martinus-hn.de
SUMMARY:Eucharistiefeier in Heilig Geist
DESCRIPTION:
URL:https://martinus-hn.de/veranstaltung/eucharistiefeier-in-heilig-geist/2029-09-29/
LOCATION:Heilig-Geist-Kirche\, Heilbronner Weg 17\, Heilbronn-Horkheim\, 74081
CATEGORIES:Gottesdienst
END:VEVENT
BEGIN:VEVENT
DTSTART;TZID=Europe/Berlin:20291002T183000
DTEND;TZID=Europe/Berlin:20291002T193000
DTSTAMP:20260421T210837
CREATED:20260327T115841Z
LAST-MODIFIED:20260327T115841Z
UID:10010557-1885660200-1885663800@martinus-hn.de
SUMMARY:Eucharistiefeier in Heilig Geist
DESCRIPTION:
URL:https://martinus-hn.de/veranstaltung/eucharistiefeier-in-heilig-geist-dienstag/2029-10-02/
LOCATION:Heilig-Geist-Kirche\, Heilbronner Weg 17\, Heilbronn-Horkheim\, 74081
CATEGORIES:Gottesdienst
END:VEVENT
BEGIN:VEVENT
DTSTART;TZID=Europe/Berlin:20291009T183000
DTEND;TZID=Europe/Berlin:20291009T193000
DTSTAMP:20260421T210837
CREATED:20260327T115841Z
LAST-MODIFIED:20260327T115841Z
UID:10010558-1886265000-1886268600@martinus-hn.de
SUMMARY:Eucharistiefeier in Heilig Geist
DESCRIPTION:
URL:https://martinus-hn.de/veranstaltung/eucharistiefeier-in-heilig-geist-dienstag/2029-10-09/
LOCATION:Heilig-Geist-Kirche\, Heilbronner Weg 17\, Heilbronn-Horkheim\, 74081
CATEGORIES:Gottesdienst
END:VEVENT
BEGIN:VEVENT
DTSTART;TZID=Europe/Berlin:20291013T183000
DTEND;TZID=Europe/Berlin:20291013T193000
DTSTAMP:20260421T210837
CREATED:20260304T153850Z
LAST-MODIFIED:20260327T114702Z
UID:10009928-1886610600-1886614200@martinus-hn.de
SUMMARY:Eucharistiefeier in Heilig Geist
DESCRIPTION:
URL:https://martinus-hn.de/veranstaltung/eucharistiefeier-in-heilig-geist/2029-10-13/
LOCATION:Heilig-Geist-Kirche\, Heilbronner Weg 17\, Heilbronn-Horkheim\, 74081
CATEGORIES:Gottesdienst
END:VEVENT
BEGIN:VEVENT
DTSTART;TZID=Europe/Berlin:20291016T183000
DTEND;TZID=Europe/Berlin:20291016T193000
DTSTAMP:20260421T210837
CREATED:20260327T115841Z
LAST-MODIFIED:20260327T115841Z
UID:10010559-1886869800-1886873400@martinus-hn.de
SUMMARY:Eucharistiefeier in Heilig Geist
DESCRIPTION:
URL:https://martinus-hn.de/veranstaltung/eucharistiefeier-in-heilig-geist-dienstag/2029-10-16/
LOCATION:Heilig-Geist-Kirche\, Heilbronner Weg 17\, Heilbronn-Horkheim\, 74081
CATEGORIES:Gottesdienst
END:VEVENT
BEGIN:VEVENT
DTSTART;TZID=Europe/Berlin:20291023T183000
DTEND;TZID=Europe/Berlin:20291023T193000
DTSTAMP:20260421T210837
CREATED:20260327T115841Z
LAST-MODIFIED:20260327T115841Z
UID:10010560-1887474600-1887478200@martinus-hn.de
SUMMARY:Eucharistiefeier in Heilig Geist
DESCRIPTION:
URL:https://martinus-hn.de/veranstaltung/eucharistiefeier-in-heilig-geist-dienstag/2029-10-23/
LOCATION:Heilig-Geist-Kirche\, Heilbronner Weg 17\, Heilbronn-Horkheim\, 74081
CATEGORIES:Gottesdienst
END:VEVENT
BEGIN:VEVENT
DTSTART;TZID=Europe/Berlin:20291027T183000
DTEND;TZID=Europe/Berlin:20291027T193000
DTSTAMP:20260421T210837
CREATED:20260304T153850Z
LAST-MODIFIED:20260327T114702Z
UID:10009929-1887820200-1887823800@martinus-hn.de
SUMMARY:Eucharistiefeier in Heilig Geist
DESCRIPTION:
URL:https://martinus-hn.de/veranstaltung/eucharistiefeier-in-heilig-geist/2029-10-27/
LOCATION:Heilig-Geist-Kirche\, Heilbronner Weg 17\, Heilbronn-Horkheim\, 74081
CATEGORIES:Gottesdienst
END:VEVENT
BEGIN:VEVENT
DTSTART;TZID=Europe/Berlin:20291030T183000
DTEND;TZID=Europe/Berlin:20291030T193000
DTSTAMP:20260421T210837
CREATED:20260327T115841Z
LAST-MODIFIED:20260327T115841Z
UID:10010561-1888079400-1888083000@martinus-hn.de
SUMMARY:Eucharistiefeier in Heilig Geist
DESCRIPTION:
URL:https://martinus-hn.de/veranstaltung/eucharistiefeier-in-heilig-geist-dienstag/2029-10-30/
LOCATION:Heilig-Geist-Kirche\, Heilbronner Weg 17\, Heilbronn-Horkheim\, 74081
CATEGORIES:Gottesdienst
END:VEVENT
BEGIN:VEVENT
DTSTART;TZID=Europe/Berlin:20291106T183000
DTEND;TZID=Europe/Berlin:20291106T193000
DTSTAMP:20260421T210837
CREATED:20260327T115841Z
LAST-MODIFIED:20260327T115841Z
UID:10010562-1888684200-1888687800@martinus-hn.de
SUMMARY:Eucharistiefeier in Heilig Geist
DESCRIPTION:
URL:https://martinus-hn.de/veranstaltung/eucharistiefeier-in-heilig-geist-dienstag/2029-11-06/
LOCATION:Heilig-Geist-Kirche\, Heilbronner Weg 17\, Heilbronn-Horkheim\, 74081
CATEGORIES:Gottesdienst
END:VEVENT
BEGIN:VEVENT
DTSTART;TZID=Europe/Berlin:20291110T183000
DTEND;TZID=Europe/Berlin:20291110T193000
DTSTAMP:20260421T210837
CREATED:20260304T153850Z
LAST-MODIFIED:20260327T114702Z
UID:10009930-1889029800-1889033400@martinus-hn.de
SUMMARY:Eucharistiefeier in Heilig Geist
DESCRIPTION:
URL:https://martinus-hn.de/veranstaltung/eucharistiefeier-in-heilig-geist/2029-11-10/
LOCATION:Heilig-Geist-Kirche\, Heilbronner Weg 17\, Heilbronn-Horkheim\, 74081
CATEGORIES:Gottesdienst
END:VEVENT
BEGIN:VEVENT
DTSTART;TZID=Europe/Berlin:20291113T183000
DTEND;TZID=Europe/Berlin:20291113T193000
DTSTAMP:20260421T210837
CREATED:20260327T115841Z
LAST-MODIFIED:20260327T115841Z
UID:10010563-1889289000-1889292600@martinus-hn.de
SUMMARY:Eucharistiefeier in Heilig Geist
DESCRIPTION:
URL:https://martinus-hn.de/veranstaltung/eucharistiefeier-in-heilig-geist-dienstag/2029-11-13/
LOCATION:Heilig-Geist-Kirche\, Heilbronner Weg 17\, Heilbronn-Horkheim\, 74081
CATEGORIES:Gottesdienst
END:VEVENT
END:VCALENDAR