BEGIN:VCALENDAR
VERSION:2.0
PRODID:-//St. Martinus Heilbronn-Sontheim - ECPv6.10.2//NONSGML v1.0//EN
CALSCALE:GREGORIAN
METHOD:PUBLISH
X-ORIGINAL-URL:https://martinus-hn.de
X-WR-CALDESC:Veranstaltungen für St. Martinus Heilbronn-Sontheim
REFRESH-INTERVAL;VALUE=DURATION:PT1H
X-Robots-Tag:noindex
X-PUBLISHED-TTL:PT1H
BEGIN:VTIMEZONE
TZID:Europe/Berlin
BEGIN:DAYLIGHT
TZOFFSETFROM:+0100
TZOFFSETTO:+0200
TZNAME:CEST
DTSTART:20280326T010000
END:DAYLIGHT
BEGIN:STANDARD
TZOFFSETFROM:+0200
TZOFFSETTO:+0100
TZNAME:CET
DTSTART:20281029T010000
END:STANDARD
END:VTIMEZONE
BEGIN:VEVENT
DTSTART;TZID=Europe/Berlin:20280201T183000
DTEND;TZID=Europe/Berlin:20280201T193000
DTSTAMP:20260420T174849
CREATED:20260327T115841Z
LAST-MODIFIED:20260327T115841Z
UID:10010470-1833042600-1833046200@martinus-hn.de
SUMMARY:Eucharistiefeier in Heilig Geist
DESCRIPTION:
URL:https://martinus-hn.de/veranstaltung/eucharistiefeier-in-heilig-geist-dienstag/2028-02-01/
LOCATION:Heilig-Geist-Kirche\, Heilbronner Weg 17\, Heilbronn-Horkheim\, 74081
CATEGORIES:Gottesdienst
END:VEVENT
BEGIN:VEVENT
DTSTART;TZID=Europe/Berlin:20280205T183000
DTEND;TZID=Europe/Berlin:20280205T193000
DTSTAMP:20260420T174849
CREATED:20260304T153850Z
LAST-MODIFIED:20260327T114702Z
UID:10009884-1833388200-1833391800@martinus-hn.de
SUMMARY:Eucharistiefeier in Heilig Geist
DESCRIPTION:
URL:https://martinus-hn.de/veranstaltung/eucharistiefeier-in-heilig-geist/2028-02-05/
LOCATION:Heilig-Geist-Kirche\, Heilbronner Weg 17\, Heilbronn-Horkheim\, 74081
CATEGORIES:Gottesdienst
END:VEVENT
BEGIN:VEVENT
DTSTART;TZID=Europe/Berlin:20280208T183000
DTEND;TZID=Europe/Berlin:20280208T193000
DTSTAMP:20260420T174849
CREATED:20260327T115841Z
LAST-MODIFIED:20260327T115841Z
UID:10010471-1833647400-1833651000@martinus-hn.de
SUMMARY:Eucharistiefeier in Heilig Geist
DESCRIPTION:
URL:https://martinus-hn.de/veranstaltung/eucharistiefeier-in-heilig-geist-dienstag/2028-02-08/
LOCATION:Heilig-Geist-Kirche\, Heilbronner Weg 17\, Heilbronn-Horkheim\, 74081
CATEGORIES:Gottesdienst
END:VEVENT
BEGIN:VEVENT
DTSTART;TZID=Europe/Berlin:20280215T183000
DTEND;TZID=Europe/Berlin:20280215T193000
DTSTAMP:20260420T174849
CREATED:20260327T115841Z
LAST-MODIFIED:20260327T115841Z
UID:10010472-1834252200-1834255800@martinus-hn.de
SUMMARY:Eucharistiefeier in Heilig Geist
DESCRIPTION:
URL:https://martinus-hn.de/veranstaltung/eucharistiefeier-in-heilig-geist-dienstag/2028-02-15/
LOCATION:Heilig-Geist-Kirche\, Heilbronner Weg 17\, Heilbronn-Horkheim\, 74081
CATEGORIES:Gottesdienst
END:VEVENT
BEGIN:VEVENT
DTSTART;TZID=Europe/Berlin:20280219T183000
DTEND;TZID=Europe/Berlin:20280219T193000
DTSTAMP:20260420T174849
CREATED:20260304T153850Z
LAST-MODIFIED:20260327T114702Z
UID:10009885-1834597800-1834601400@martinus-hn.de
SUMMARY:Eucharistiefeier in Heilig Geist
DESCRIPTION:
URL:https://martinus-hn.de/veranstaltung/eucharistiefeier-in-heilig-geist/2028-02-19/
LOCATION:Heilig-Geist-Kirche\, Heilbronner Weg 17\, Heilbronn-Horkheim\, 74081
CATEGORIES:Gottesdienst
END:VEVENT
BEGIN:VEVENT
DTSTART;TZID=Europe/Berlin:20280222T183000
DTEND;TZID=Europe/Berlin:20280222T193000
DTSTAMP:20260420T174849
CREATED:20260327T115841Z
LAST-MODIFIED:20260327T115841Z
UID:10010473-1834857000-1834860600@martinus-hn.de
SUMMARY:Eucharistiefeier in Heilig Geist
DESCRIPTION:
URL:https://martinus-hn.de/veranstaltung/eucharistiefeier-in-heilig-geist-dienstag/2028-02-22/
LOCATION:Heilig-Geist-Kirche\, Heilbronner Weg 17\, Heilbronn-Horkheim\, 74081
CATEGORIES:Gottesdienst
END:VEVENT
BEGIN:VEVENT
DTSTART;TZID=Europe/Berlin:20280229T183000
DTEND;TZID=Europe/Berlin:20280229T193000
DTSTAMP:20260420T174849
CREATED:20260327T115841Z
LAST-MODIFIED:20260327T115841Z
UID:10010474-1835461800-1835465400@martinus-hn.de
SUMMARY:Eucharistiefeier in Heilig Geist
DESCRIPTION:
URL:https://martinus-hn.de/veranstaltung/eucharistiefeier-in-heilig-geist-dienstag/2028-02-29/
LOCATION:Heilig-Geist-Kirche\, Heilbronner Weg 17\, Heilbronn-Horkheim\, 74081
CATEGORIES:Gottesdienst
END:VEVENT
BEGIN:VEVENT
DTSTART;TZID=Europe/Berlin:20280304T183000
DTEND;TZID=Europe/Berlin:20280304T193000
DTSTAMP:20260420T174849
CREATED:20260304T153850Z
LAST-MODIFIED:20260327T114702Z
UID:10009886-1835807400-1835811000@martinus-hn.de
SUMMARY:Eucharistiefeier in Heilig Geist
DESCRIPTION:
URL:https://martinus-hn.de/veranstaltung/eucharistiefeier-in-heilig-geist/2028-03-04/
LOCATION:Heilig-Geist-Kirche\, Heilbronner Weg 17\, Heilbronn-Horkheim\, 74081
CATEGORIES:Gottesdienst
END:VEVENT
BEGIN:VEVENT
DTSTART;TZID=Europe/Berlin:20280307T183000
DTEND;TZID=Europe/Berlin:20280307T193000
DTSTAMP:20260420T174849
CREATED:20260327T115841Z
LAST-MODIFIED:20260327T115841Z
UID:10010475-1836066600-1836070200@martinus-hn.de
SUMMARY:Eucharistiefeier in Heilig Geist
DESCRIPTION:
URL:https://martinus-hn.de/veranstaltung/eucharistiefeier-in-heilig-geist-dienstag/2028-03-07/
LOCATION:Heilig-Geist-Kirche\, Heilbronner Weg 17\, Heilbronn-Horkheim\, 74081
CATEGORIES:Gottesdienst
END:VEVENT
BEGIN:VEVENT
DTSTART;TZID=Europe/Berlin:20280314T183000
DTEND;TZID=Europe/Berlin:20280314T193000
DTSTAMP:20260420T174849
CREATED:20260327T115841Z
LAST-MODIFIED:20260327T115841Z
UID:10010476-1836671400-1836675000@martinus-hn.de
SUMMARY:Eucharistiefeier in Heilig Geist
DESCRIPTION:
URL:https://martinus-hn.de/veranstaltung/eucharistiefeier-in-heilig-geist-dienstag/2028-03-14/
LOCATION:Heilig-Geist-Kirche\, Heilbronner Weg 17\, Heilbronn-Horkheim\, 74081
CATEGORIES:Gottesdienst
END:VEVENT
BEGIN:VEVENT
DTSTART;TZID=Europe/Berlin:20280318T183000
DTEND;TZID=Europe/Berlin:20280318T193000
DTSTAMP:20260420T174849
CREATED:20260304T153850Z
LAST-MODIFIED:20260327T114702Z
UID:10009887-1837017000-1837020600@martinus-hn.de
SUMMARY:Eucharistiefeier in Heilig Geist
DESCRIPTION:
URL:https://martinus-hn.de/veranstaltung/eucharistiefeier-in-heilig-geist/2028-03-18/
LOCATION:Heilig-Geist-Kirche\, Heilbronner Weg 17\, Heilbronn-Horkheim\, 74081
CATEGORIES:Gottesdienst
END:VEVENT
BEGIN:VEVENT
DTSTART;TZID=Europe/Berlin:20280321T183000
DTEND;TZID=Europe/Berlin:20280321T193000
DTSTAMP:20260420T174849
CREATED:20260327T115841Z
LAST-MODIFIED:20260327T115841Z
UID:10010477-1837276200-1837279800@martinus-hn.de
SUMMARY:Eucharistiefeier in Heilig Geist
DESCRIPTION:
URL:https://martinus-hn.de/veranstaltung/eucharistiefeier-in-heilig-geist-dienstag/2028-03-21/
LOCATION:Heilig-Geist-Kirche\, Heilbronner Weg 17\, Heilbronn-Horkheim\, 74081
CATEGORIES:Gottesdienst
END:VEVENT
BEGIN:VEVENT
DTSTART;TZID=Europe/Berlin:20280328T183000
DTEND;TZID=Europe/Berlin:20280328T193000
DTSTAMP:20260420T174849
CREATED:20260327T115841Z
LAST-MODIFIED:20260327T115841Z
UID:10010478-1837881000-1837884600@martinus-hn.de
SUMMARY:Eucharistiefeier in Heilig Geist
DESCRIPTION:
URL:https://martinus-hn.de/veranstaltung/eucharistiefeier-in-heilig-geist-dienstag/2028-03-28/
LOCATION:Heilig-Geist-Kirche\, Heilbronner Weg 17\, Heilbronn-Horkheim\, 74081
CATEGORIES:Gottesdienst
END:VEVENT
BEGIN:VEVENT
DTSTART;TZID=Europe/Berlin:20280401T183000
DTEND;TZID=Europe/Berlin:20280401T193000
DTSTAMP:20260420T174849
CREATED:20260304T153850Z
LAST-MODIFIED:20260327T114702Z
UID:10009888-1838226600-1838230200@martinus-hn.de
SUMMARY:Eucharistiefeier in Heilig Geist
DESCRIPTION:
URL:https://martinus-hn.de/veranstaltung/eucharistiefeier-in-heilig-geist/2028-04-01/
LOCATION:Heilig-Geist-Kirche\, Heilbronner Weg 17\, Heilbronn-Horkheim\, 74081
CATEGORIES:Gottesdienst
END:VEVENT
BEGIN:VEVENT
DTSTART;TZID=Europe/Berlin:20280404T183000
DTEND;TZID=Europe/Berlin:20280404T193000
DTSTAMP:20260420T174849
CREATED:20260327T115841Z
LAST-MODIFIED:20260327T115841Z
UID:10010479-1838485800-1838489400@martinus-hn.de
SUMMARY:Eucharistiefeier in Heilig Geist
DESCRIPTION:
URL:https://martinus-hn.de/veranstaltung/eucharistiefeier-in-heilig-geist-dienstag/2028-04-04/
LOCATION:Heilig-Geist-Kirche\, Heilbronner Weg 17\, Heilbronn-Horkheim\, 74081
CATEGORIES:Gottesdienst
END:VEVENT
BEGIN:VEVENT
DTSTART;TZID=Europe/Berlin:20280411T183000
DTEND;TZID=Europe/Berlin:20280411T193000
DTSTAMP:20260420T174849
CREATED:20260327T115841Z
LAST-MODIFIED:20260327T115841Z
UID:10010480-1839090600-1839094200@martinus-hn.de
SUMMARY:Eucharistiefeier in Heilig Geist
DESCRIPTION:
URL:https://martinus-hn.de/veranstaltung/eucharistiefeier-in-heilig-geist-dienstag/2028-04-11/
LOCATION:Heilig-Geist-Kirche\, Heilbronner Weg 17\, Heilbronn-Horkheim\, 74081
CATEGORIES:Gottesdienst
END:VEVENT
BEGIN:VEVENT
DTSTART;TZID=Europe/Berlin:20280415T183000
DTEND;TZID=Europe/Berlin:20280415T193000
DTSTAMP:20260420T174849
CREATED:20260304T153850Z
LAST-MODIFIED:20260327T114702Z
UID:10009889-1839436200-1839439800@martinus-hn.de
SUMMARY:Eucharistiefeier in Heilig Geist
DESCRIPTION:
URL:https://martinus-hn.de/veranstaltung/eucharistiefeier-in-heilig-geist/2028-04-15/
LOCATION:Heilig-Geist-Kirche\, Heilbronner Weg 17\, Heilbronn-Horkheim\, 74081
CATEGORIES:Gottesdienst
END:VEVENT
BEGIN:VEVENT
DTSTART;TZID=Europe/Berlin:20280418T183000
DTEND;TZID=Europe/Berlin:20280418T193000
DTSTAMP:20260420T174849
CREATED:20260327T115841Z
LAST-MODIFIED:20260327T115841Z
UID:10010481-1839695400-1839699000@martinus-hn.de
SUMMARY:Eucharistiefeier in Heilig Geist
DESCRIPTION:
URL:https://martinus-hn.de/veranstaltung/eucharistiefeier-in-heilig-geist-dienstag/2028-04-18/
LOCATION:Heilig-Geist-Kirche\, Heilbronner Weg 17\, Heilbronn-Horkheim\, 74081
CATEGORIES:Gottesdienst
END:VEVENT
BEGIN:VEVENT
DTSTART;TZID=Europe/Berlin:20280425T183000
DTEND;TZID=Europe/Berlin:20280425T193000
DTSTAMP:20260420T174849
CREATED:20260327T115841Z
LAST-MODIFIED:20260327T115841Z
UID:10010482-1840300200-1840303800@martinus-hn.de
SUMMARY:Eucharistiefeier in Heilig Geist
DESCRIPTION:
URL:https://martinus-hn.de/veranstaltung/eucharistiefeier-in-heilig-geist-dienstag/2028-04-25/
LOCATION:Heilig-Geist-Kirche\, Heilbronner Weg 17\, Heilbronn-Horkheim\, 74081
CATEGORIES:Gottesdienst
END:VEVENT
BEGIN:VEVENT
DTSTART;TZID=Europe/Berlin:20280429T183000
DTEND;TZID=Europe/Berlin:20280429T193000
DTSTAMP:20260420T174849
CREATED:20260304T153850Z
LAST-MODIFIED:20260327T114702Z
UID:10009890-1840645800-1840649400@martinus-hn.de
SUMMARY:Eucharistiefeier in Heilig Geist
DESCRIPTION:
URL:https://martinus-hn.de/veranstaltung/eucharistiefeier-in-heilig-geist/2028-04-29/
LOCATION:Heilig-Geist-Kirche\, Heilbronner Weg 17\, Heilbronn-Horkheim\, 74081
CATEGORIES:Gottesdienst
END:VEVENT
BEGIN:VEVENT
DTSTART;TZID=Europe/Berlin:20280502T183000
DTEND;TZID=Europe/Berlin:20280502T193000
DTSTAMP:20260420T174849
CREATED:20260327T115841Z
LAST-MODIFIED:20260327T115841Z
UID:10010483-1840905000-1840908600@martinus-hn.de
SUMMARY:Eucharistiefeier in Heilig Geist
DESCRIPTION:
URL:https://martinus-hn.de/veranstaltung/eucharistiefeier-in-heilig-geist-dienstag/2028-05-02/
LOCATION:Heilig-Geist-Kirche\, Heilbronner Weg 17\, Heilbronn-Horkheim\, 74081
CATEGORIES:Gottesdienst
END:VEVENT
BEGIN:VEVENT
DTSTART;TZID=Europe/Berlin:20280509T183000
DTEND;TZID=Europe/Berlin:20280509T193000
DTSTAMP:20260420T174849
CREATED:20260327T115841Z
LAST-MODIFIED:20260327T115841Z
UID:10010484-1841509800-1841513400@martinus-hn.de
SUMMARY:Eucharistiefeier in Heilig Geist
DESCRIPTION:
URL:https://martinus-hn.de/veranstaltung/eucharistiefeier-in-heilig-geist-dienstag/2028-05-09/
LOCATION:Heilig-Geist-Kirche\, Heilbronner Weg 17\, Heilbronn-Horkheim\, 74081
CATEGORIES:Gottesdienst
END:VEVENT
BEGIN:VEVENT
DTSTART;TZID=Europe/Berlin:20280513T183000
DTEND;TZID=Europe/Berlin:20280513T193000
DTSTAMP:20260420T174849
CREATED:20260304T153850Z
LAST-MODIFIED:20260327T114702Z
UID:10009891-1841855400-1841859000@martinus-hn.de
SUMMARY:Eucharistiefeier in Heilig Geist
DESCRIPTION:
URL:https://martinus-hn.de/veranstaltung/eucharistiefeier-in-heilig-geist/2028-05-13/
LOCATION:Heilig-Geist-Kirche\, Heilbronner Weg 17\, Heilbronn-Horkheim\, 74081
CATEGORIES:Gottesdienst
END:VEVENT
BEGIN:VEVENT
DTSTART;TZID=Europe/Berlin:20280516T183000
DTEND;TZID=Europe/Berlin:20280516T193000
DTSTAMP:20260420T174849
CREATED:20260327T115841Z
LAST-MODIFIED:20260327T115841Z
UID:10010485-1842114600-1842118200@martinus-hn.de
SUMMARY:Eucharistiefeier in Heilig Geist
DESCRIPTION:
URL:https://martinus-hn.de/veranstaltung/eucharistiefeier-in-heilig-geist-dienstag/2028-05-16/
LOCATION:Heilig-Geist-Kirche\, Heilbronner Weg 17\, Heilbronn-Horkheim\, 74081
CATEGORIES:Gottesdienst
END:VEVENT
BEGIN:VEVENT
DTSTART;TZID=Europe/Berlin:20280523T183000
DTEND;TZID=Europe/Berlin:20280523T193000
DTSTAMP:20260420T174849
CREATED:20260327T115841Z
LAST-MODIFIED:20260327T115841Z
UID:10010486-1842719400-1842723000@martinus-hn.de
SUMMARY:Eucharistiefeier in Heilig Geist
DESCRIPTION:
URL:https://martinus-hn.de/veranstaltung/eucharistiefeier-in-heilig-geist-dienstag/2028-05-23/
LOCATION:Heilig-Geist-Kirche\, Heilbronner Weg 17\, Heilbronn-Horkheim\, 74081
CATEGORIES:Gottesdienst
END:VEVENT
BEGIN:VEVENT
DTSTART;TZID=Europe/Berlin:20280527T183000
DTEND;TZID=Europe/Berlin:20280527T193000
DTSTAMP:20260420T174849
CREATED:20260304T153850Z
LAST-MODIFIED:20260327T114702Z
UID:10009892-1843065000-1843068600@martinus-hn.de
SUMMARY:Eucharistiefeier in Heilig Geist
DESCRIPTION:
URL:https://martinus-hn.de/veranstaltung/eucharistiefeier-in-heilig-geist/2028-05-27/
LOCATION:Heilig-Geist-Kirche\, Heilbronner Weg 17\, Heilbronn-Horkheim\, 74081
CATEGORIES:Gottesdienst
END:VEVENT
BEGIN:VEVENT
DTSTART;TZID=Europe/Berlin:20280530T183000
DTEND;TZID=Europe/Berlin:20280530T193000
DTSTAMP:20260420T174849
CREATED:20260327T115841Z
LAST-MODIFIED:20260327T115841Z
UID:10010487-1843324200-1843327800@martinus-hn.de
SUMMARY:Eucharistiefeier in Heilig Geist
DESCRIPTION:
URL:https://martinus-hn.de/veranstaltung/eucharistiefeier-in-heilig-geist-dienstag/2028-05-30/
LOCATION:Heilig-Geist-Kirche\, Heilbronner Weg 17\, Heilbronn-Horkheim\, 74081
CATEGORIES:Gottesdienst
END:VEVENT
BEGIN:VEVENT
DTSTART;TZID=Europe/Berlin:20280606T183000
DTEND;TZID=Europe/Berlin:20280606T193000
DTSTAMP:20260420T174849
CREATED:20260327T115841Z
LAST-MODIFIED:20260327T115841Z
UID:10010488-1843929000-1843932600@martinus-hn.de
SUMMARY:Eucharistiefeier in Heilig Geist
DESCRIPTION:
URL:https://martinus-hn.de/veranstaltung/eucharistiefeier-in-heilig-geist-dienstag/2028-06-06/
LOCATION:Heilig-Geist-Kirche\, Heilbronner Weg 17\, Heilbronn-Horkheim\, 74081
CATEGORIES:Gottesdienst
END:VEVENT
BEGIN:VEVENT
DTSTART;TZID=Europe/Berlin:20280610T183000
DTEND;TZID=Europe/Berlin:20280610T193000
DTSTAMP:20260420T174849
CREATED:20260304T153850Z
LAST-MODIFIED:20260327T114702Z
UID:10009893-1844274600-1844278200@martinus-hn.de
SUMMARY:Eucharistiefeier in Heilig Geist
DESCRIPTION:
URL:https://martinus-hn.de/veranstaltung/eucharistiefeier-in-heilig-geist/2028-06-10/
LOCATION:Heilig-Geist-Kirche\, Heilbronner Weg 17\, Heilbronn-Horkheim\, 74081
CATEGORIES:Gottesdienst
END:VEVENT
BEGIN:VEVENT
DTSTART;TZID=Europe/Berlin:20280613T183000
DTEND;TZID=Europe/Berlin:20280613T193000
DTSTAMP:20260420T174849
CREATED:20260327T115841Z
LAST-MODIFIED:20260327T115841Z
UID:10010489-1844533800-1844537400@martinus-hn.de
SUMMARY:Eucharistiefeier in Heilig Geist
DESCRIPTION:
URL:https://martinus-hn.de/veranstaltung/eucharistiefeier-in-heilig-geist-dienstag/2028-06-13/
LOCATION:Heilig-Geist-Kirche\, Heilbronner Weg 17\, Heilbronn-Horkheim\, 74081
CATEGORIES:Gottesdienst
END:VEVENT
END:VCALENDAR