BEGIN:VCALENDAR
VERSION:2.0
PRODID:-//St. Martinus Heilbronn-Sontheim - ECPv6.10.2//NONSGML v1.0//EN
CALSCALE:GREGORIAN
METHOD:PUBLISH
X-WR-CALNAME:St. Martinus Heilbronn-Sontheim
X-ORIGINAL-URL:https://martinus-hn.de
X-WR-CALDESC:Veranstaltungen für St. Martinus Heilbronn-Sontheim
REFRESH-INTERVAL;VALUE=DURATION:PT1H
X-Robots-Tag:noindex
X-PUBLISHED-TTL:PT1H
BEGIN:VTIMEZONE
TZID:Europe/Berlin
BEGIN:DAYLIGHT
TZOFFSETFROM:+0100
TZOFFSETTO:+0200
TZNAME:CEST
DTSTART:20260329T010000
END:DAYLIGHT
BEGIN:STANDARD
TZOFFSETFROM:+0200
TZOFFSETTO:+0100
TZNAME:CET
DTSTART:20261025T010000
END:STANDARD
END:VTIMEZONE
BEGIN:VEVENT
DTSTART;TZID=Europe/Berlin:20260421T183000
DTEND;TZID=Europe/Berlin:20260421T193000
DTSTAMP:20260419T173227
CREATED:20260327T115841Z
LAST-MODIFIED:20260327T115841Z
UID:10010377-1776796200-1776799800@martinus-hn.de
SUMMARY:Eucharistiefeier in Heilig Geist
DESCRIPTION:
URL:https://martinus-hn.de/veranstaltung/eucharistiefeier-in-heilig-geist-dienstag/2026-04-21/
LOCATION:Heilig-Geist-Kirche\, Heilbronner Weg 17\, Heilbronn-Horkheim\, 74081
CATEGORIES:Gottesdienst
END:VEVENT
BEGIN:VEVENT
DTSTART;TZID=Europe/Berlin:20260428T183000
DTEND;TZID=Europe/Berlin:20260428T193000
DTSTAMP:20260419T173227
CREATED:20260327T141125Z
LAST-MODIFIED:20260327T141141Z
UID:10010378-1777401000-1777404600@martinus-hn.de
SUMMARY:Wort-Gottes-Feier in Heilig Geist
DESCRIPTION:
URL:https://martinus-hn.de/veranstaltung/eucharistiefeier-in-heilig-geist-4/
LOCATION:Heilig-Geist-Kirche\, Heilbronner Weg 17\, Heilbronn-Horkheim\, 74081
CATEGORIES:Gottesdienst
END:VEVENT
BEGIN:VEVENT
DTSTART;TZID=Europe/Berlin:20260502T183000
DTEND;TZID=Europe/Berlin:20260502T193000
DTSTAMP:20260419T173227
CREATED:20260327T141255Z
LAST-MODIFIED:20260327T141313Z
UID:10009838-1777746600-1777750200@martinus-hn.de
SUMMARY:Wort-Gottes-Feier in Heilig Geist
DESCRIPTION:
URL:https://martinus-hn.de/veranstaltung/eucharistiefeier-in-heilig-geist-5/
LOCATION:Heilig-Geist-Kirche\, Heilbronner Weg 17\, Heilbronn-Horkheim\, 74081
CATEGORIES:Gottesdienst
END:VEVENT
BEGIN:VEVENT
DTSTART;TZID=Europe/Berlin:20260505T183000
DTEND;TZID=Europe/Berlin:20260505T193000
DTSTAMP:20260419T173227
CREATED:20260327T115841Z
LAST-MODIFIED:20260327T115841Z
UID:10010379-1778005800-1778009400@martinus-hn.de
SUMMARY:Eucharistiefeier in Heilig Geist
DESCRIPTION:
URL:https://martinus-hn.de/veranstaltung/eucharistiefeier-in-heilig-geist-dienstag/2026-05-05/
LOCATION:Heilig-Geist-Kirche\, Heilbronner Weg 17\, Heilbronn-Horkheim\, 74081
CATEGORIES:Gottesdienst
END:VEVENT
BEGIN:VEVENT
DTSTART;TZID=Europe/Berlin:20260512T183000
DTEND;TZID=Europe/Berlin:20260512T193000
DTSTAMP:20260419T173227
CREATED:20260327T115841Z
LAST-MODIFIED:20260327T115841Z
UID:10010380-1778610600-1778614200@martinus-hn.de
SUMMARY:Eucharistiefeier in Heilig Geist
DESCRIPTION:
URL:https://martinus-hn.de/veranstaltung/eucharistiefeier-in-heilig-geist-dienstag/2026-05-12/
LOCATION:Heilig-Geist-Kirche\, Heilbronner Weg 17\, Heilbronn-Horkheim\, 74081
CATEGORIES:Gottesdienst
END:VEVENT
BEGIN:VEVENT
DTSTART;TZID=Europe/Berlin:20260516T183000
DTEND;TZID=Europe/Berlin:20260516T193000
DTSTAMP:20260419T173227
CREATED:20260304T153850Z
LAST-MODIFIED:20260327T114702Z
UID:10009839-1778956200-1778959800@martinus-hn.de
SUMMARY:Eucharistiefeier in Heilig Geist
DESCRIPTION:
URL:https://martinus-hn.de/veranstaltung/eucharistiefeier-in-heilig-geist/2026-05-16/
LOCATION:Heilig-Geist-Kirche\, Heilbronner Weg 17\, Heilbronn-Horkheim\, 74081
CATEGORIES:Gottesdienst
END:VEVENT
BEGIN:VEVENT
DTSTART;TZID=Europe/Berlin:20260519T183000
DTEND;TZID=Europe/Berlin:20260519T193000
DTSTAMP:20260419T173227
CREATED:20260327T115841Z
LAST-MODIFIED:20260327T115841Z
UID:10010381-1779215400-1779219000@martinus-hn.de
SUMMARY:Eucharistiefeier in Heilig Geist
DESCRIPTION:
URL:https://martinus-hn.de/veranstaltung/eucharistiefeier-in-heilig-geist-dienstag/2026-05-19/
LOCATION:Heilig-Geist-Kirche\, Heilbronner Weg 17\, Heilbronn-Horkheim\, 74081
CATEGORIES:Gottesdienst
END:VEVENT
BEGIN:VEVENT
DTSTART;TZID=Europe/Berlin:20260524T103000
DTEND;TZID=Europe/Berlin:20260524T113000
DTSTAMP:20260419T173227
CREATED:20260327T142154Z
LAST-MODIFIED:20260327T142429Z
UID:10010919-1779618600-1779622200@martinus-hn.de
SUMMARY:Festliche Eucharistiefeier zu Pfingsten und zum Patrozinium in Heilig Geist
DESCRIPTION:mitgestaltet vom Heilig-Geist-Chor
URL:https://martinus-hn.de/veranstaltung/eucharistiefeier-in-st-martinus-4/
LOCATION:Heilig-Geist-Kirche\, Heilbronner Weg 17\, Heilbronn-Horkheim\, 74081
CATEGORIES:Besondere Gottesdienste,Gottesdienst,Heilig-Geist-Chor
END:VEVENT
BEGIN:VEVENT
DTSTART;TZID=Europe/Berlin:20260526T183000
DTEND;TZID=Europe/Berlin:20260526T193000
DTSTAMP:20260419T173227
CREATED:20260327T142642Z
LAST-MODIFIED:20260327T142703Z
UID:10010382-1779820200-1779823800@martinus-hn.de
SUMMARY:Eucharistiefeier in Heilig Geist - ENTFÄLLT
DESCRIPTION:
URL:https://martinus-hn.de/veranstaltung/eucharistiefeier-in-heilig-geist-6/
LOCATION:Heilig-Geist-Kirche\, Heilbronner Weg 17\, Heilbronn-Horkheim\, 74081
CATEGORIES:Gottesdienst
END:VEVENT
BEGIN:VEVENT
DTSTART;TZID=Europe/Berlin:20260530T183000
DTEND;TZID=Europe/Berlin:20260530T193000
DTSTAMP:20260419T173227
CREATED:20260327T142758Z
LAST-MODIFIED:20260327T142844Z
UID:10009840-1780165800-1780169400@martinus-hn.de
SUMMARY:Wort-Gottes-Feier in Heilig Geist
DESCRIPTION:
URL:https://martinus-hn.de/veranstaltung/eucharistiefeier-in-heilig-geist-7/
LOCATION:Heilig-Geist-Kirche\, Heilbronner Weg 17\, Heilbronn-Horkheim\, 74081
CATEGORIES:Gottesdienst
END:VEVENT
BEGIN:VEVENT
DTSTART;TZID=Europe/Berlin:20260602T183000
DTEND;TZID=Europe/Berlin:20260602T193000
DTSTAMP:20260419T173227
CREATED:20260327T115841Z
LAST-MODIFIED:20260327T115841Z
UID:10010383-1780425000-1780428600@martinus-hn.de
SUMMARY:Eucharistiefeier in Heilig Geist
DESCRIPTION:
URL:https://martinus-hn.de/veranstaltung/eucharistiefeier-in-heilig-geist-dienstag/2026-06-02/
LOCATION:Heilig-Geist-Kirche\, Heilbronner Weg 17\, Heilbronn-Horkheim\, 74081
CATEGORIES:Gottesdienst
END:VEVENT
BEGIN:VEVENT
DTSTART;TZID=Europe/Berlin:20260609T183000
DTEND;TZID=Europe/Berlin:20260609T193000
DTSTAMP:20260419T173227
CREATED:20260327T115841Z
LAST-MODIFIED:20260327T115841Z
UID:10010384-1781029800-1781033400@martinus-hn.de
SUMMARY:Eucharistiefeier in Heilig Geist
DESCRIPTION:
URL:https://martinus-hn.de/veranstaltung/eucharistiefeier-in-heilig-geist-dienstag/2026-06-09/
LOCATION:Heilig-Geist-Kirche\, Heilbronner Weg 17\, Heilbronn-Horkheim\, 74081
CATEGORIES:Gottesdienst
END:VEVENT
BEGIN:VEVENT
DTSTART;TZID=Europe/Berlin:20260613T183000
DTEND;TZID=Europe/Berlin:20260613T193000
DTSTAMP:20260419T173227
CREATED:20260304T153850Z
LAST-MODIFIED:20260327T114702Z
UID:10009841-1781375400-1781379000@martinus-hn.de
SUMMARY:Eucharistiefeier in Heilig Geist
DESCRIPTION:
URL:https://martinus-hn.de/veranstaltung/eucharistiefeier-in-heilig-geist/2026-06-13/
LOCATION:Heilig-Geist-Kirche\, Heilbronner Weg 17\, Heilbronn-Horkheim\, 74081
CATEGORIES:Gottesdienst
END:VEVENT
BEGIN:VEVENT
DTSTART;TZID=Europe/Berlin:20260616T183000
DTEND;TZID=Europe/Berlin:20260616T193000
DTSTAMP:20260419T173227
CREATED:20260327T143330Z
LAST-MODIFIED:20260327T143346Z
UID:10010385-1781634600-1781638200@martinus-hn.de
SUMMARY:Wort-Gottes-Feier in Heilig Geist
DESCRIPTION:
URL:https://martinus-hn.de/veranstaltung/eucharistiefeier-in-heilig-geist-8/
LOCATION:Heilig-Geist-Kirche\, Heilbronner Weg 17\, Heilbronn-Horkheim\, 74081
CATEGORIES:Gottesdienst
END:VEVENT
BEGIN:VEVENT
DTSTART;TZID=Europe/Berlin:20260623T183000
DTEND;TZID=Europe/Berlin:20260623T193000
DTSTAMP:20260419T173227
CREATED:20260327T115841Z
LAST-MODIFIED:20260327T115841Z
UID:10010386-1782239400-1782243000@martinus-hn.de
SUMMARY:Eucharistiefeier in Heilig Geist
DESCRIPTION:
URL:https://martinus-hn.de/veranstaltung/eucharistiefeier-in-heilig-geist-dienstag/2026-06-23/
LOCATION:Heilig-Geist-Kirche\, Heilbronner Weg 17\, Heilbronn-Horkheim\, 74081
CATEGORIES:Gottesdienst
END:VEVENT
BEGIN:VEVENT
DTSTART;TZID=Europe/Berlin:20260627T183000
DTEND;TZID=Europe/Berlin:20260627T193000
DTSTAMP:20260419T173227
CREATED:20260304T153850Z
LAST-MODIFIED:20260327T114702Z
UID:10009842-1782585000-1782588600@martinus-hn.de
SUMMARY:Eucharistiefeier in Heilig Geist
DESCRIPTION:
URL:https://martinus-hn.de/veranstaltung/eucharistiefeier-in-heilig-geist/2026-06-27/
LOCATION:Heilig-Geist-Kirche\, Heilbronner Weg 17\, Heilbronn-Horkheim\, 74081
CATEGORIES:Gottesdienst
END:VEVENT
BEGIN:VEVENT
DTSTART;TZID=Europe/Berlin:20260630T183000
DTEND;TZID=Europe/Berlin:20260630T193000
DTSTAMP:20260419T173227
CREATED:20260327T115841Z
LAST-MODIFIED:20260327T115841Z
UID:10010387-1782844200-1782847800@martinus-hn.de
SUMMARY:Eucharistiefeier in Heilig Geist
DESCRIPTION:
URL:https://martinus-hn.de/veranstaltung/eucharistiefeier-in-heilig-geist-dienstag/2026-06-30/
LOCATION:Heilig-Geist-Kirche\, Heilbronner Weg 17\, Heilbronn-Horkheim\, 74081
CATEGORIES:Gottesdienst
END:VEVENT
BEGIN:VEVENT
DTSTART;TZID=Europe/Berlin:20260707T183000
DTEND;TZID=Europe/Berlin:20260707T193000
DTSTAMP:20260419T173227
CREATED:20260327T115841Z
LAST-MODIFIED:20260327T115841Z
UID:10010388-1783449000-1783452600@martinus-hn.de
SUMMARY:Eucharistiefeier in Heilig Geist
DESCRIPTION:
URL:https://martinus-hn.de/veranstaltung/eucharistiefeier-in-heilig-geist-dienstag/2026-07-07/
LOCATION:Heilig-Geist-Kirche\, Heilbronner Weg 17\, Heilbronn-Horkheim\, 74081
CATEGORIES:Gottesdienst
END:VEVENT
BEGIN:VEVENT
DTSTART;TZID=Europe/Berlin:20260711T183000
DTEND;TZID=Europe/Berlin:20260711T193000
DTSTAMP:20260419T173227
CREATED:20260304T153850Z
LAST-MODIFIED:20260327T114702Z
UID:10009843-1783794600-1783798200@martinus-hn.de
SUMMARY:Eucharistiefeier in Heilig Geist
DESCRIPTION:
URL:https://martinus-hn.de/veranstaltung/eucharistiefeier-in-heilig-geist/2026-07-11/
LOCATION:Heilig-Geist-Kirche\, Heilbronner Weg 17\, Heilbronn-Horkheim\, 74081
CATEGORIES:Gottesdienst
END:VEVENT
BEGIN:VEVENT
DTSTART;TZID=Europe/Berlin:20260714T183000
DTEND;TZID=Europe/Berlin:20260714T193000
DTSTAMP:20260419T173227
CREATED:20260327T115841Z
LAST-MODIFIED:20260327T115841Z
UID:10010389-1784053800-1784057400@martinus-hn.de
SUMMARY:Eucharistiefeier in Heilig Geist
DESCRIPTION:
URL:https://martinus-hn.de/veranstaltung/eucharistiefeier-in-heilig-geist-dienstag/2026-07-14/
LOCATION:Heilig-Geist-Kirche\, Heilbronner Weg 17\, Heilbronn-Horkheim\, 74081
CATEGORIES:Gottesdienst
END:VEVENT
BEGIN:VEVENT
DTSTART;TZID=Europe/Berlin:20260721T183000
DTEND;TZID=Europe/Berlin:20260721T193000
DTSTAMP:20260419T173227
CREATED:20260327T115841Z
LAST-MODIFIED:20260327T115841Z
UID:10010390-1784658600-1784662200@martinus-hn.de
SUMMARY:Eucharistiefeier in Heilig Geist
DESCRIPTION:
URL:https://martinus-hn.de/veranstaltung/eucharistiefeier-in-heilig-geist-dienstag/2026-07-21/
LOCATION:Heilig-Geist-Kirche\, Heilbronner Weg 17\, Heilbronn-Horkheim\, 74081
CATEGORIES:Gottesdienst
END:VEVENT
BEGIN:VEVENT
DTSTART;TZID=Europe/Berlin:20260725T183000
DTEND;TZID=Europe/Berlin:20260725T193000
DTSTAMP:20260419T173227
CREATED:20260304T153850Z
LAST-MODIFIED:20260327T114702Z
UID:10009844-1785004200-1785007800@martinus-hn.de
SUMMARY:Eucharistiefeier in Heilig Geist
DESCRIPTION:
URL:https://martinus-hn.de/veranstaltung/eucharistiefeier-in-heilig-geist/2026-07-25/
LOCATION:Heilig-Geist-Kirche\, Heilbronner Weg 17\, Heilbronn-Horkheim\, 74081
CATEGORIES:Gottesdienst
END:VEVENT
BEGIN:VEVENT
DTSTART;TZID=Europe/Berlin:20260728T183000
DTEND;TZID=Europe/Berlin:20260728T193000
DTSTAMP:20260419T173227
CREATED:20260327T115841Z
LAST-MODIFIED:20260327T115841Z
UID:10010391-1785263400-1785267000@martinus-hn.de
SUMMARY:Eucharistiefeier in Heilig Geist
DESCRIPTION:
URL:https://martinus-hn.de/veranstaltung/eucharistiefeier-in-heilig-geist-dienstag/2026-07-28/
LOCATION:Heilig-Geist-Kirche\, Heilbronner Weg 17\, Heilbronn-Horkheim\, 74081
CATEGORIES:Gottesdienst
END:VEVENT
BEGIN:VEVENT
DTSTART;TZID=Europe/Berlin:20260804T183000
DTEND;TZID=Europe/Berlin:20260804T193000
DTSTAMP:20260419T173227
CREATED:20260327T115841Z
LAST-MODIFIED:20260327T115841Z
UID:10010392-1785868200-1785871800@martinus-hn.de
SUMMARY:Eucharistiefeier in Heilig Geist
DESCRIPTION:
URL:https://martinus-hn.de/veranstaltung/eucharistiefeier-in-heilig-geist-dienstag/2026-08-04/
LOCATION:Heilig-Geist-Kirche\, Heilbronner Weg 17\, Heilbronn-Horkheim\, 74081
CATEGORIES:Gottesdienst
END:VEVENT
BEGIN:VEVENT
DTSTART;TZID=Europe/Berlin:20260808T183000
DTEND;TZID=Europe/Berlin:20260808T193000
DTSTAMP:20260419T173227
CREATED:20260304T153850Z
LAST-MODIFIED:20260327T114702Z
UID:10009845-1786213800-1786217400@martinus-hn.de
SUMMARY:Eucharistiefeier in Heilig Geist
DESCRIPTION:
URL:https://martinus-hn.de/veranstaltung/eucharistiefeier-in-heilig-geist/2026-08-08/
LOCATION:Heilig-Geist-Kirche\, Heilbronner Weg 17\, Heilbronn-Horkheim\, 74081
CATEGORIES:Gottesdienst
END:VEVENT
BEGIN:VEVENT
DTSTART;TZID=Europe/Berlin:20260811T183000
DTEND;TZID=Europe/Berlin:20260811T193000
DTSTAMP:20260419T173227
CREATED:20260327T115841Z
LAST-MODIFIED:20260327T115841Z
UID:10010393-1786473000-1786476600@martinus-hn.de
SUMMARY:Eucharistiefeier in Heilig Geist
DESCRIPTION:
URL:https://martinus-hn.de/veranstaltung/eucharistiefeier-in-heilig-geist-dienstag/2026-08-11/
LOCATION:Heilig-Geist-Kirche\, Heilbronner Weg 17\, Heilbronn-Horkheim\, 74081
CATEGORIES:Gottesdienst
END:VEVENT
BEGIN:VEVENT
DTSTART;TZID=Europe/Berlin:20260818T183000
DTEND;TZID=Europe/Berlin:20260818T193000
DTSTAMP:20260419T173227
CREATED:20260327T115841Z
LAST-MODIFIED:20260327T115841Z
UID:10010394-1787077800-1787081400@martinus-hn.de
SUMMARY:Eucharistiefeier in Heilig Geist
DESCRIPTION:
URL:https://martinus-hn.de/veranstaltung/eucharistiefeier-in-heilig-geist-dienstag/2026-08-18/
LOCATION:Heilig-Geist-Kirche\, Heilbronner Weg 17\, Heilbronn-Horkheim\, 74081
CATEGORIES:Gottesdienst
END:VEVENT
BEGIN:VEVENT
DTSTART;TZID=Europe/Berlin:20260822T183000
DTEND;TZID=Europe/Berlin:20260822T193000
DTSTAMP:20260419T173227
CREATED:20260304T153850Z
LAST-MODIFIED:20260327T114702Z
UID:10009846-1787423400-1787427000@martinus-hn.de
SUMMARY:Eucharistiefeier in Heilig Geist
DESCRIPTION:
URL:https://martinus-hn.de/veranstaltung/eucharistiefeier-in-heilig-geist/2026-08-22/
LOCATION:Heilig-Geist-Kirche\, Heilbronner Weg 17\, Heilbronn-Horkheim\, 74081
CATEGORIES:Gottesdienst
END:VEVENT
BEGIN:VEVENT
DTSTART;TZID=Europe/Berlin:20260825T183000
DTEND;TZID=Europe/Berlin:20260825T193000
DTSTAMP:20260419T173227
CREATED:20260327T115841Z
LAST-MODIFIED:20260327T115841Z
UID:10010395-1787682600-1787686200@martinus-hn.de
SUMMARY:Eucharistiefeier in Heilig Geist
DESCRIPTION:
URL:https://martinus-hn.de/veranstaltung/eucharistiefeier-in-heilig-geist-dienstag/2026-08-25/
LOCATION:Heilig-Geist-Kirche\, Heilbronner Weg 17\, Heilbronn-Horkheim\, 74081
CATEGORIES:Gottesdienst
END:VEVENT
BEGIN:VEVENT
DTSTART;TZID=Europe/Berlin:20260901T183000
DTEND;TZID=Europe/Berlin:20260901T193000
DTSTAMP:20260419T173227
CREATED:20260327T115841Z
LAST-MODIFIED:20260327T115841Z
UID:10010396-1788287400-1788291000@martinus-hn.de
SUMMARY:Eucharistiefeier in Heilig Geist
DESCRIPTION:
URL:https://martinus-hn.de/veranstaltung/eucharistiefeier-in-heilig-geist-dienstag/2026-09-01/
LOCATION:Heilig-Geist-Kirche\, Heilbronner Weg 17\, Heilbronn-Horkheim\, 74081
CATEGORIES:Gottesdienst
END:VEVENT
END:VCALENDAR