BEGIN:VCALENDAR
VERSION:2.0
PRODID:-//St. Martinus Heilbronn-Sontheim - ECPv6.10.2//NONSGML v1.0//EN
CALSCALE:GREGORIAN
METHOD:PUBLISH
X-WR-CALNAME:St. Martinus Heilbronn-Sontheim
X-ORIGINAL-URL:https://martinus-hn.de
X-WR-CALDESC:Veranstaltungen für St. Martinus Heilbronn-Sontheim
REFRESH-INTERVAL;VALUE=DURATION:PT1H
X-Robots-Tag:noindex
X-PUBLISHED-TTL:PT1H
BEGIN:VTIMEZONE
TZID:Europe/Berlin
BEGIN:DAYLIGHT
TZOFFSETFROM:+0100
TZOFFSETTO:+0200
TZNAME:CEST
DTSTART:20300331T010000
END:DAYLIGHT
BEGIN:STANDARD
TZOFFSETFROM:+0200
TZOFFSETTO:+0100
TZNAME:CET
DTSTART:20301027T010000
END:STANDARD
END:VTIMEZONE
BEGIN:VEVENT
DTSTART;TZID=Europe/Berlin:20300404T183000
DTEND;TZID=Europe/Berlin:20300404T193000
DTSTAMP:20260426T043752
CREATED:20260327T120443Z
LAST-MODIFIED:20260327T120518Z
UID:10010856-1901557800-1901561400@martinus-hn.de
SUMMARY:Eucharistiefeier in St. Maximilian Kolbe
DESCRIPTION:
URL:https://martinus-hn.de/veranstaltung/eucharistiefeier-in-st-maximilian-kolbe-donnerstag/2030-04-04/
LOCATION:St. Maximilian Kolbe\, Jörg-Ratgeb-Platz 25\, Heilbronn-Sontheim\, 74081
CATEGORIES:Gottesdienst
END:VEVENT
BEGIN:VEVENT
DTSTART;TZID=Europe/Berlin:20300406T183000
DTEND;TZID=Europe/Berlin:20300406T193000
DTSTAMP:20260426T043752
CREATED:20260327T114344Z
LAST-MODIFIED:20260327T114457Z
UID:10009808-1901730600-1901734200@martinus-hn.de
SUMMARY:Eucharistiefeier in St. Maximilian Kolbe
DESCRIPTION:
URL:https://martinus-hn.de/veranstaltung/eucharistiefeier-in-st-maximilian-kolbe/2030-04-06/
LOCATION:St. Maximilian Kolbe\, Jörg-Ratgeb-Platz 25\, Heilbronn-Sontheim\, 74081
CATEGORIES:Gottesdienst
END:VEVENT
BEGIN:VEVENT
DTSTART;TZID=Europe/Berlin:20300407T103000
DTEND;TZID=Europe/Berlin:20300407T113000
DTSTAMP:20260426T043752
CREATED:20260327T120935Z
LAST-MODIFIED:20260327T120935Z
UID:10011121-1901788200-1901791800@martinus-hn.de
SUMMARY:Eucharistiefeier in St. Martinus
DESCRIPTION:
URL:https://martinus-hn.de/veranstaltung/eucharistiefeier-in-st-martinus/2030-04-07/
LOCATION:St. Martinus\, Auf dem Bau 1\, Heilbronn-Sontheim\, 74081\, Deutschland
CATEGORIES:Gottesdienst
END:VEVENT
BEGIN:VEVENT
DTSTART;TZID=Europe/Berlin:20300409T183000
DTEND;TZID=Europe/Berlin:20300409T193000
DTSTAMP:20260426T043752
CREATED:20260327T115841Z
LAST-MODIFIED:20260327T115841Z
UID:10010584-1901989800-1901993400@martinus-hn.de
SUMMARY:Eucharistiefeier in Heilig Geist
DESCRIPTION:
URL:https://martinus-hn.de/veranstaltung/eucharistiefeier-in-heilig-geist-dienstag/2030-04-09/
LOCATION:Heilig-Geist-Kirche\, Heilbronner Weg 17\, Heilbronn-Horkheim\, 74081
CATEGORIES:Gottesdienst
END:VEVENT
BEGIN:VEVENT
DTSTART;TZID=Europe/Berlin:20300411T183000
DTEND;TZID=Europe/Berlin:20300411T193000
DTSTAMP:20260426T043752
CREATED:20260327T120443Z
LAST-MODIFIED:20260327T120518Z
UID:10010857-1902162600-1902166200@martinus-hn.de
SUMMARY:Eucharistiefeier in St. Maximilian Kolbe
DESCRIPTION:
URL:https://martinus-hn.de/veranstaltung/eucharistiefeier-in-st-maximilian-kolbe-donnerstag/2030-04-11/
LOCATION:St. Maximilian Kolbe\, Jörg-Ratgeb-Platz 25\, Heilbronn-Sontheim\, 74081
CATEGORIES:Gottesdienst
END:VEVENT
BEGIN:VEVENT
DTSTART;TZID=Europe/Berlin:20300413T183000
DTEND;TZID=Europe/Berlin:20300413T193000
DTSTAMP:20260426T043752
CREATED:20260304T153850Z
LAST-MODIFIED:20260327T114702Z
UID:10009941-1902335400-1902339000@martinus-hn.de
SUMMARY:Eucharistiefeier in Heilig Geist
DESCRIPTION:
URL:https://martinus-hn.de/veranstaltung/eucharistiefeier-in-heilig-geist/2030-04-13/
LOCATION:Heilig-Geist-Kirche\, Heilbronner Weg 17\, Heilbronn-Horkheim\, 74081
CATEGORIES:Gottesdienst
END:VEVENT
BEGIN:VEVENT
DTSTART;TZID=Europe/Berlin:20300414T103000
DTEND;TZID=Europe/Berlin:20300414T113000
DTSTAMP:20260426T043752
CREATED:20260327T120935Z
LAST-MODIFIED:20260327T120935Z
UID:10011122-1902393000-1902396600@martinus-hn.de
SUMMARY:Eucharistiefeier in St. Martinus
DESCRIPTION:
URL:https://martinus-hn.de/veranstaltung/eucharistiefeier-in-st-martinus/2030-04-14/
LOCATION:St. Martinus\, Auf dem Bau 1\, Heilbronn-Sontheim\, 74081\, Deutschland
CATEGORIES:Gottesdienst
END:VEVENT
BEGIN:VEVENT
DTSTART;TZID=Europe/Berlin:20300416T183000
DTEND;TZID=Europe/Berlin:20300416T193000
DTSTAMP:20260426T043752
CREATED:20260327T115841Z
LAST-MODIFIED:20260327T115841Z
UID:10010585-1902594600-1902598200@martinus-hn.de
SUMMARY:Eucharistiefeier in Heilig Geist
DESCRIPTION:
URL:https://martinus-hn.de/veranstaltung/eucharistiefeier-in-heilig-geist-dienstag/2030-04-16/
LOCATION:Heilig-Geist-Kirche\, Heilbronner Weg 17\, Heilbronn-Horkheim\, 74081
CATEGORIES:Gottesdienst
END:VEVENT
BEGIN:VEVENT
DTSTART;TZID=Europe/Berlin:20300418T183000
DTEND;TZID=Europe/Berlin:20300418T193000
DTSTAMP:20260426T043752
CREATED:20260327T120443Z
LAST-MODIFIED:20260327T120518Z
UID:10010858-1902767400-1902771000@martinus-hn.de
SUMMARY:Eucharistiefeier in St. Maximilian Kolbe
DESCRIPTION:
URL:https://martinus-hn.de/veranstaltung/eucharistiefeier-in-st-maximilian-kolbe-donnerstag/2030-04-18/
LOCATION:St. Maximilian Kolbe\, Jörg-Ratgeb-Platz 25\, Heilbronn-Sontheim\, 74081
CATEGORIES:Gottesdienst
END:VEVENT
BEGIN:VEVENT
DTSTART;TZID=Europe/Berlin:20300420T183000
DTEND;TZID=Europe/Berlin:20300420T193000
DTSTAMP:20260426T043752
CREATED:20260327T114344Z
LAST-MODIFIED:20260327T114457Z
UID:10009809-1902940200-1902943800@martinus-hn.de
SUMMARY:Eucharistiefeier in St. Maximilian Kolbe
DESCRIPTION:
URL:https://martinus-hn.de/veranstaltung/eucharistiefeier-in-st-maximilian-kolbe/2030-04-20/
LOCATION:St. Maximilian Kolbe\, Jörg-Ratgeb-Platz 25\, Heilbronn-Sontheim\, 74081
CATEGORIES:Gottesdienst
END:VEVENT
BEGIN:VEVENT
DTSTART;TZID=Europe/Berlin:20300421T103000
DTEND;TZID=Europe/Berlin:20300421T113000
DTSTAMP:20260426T043752
CREATED:20260327T120935Z
LAST-MODIFIED:20260327T120935Z
UID:10011123-1902997800-1903001400@martinus-hn.de
SUMMARY:Eucharistiefeier in St. Martinus
DESCRIPTION:
URL:https://martinus-hn.de/veranstaltung/eucharistiefeier-in-st-martinus/2030-04-21/
LOCATION:St. Martinus\, Auf dem Bau 1\, Heilbronn-Sontheim\, 74081\, Deutschland
CATEGORIES:Gottesdienst
END:VEVENT
BEGIN:VEVENT
DTSTART;TZID=Europe/Berlin:20300423T183000
DTEND;TZID=Europe/Berlin:20300423T193000
DTSTAMP:20260426T043752
CREATED:20260327T115841Z
LAST-MODIFIED:20260327T115841Z
UID:10010586-1903199400-1903203000@martinus-hn.de
SUMMARY:Eucharistiefeier in Heilig Geist
DESCRIPTION:
URL:https://martinus-hn.de/veranstaltung/eucharistiefeier-in-heilig-geist-dienstag/2030-04-23/
LOCATION:Heilig-Geist-Kirche\, Heilbronner Weg 17\, Heilbronn-Horkheim\, 74081
CATEGORIES:Gottesdienst
END:VEVENT
BEGIN:VEVENT
DTSTART;TZID=Europe/Berlin:20300425T183000
DTEND;TZID=Europe/Berlin:20300425T193000
DTSTAMP:20260426T043752
CREATED:20260327T120443Z
LAST-MODIFIED:20260327T120518Z
UID:10010859-1903372200-1903375800@martinus-hn.de
SUMMARY:Eucharistiefeier in St. Maximilian Kolbe
DESCRIPTION:
URL:https://martinus-hn.de/veranstaltung/eucharistiefeier-in-st-maximilian-kolbe-donnerstag/2030-04-25/
LOCATION:St. Maximilian Kolbe\, Jörg-Ratgeb-Platz 25\, Heilbronn-Sontheim\, 74081
CATEGORIES:Gottesdienst
END:VEVENT
BEGIN:VEVENT
DTSTART;TZID=Europe/Berlin:20300427T183000
DTEND;TZID=Europe/Berlin:20300427T193000
DTSTAMP:20260426T043752
CREATED:20260304T153850Z
LAST-MODIFIED:20260327T114702Z
UID:10009942-1903545000-1903548600@martinus-hn.de
SUMMARY:Eucharistiefeier in Heilig Geist
DESCRIPTION:
URL:https://martinus-hn.de/veranstaltung/eucharistiefeier-in-heilig-geist/2030-04-27/
LOCATION:Heilig-Geist-Kirche\, Heilbronner Weg 17\, Heilbronn-Horkheim\, 74081
CATEGORIES:Gottesdienst
END:VEVENT
BEGIN:VEVENT
DTSTART;TZID=Europe/Berlin:20300428T103000
DTEND;TZID=Europe/Berlin:20300428T113000
DTSTAMP:20260426T043752
CREATED:20260327T120935Z
LAST-MODIFIED:20260327T120935Z
UID:10011124-1903602600-1903606200@martinus-hn.de
SUMMARY:Eucharistiefeier in St. Martinus
DESCRIPTION:
URL:https://martinus-hn.de/veranstaltung/eucharistiefeier-in-st-martinus/2030-04-28/
LOCATION:St. Martinus\, Auf dem Bau 1\, Heilbronn-Sontheim\, 74081\, Deutschland
CATEGORIES:Gottesdienst
END:VEVENT
BEGIN:VEVENT
DTSTART;TZID=Europe/Berlin:20300430T183000
DTEND;TZID=Europe/Berlin:20300430T193000
DTSTAMP:20260426T043752
CREATED:20260327T115841Z
LAST-MODIFIED:20260327T115841Z
UID:10010587-1903804200-1903807800@martinus-hn.de
SUMMARY:Eucharistiefeier in Heilig Geist
DESCRIPTION:
URL:https://martinus-hn.de/veranstaltung/eucharistiefeier-in-heilig-geist-dienstag/2030-04-30/
LOCATION:Heilig-Geist-Kirche\, Heilbronner Weg 17\, Heilbronn-Horkheim\, 74081
CATEGORIES:Gottesdienst
END:VEVENT
BEGIN:VEVENT
DTSTART;TZID=Europe/Berlin:20300502T183000
DTEND;TZID=Europe/Berlin:20300502T193000
DTSTAMP:20260426T043752
CREATED:20260327T120443Z
LAST-MODIFIED:20260327T120518Z
UID:10010860-1903977000-1903980600@martinus-hn.de
SUMMARY:Eucharistiefeier in St. Maximilian Kolbe
DESCRIPTION:
URL:https://martinus-hn.de/veranstaltung/eucharistiefeier-in-st-maximilian-kolbe-donnerstag/2030-05-02/
LOCATION:St. Maximilian Kolbe\, Jörg-Ratgeb-Platz 25\, Heilbronn-Sontheim\, 74081
CATEGORIES:Gottesdienst
END:VEVENT
BEGIN:VEVENT
DTSTART;TZID=Europe/Berlin:20300504T183000
DTEND;TZID=Europe/Berlin:20300504T193000
DTSTAMP:20260426T043752
CREATED:20260327T114344Z
LAST-MODIFIED:20260327T114457Z
UID:10009810-1904149800-1904153400@martinus-hn.de
SUMMARY:Eucharistiefeier in St. Maximilian Kolbe
DESCRIPTION:
URL:https://martinus-hn.de/veranstaltung/eucharistiefeier-in-st-maximilian-kolbe/2030-05-04/
LOCATION:St. Maximilian Kolbe\, Jörg-Ratgeb-Platz 25\, Heilbronn-Sontheim\, 74081
CATEGORIES:Gottesdienst
END:VEVENT
BEGIN:VEVENT
DTSTART;TZID=Europe/Berlin:20300505T103000
DTEND;TZID=Europe/Berlin:20300505T113000
DTSTAMP:20260426T043752
CREATED:20260327T120935Z
LAST-MODIFIED:20260327T120935Z
UID:10011125-1904207400-1904211000@martinus-hn.de
SUMMARY:Eucharistiefeier in St. Martinus
DESCRIPTION:
URL:https://martinus-hn.de/veranstaltung/eucharistiefeier-in-st-martinus/2030-05-05/
LOCATION:St. Martinus\, Auf dem Bau 1\, Heilbronn-Sontheim\, 74081\, Deutschland
CATEGORIES:Gottesdienst
END:VEVENT
BEGIN:VEVENT
DTSTART;TZID=Europe/Berlin:20300507T183000
DTEND;TZID=Europe/Berlin:20300507T193000
DTSTAMP:20260426T043752
CREATED:20260327T115841Z
LAST-MODIFIED:20260327T115841Z
UID:10010588-1904409000-1904412600@martinus-hn.de
SUMMARY:Eucharistiefeier in Heilig Geist
DESCRIPTION:
URL:https://martinus-hn.de/veranstaltung/eucharistiefeier-in-heilig-geist-dienstag/2030-05-07/
LOCATION:Heilig-Geist-Kirche\, Heilbronner Weg 17\, Heilbronn-Horkheim\, 74081
CATEGORIES:Gottesdienst
END:VEVENT
BEGIN:VEVENT
DTSTART;TZID=Europe/Berlin:20300509T183000
DTEND;TZID=Europe/Berlin:20300509T193000
DTSTAMP:20260426T043752
CREATED:20260327T120443Z
LAST-MODIFIED:20260327T120518Z
UID:10010861-1904581800-1904585400@martinus-hn.de
SUMMARY:Eucharistiefeier in St. Maximilian Kolbe
DESCRIPTION:
URL:https://martinus-hn.de/veranstaltung/eucharistiefeier-in-st-maximilian-kolbe-donnerstag/2030-05-09/
LOCATION:St. Maximilian Kolbe\, Jörg-Ratgeb-Platz 25\, Heilbronn-Sontheim\, 74081
CATEGORIES:Gottesdienst
END:VEVENT
BEGIN:VEVENT
DTSTART;TZID=Europe/Berlin:20300511T183000
DTEND;TZID=Europe/Berlin:20300511T193000
DTSTAMP:20260426T043752
CREATED:20260304T153850Z
LAST-MODIFIED:20260327T114702Z
UID:10009943-1904754600-1904758200@martinus-hn.de
SUMMARY:Eucharistiefeier in Heilig Geist
DESCRIPTION:
URL:https://martinus-hn.de/veranstaltung/eucharistiefeier-in-heilig-geist/2030-05-11/
LOCATION:Heilig-Geist-Kirche\, Heilbronner Weg 17\, Heilbronn-Horkheim\, 74081
CATEGORIES:Gottesdienst
END:VEVENT
BEGIN:VEVENT
DTSTART;TZID=Europe/Berlin:20300512T103000
DTEND;TZID=Europe/Berlin:20300512T113000
DTSTAMP:20260426T043752
CREATED:20260327T120935Z
LAST-MODIFIED:20260327T120935Z
UID:10011126-1904812200-1904815800@martinus-hn.de
SUMMARY:Eucharistiefeier in St. Martinus
DESCRIPTION:
URL:https://martinus-hn.de/veranstaltung/eucharistiefeier-in-st-martinus/2030-05-12/
LOCATION:St. Martinus\, Auf dem Bau 1\, Heilbronn-Sontheim\, 74081\, Deutschland
CATEGORIES:Gottesdienst
END:VEVENT
BEGIN:VEVENT
DTSTART;TZID=Europe/Berlin:20300514T183000
DTEND;TZID=Europe/Berlin:20300514T193000
DTSTAMP:20260426T043752
CREATED:20260327T115841Z
LAST-MODIFIED:20260327T115841Z
UID:10010589-1905013800-1905017400@martinus-hn.de
SUMMARY:Eucharistiefeier in Heilig Geist
DESCRIPTION:
URL:https://martinus-hn.de/veranstaltung/eucharistiefeier-in-heilig-geist-dienstag/2030-05-14/
LOCATION:Heilig-Geist-Kirche\, Heilbronner Weg 17\, Heilbronn-Horkheim\, 74081
CATEGORIES:Gottesdienst
END:VEVENT
BEGIN:VEVENT
DTSTART;TZID=Europe/Berlin:20300516T183000
DTEND;TZID=Europe/Berlin:20300516T193000
DTSTAMP:20260426T043752
CREATED:20260327T120443Z
LAST-MODIFIED:20260327T120518Z
UID:10010862-1905186600-1905190200@martinus-hn.de
SUMMARY:Eucharistiefeier in St. Maximilian Kolbe
DESCRIPTION:
URL:https://martinus-hn.de/veranstaltung/eucharistiefeier-in-st-maximilian-kolbe-donnerstag/2030-05-16/
LOCATION:St. Maximilian Kolbe\, Jörg-Ratgeb-Platz 25\, Heilbronn-Sontheim\, 74081
CATEGORIES:Gottesdienst
END:VEVENT
BEGIN:VEVENT
DTSTART;TZID=Europe/Berlin:20300518T183000
DTEND;TZID=Europe/Berlin:20300518T193000
DTSTAMP:20260426T043752
CREATED:20260327T114344Z
LAST-MODIFIED:20260327T114457Z
UID:10009811-1905359400-1905363000@martinus-hn.de
SUMMARY:Eucharistiefeier in St. Maximilian Kolbe
DESCRIPTION:
URL:https://martinus-hn.de/veranstaltung/eucharistiefeier-in-st-maximilian-kolbe/2030-05-18/
LOCATION:St. Maximilian Kolbe\, Jörg-Ratgeb-Platz 25\, Heilbronn-Sontheim\, 74081
CATEGORIES:Gottesdienst
END:VEVENT
BEGIN:VEVENT
DTSTART;TZID=Europe/Berlin:20300519T103000
DTEND;TZID=Europe/Berlin:20300519T113000
DTSTAMP:20260426T043752
CREATED:20260327T120935Z
LAST-MODIFIED:20260327T120935Z
UID:10011127-1905417000-1905420600@martinus-hn.de
SUMMARY:Eucharistiefeier in St. Martinus
DESCRIPTION:
URL:https://martinus-hn.de/veranstaltung/eucharistiefeier-in-st-martinus/2030-05-19/
LOCATION:St. Martinus\, Auf dem Bau 1\, Heilbronn-Sontheim\, 74081\, Deutschland
CATEGORIES:Gottesdienst
END:VEVENT
BEGIN:VEVENT
DTSTART;TZID=Europe/Berlin:20300521T183000
DTEND;TZID=Europe/Berlin:20300521T193000
DTSTAMP:20260426T043752
CREATED:20260327T115841Z
LAST-MODIFIED:20260327T115841Z
UID:10010590-1905618600-1905622200@martinus-hn.de
SUMMARY:Eucharistiefeier in Heilig Geist
DESCRIPTION:
URL:https://martinus-hn.de/veranstaltung/eucharistiefeier-in-heilig-geist-dienstag/2030-05-21/
LOCATION:Heilig-Geist-Kirche\, Heilbronner Weg 17\, Heilbronn-Horkheim\, 74081
CATEGORIES:Gottesdienst
END:VEVENT
BEGIN:VEVENT
DTSTART;TZID=Europe/Berlin:20300523T183000
DTEND;TZID=Europe/Berlin:20300523T193000
DTSTAMP:20260426T043752
CREATED:20260327T120443Z
LAST-MODIFIED:20260327T120518Z
UID:10010863-1905791400-1905795000@martinus-hn.de
SUMMARY:Eucharistiefeier in St. Maximilian Kolbe
DESCRIPTION:
URL:https://martinus-hn.de/veranstaltung/eucharistiefeier-in-st-maximilian-kolbe-donnerstag/2030-05-23/
LOCATION:St. Maximilian Kolbe\, Jörg-Ratgeb-Platz 25\, Heilbronn-Sontheim\, 74081
CATEGORIES:Gottesdienst
END:VEVENT
BEGIN:VEVENT
DTSTART;TZID=Europe/Berlin:20300525T183000
DTEND;TZID=Europe/Berlin:20300525T193000
DTSTAMP:20260426T043752
CREATED:20260304T153850Z
LAST-MODIFIED:20260327T114702Z
UID:10009944-1905964200-1905967800@martinus-hn.de
SUMMARY:Eucharistiefeier in Heilig Geist
DESCRIPTION:
URL:https://martinus-hn.de/veranstaltung/eucharistiefeier-in-heilig-geist/2030-05-25/
LOCATION:Heilig-Geist-Kirche\, Heilbronner Weg 17\, Heilbronn-Horkheim\, 74081
CATEGORIES:Gottesdienst
END:VEVENT
END:VCALENDAR