BEGIN:VCALENDAR
VERSION:2.0
PRODID:-//St. Martinus Heilbronn-Sontheim - ECPv6.10.2//NONSGML v1.0//EN
CALSCALE:GREGORIAN
METHOD:PUBLISH
X-ORIGINAL-URL:https://martinus-hn.de
X-WR-CALDESC:Veranstaltungen für St. Martinus Heilbronn-Sontheim
REFRESH-INTERVAL;VALUE=DURATION:PT1H
X-Robots-Tag:noindex
X-PUBLISHED-TTL:PT1H
BEGIN:VTIMEZONE
TZID:Europe/Berlin
BEGIN:DAYLIGHT
TZOFFSETFROM:+0100
TZOFFSETTO:+0200
TZNAME:CEST
DTSTART:20290325T010000
END:DAYLIGHT
BEGIN:STANDARD
TZOFFSETFROM:+0200
TZOFFSETTO:+0100
TZNAME:CET
DTSTART:20291028T010000
END:STANDARD
END:VTIMEZONE
BEGIN:VEVENT
DTSTART;TZID=Europe/Berlin:20290607T183000
DTEND;TZID=Europe/Berlin:20290607T193000
DTSTAMP:20260424T215403
CREATED:20260327T120443Z
LAST-MODIFIED:20260327T120518Z
UID:10010813-1875551400-1875555000@martinus-hn.de
SUMMARY:Eucharistiefeier in St. Maximilian Kolbe
DESCRIPTION:
URL:https://martinus-hn.de/veranstaltung/eucharistiefeier-in-st-maximilian-kolbe-donnerstag/2029-06-07/
LOCATION:St. Maximilian Kolbe\, Jörg-Ratgeb-Platz 25\, Heilbronn-Sontheim\, 74081
CATEGORIES:Gottesdienst
END:VEVENT
BEGIN:VEVENT
DTSTART;TZID=Europe/Berlin:20290609T183000
DTEND;TZID=Europe/Berlin:20290609T193000
DTSTAMP:20260424T215403
CREATED:20260304T153850Z
LAST-MODIFIED:20260327T114702Z
UID:10009919-1875724200-1875727800@martinus-hn.de
SUMMARY:Eucharistiefeier in Heilig Geist
DESCRIPTION:
URL:https://martinus-hn.de/veranstaltung/eucharistiefeier-in-heilig-geist/2029-06-09/
LOCATION:Heilig-Geist-Kirche\, Heilbronner Weg 17\, Heilbronn-Horkheim\, 74081
CATEGORIES:Gottesdienst
END:VEVENT
BEGIN:VEVENT
DTSTART;TZID=Europe/Berlin:20290610T103000
DTEND;TZID=Europe/Berlin:20290610T113000
DTSTAMP:20260424T215403
CREATED:20260327T120935Z
LAST-MODIFIED:20260327T120935Z
UID:10011078-1875781800-1875785400@martinus-hn.de
SUMMARY:Eucharistiefeier in St. Martinus
DESCRIPTION:
URL:https://martinus-hn.de/veranstaltung/eucharistiefeier-in-st-martinus/2029-06-10/
LOCATION:St. Martinus\, Auf dem Bau 1\, Heilbronn-Sontheim\, 74081\, Deutschland
CATEGORIES:Gottesdienst
END:VEVENT
BEGIN:VEVENT
DTSTART;TZID=Europe/Berlin:20290612T183000
DTEND;TZID=Europe/Berlin:20290612T193000
DTSTAMP:20260424T215403
CREATED:20260327T115841Z
LAST-MODIFIED:20260327T115841Z
UID:10010541-1875983400-1875987000@martinus-hn.de
SUMMARY:Eucharistiefeier in Heilig Geist
DESCRIPTION:
URL:https://martinus-hn.de/veranstaltung/eucharistiefeier-in-heilig-geist-dienstag/2029-06-12/
LOCATION:Heilig-Geist-Kirche\, Heilbronner Weg 17\, Heilbronn-Horkheim\, 74081
CATEGORIES:Gottesdienst
END:VEVENT
BEGIN:VEVENT
DTSTART;TZID=Europe/Berlin:20290614T183000
DTEND;TZID=Europe/Berlin:20290614T193000
DTSTAMP:20260424T215403
CREATED:20260327T120443Z
LAST-MODIFIED:20260327T120518Z
UID:10010814-1876156200-1876159800@martinus-hn.de
SUMMARY:Eucharistiefeier in St. Maximilian Kolbe
DESCRIPTION:
URL:https://martinus-hn.de/veranstaltung/eucharistiefeier-in-st-maximilian-kolbe-donnerstag/2029-06-14/
LOCATION:St. Maximilian Kolbe\, Jörg-Ratgeb-Platz 25\, Heilbronn-Sontheim\, 74081
CATEGORIES:Gottesdienst
END:VEVENT
BEGIN:VEVENT
DTSTART;TZID=Europe/Berlin:20290616T183000
DTEND;TZID=Europe/Berlin:20290616T193000
DTSTAMP:20260424T215403
CREATED:20260327T114344Z
LAST-MODIFIED:20260327T114457Z
UID:10009787-1876329000-1876332600@martinus-hn.de
SUMMARY:Eucharistiefeier in St. Maximilian Kolbe
DESCRIPTION:
URL:https://martinus-hn.de/veranstaltung/eucharistiefeier-in-st-maximilian-kolbe/2029-06-16/
LOCATION:St. Maximilian Kolbe\, Jörg-Ratgeb-Platz 25\, Heilbronn-Sontheim\, 74081
CATEGORIES:Gottesdienst
END:VEVENT
BEGIN:VEVENT
DTSTART;TZID=Europe/Berlin:20290617T103000
DTEND;TZID=Europe/Berlin:20290617T113000
DTSTAMP:20260424T215403
CREATED:20260327T120935Z
LAST-MODIFIED:20260327T120935Z
UID:10011079-1876386600-1876390200@martinus-hn.de
SUMMARY:Eucharistiefeier in St. Martinus
DESCRIPTION:
URL:https://martinus-hn.de/veranstaltung/eucharistiefeier-in-st-martinus/2029-06-17/
LOCATION:St. Martinus\, Auf dem Bau 1\, Heilbronn-Sontheim\, 74081\, Deutschland
CATEGORIES:Gottesdienst
END:VEVENT
BEGIN:VEVENT
DTSTART;TZID=Europe/Berlin:20290619T183000
DTEND;TZID=Europe/Berlin:20290619T193000
DTSTAMP:20260424T215403
CREATED:20260327T115841Z
LAST-MODIFIED:20260327T115841Z
UID:10010542-1876588200-1876591800@martinus-hn.de
SUMMARY:Eucharistiefeier in Heilig Geist
DESCRIPTION:
URL:https://martinus-hn.de/veranstaltung/eucharistiefeier-in-heilig-geist-dienstag/2029-06-19/
LOCATION:Heilig-Geist-Kirche\, Heilbronner Weg 17\, Heilbronn-Horkheim\, 74081
CATEGORIES:Gottesdienst
END:VEVENT
BEGIN:VEVENT
DTSTART;TZID=Europe/Berlin:20290621T183000
DTEND;TZID=Europe/Berlin:20290621T193000
DTSTAMP:20260424T215403
CREATED:20260327T120443Z
LAST-MODIFIED:20260327T120518Z
UID:10010815-1876761000-1876764600@martinus-hn.de
SUMMARY:Eucharistiefeier in St. Maximilian Kolbe
DESCRIPTION:
URL:https://martinus-hn.de/veranstaltung/eucharistiefeier-in-st-maximilian-kolbe-donnerstag/2029-06-21/
LOCATION:St. Maximilian Kolbe\, Jörg-Ratgeb-Platz 25\, Heilbronn-Sontheim\, 74081
CATEGORIES:Gottesdienst
END:VEVENT
BEGIN:VEVENT
DTSTART;TZID=Europe/Berlin:20290623T183000
DTEND;TZID=Europe/Berlin:20290623T193000
DTSTAMP:20260424T215403
CREATED:20260304T153850Z
LAST-MODIFIED:20260327T114702Z
UID:10009920-1876933800-1876937400@martinus-hn.de
SUMMARY:Eucharistiefeier in Heilig Geist
DESCRIPTION:
URL:https://martinus-hn.de/veranstaltung/eucharistiefeier-in-heilig-geist/2029-06-23/
LOCATION:Heilig-Geist-Kirche\, Heilbronner Weg 17\, Heilbronn-Horkheim\, 74081
CATEGORIES:Gottesdienst
END:VEVENT
BEGIN:VEVENT
DTSTART;TZID=Europe/Berlin:20290624T103000
DTEND;TZID=Europe/Berlin:20290624T113000
DTSTAMP:20260424T215403
CREATED:20260327T120935Z
LAST-MODIFIED:20260327T120935Z
UID:10011080-1876991400-1876995000@martinus-hn.de
SUMMARY:Eucharistiefeier in St. Martinus
DESCRIPTION:
URL:https://martinus-hn.de/veranstaltung/eucharistiefeier-in-st-martinus/2029-06-24/
LOCATION:St. Martinus\, Auf dem Bau 1\, Heilbronn-Sontheim\, 74081\, Deutschland
CATEGORIES:Gottesdienst
END:VEVENT
BEGIN:VEVENT
DTSTART;TZID=Europe/Berlin:20290626T183000
DTEND;TZID=Europe/Berlin:20290626T193000
DTSTAMP:20260424T215403
CREATED:20260327T115841Z
LAST-MODIFIED:20260327T115841Z
UID:10010543-1877193000-1877196600@martinus-hn.de
SUMMARY:Eucharistiefeier in Heilig Geist
DESCRIPTION:
URL:https://martinus-hn.de/veranstaltung/eucharistiefeier-in-heilig-geist-dienstag/2029-06-26/
LOCATION:Heilig-Geist-Kirche\, Heilbronner Weg 17\, Heilbronn-Horkheim\, 74081
CATEGORIES:Gottesdienst
END:VEVENT
BEGIN:VEVENT
DTSTART;TZID=Europe/Berlin:20290628T183000
DTEND;TZID=Europe/Berlin:20290628T193000
DTSTAMP:20260424T215403
CREATED:20260327T120443Z
LAST-MODIFIED:20260327T120518Z
UID:10010816-1877365800-1877369400@martinus-hn.de
SUMMARY:Eucharistiefeier in St. Maximilian Kolbe
DESCRIPTION:
URL:https://martinus-hn.de/veranstaltung/eucharistiefeier-in-st-maximilian-kolbe-donnerstag/2029-06-28/
LOCATION:St. Maximilian Kolbe\, Jörg-Ratgeb-Platz 25\, Heilbronn-Sontheim\, 74081
CATEGORIES:Gottesdienst
END:VEVENT
BEGIN:VEVENT
DTSTART;TZID=Europe/Berlin:20290630T183000
DTEND;TZID=Europe/Berlin:20290630T193000
DTSTAMP:20260424T215403
CREATED:20260327T114344Z
LAST-MODIFIED:20260327T114457Z
UID:10009788-1877538600-1877542200@martinus-hn.de
SUMMARY:Eucharistiefeier in St. Maximilian Kolbe
DESCRIPTION:
URL:https://martinus-hn.de/veranstaltung/eucharistiefeier-in-st-maximilian-kolbe/2029-06-30/
LOCATION:St. Maximilian Kolbe\, Jörg-Ratgeb-Platz 25\, Heilbronn-Sontheim\, 74081
CATEGORIES:Gottesdienst
END:VEVENT
BEGIN:VEVENT
DTSTART;TZID=Europe/Berlin:20290701T103000
DTEND;TZID=Europe/Berlin:20290701T113000
DTSTAMP:20260424T215403
CREATED:20260327T120935Z
LAST-MODIFIED:20260327T120935Z
UID:10011081-1877596200-1877599800@martinus-hn.de
SUMMARY:Eucharistiefeier in St. Martinus
DESCRIPTION:
URL:https://martinus-hn.de/veranstaltung/eucharistiefeier-in-st-martinus/2029-07-01/
LOCATION:St. Martinus\, Auf dem Bau 1\, Heilbronn-Sontheim\, 74081\, Deutschland
CATEGORIES:Gottesdienst
END:VEVENT
BEGIN:VEVENT
DTSTART;TZID=Europe/Berlin:20290703T183000
DTEND;TZID=Europe/Berlin:20290703T193000
DTSTAMP:20260424T215403
CREATED:20260327T115841Z
LAST-MODIFIED:20260327T115841Z
UID:10010544-1877797800-1877801400@martinus-hn.de
SUMMARY:Eucharistiefeier in Heilig Geist
DESCRIPTION:
URL:https://martinus-hn.de/veranstaltung/eucharistiefeier-in-heilig-geist-dienstag/2029-07-03/
LOCATION:Heilig-Geist-Kirche\, Heilbronner Weg 17\, Heilbronn-Horkheim\, 74081
CATEGORIES:Gottesdienst
END:VEVENT
BEGIN:VEVENT
DTSTART;TZID=Europe/Berlin:20290705T183000
DTEND;TZID=Europe/Berlin:20290705T193000
DTSTAMP:20260424T215403
CREATED:20260327T120443Z
LAST-MODIFIED:20260327T120518Z
UID:10010817-1877970600-1877974200@martinus-hn.de
SUMMARY:Eucharistiefeier in St. Maximilian Kolbe
DESCRIPTION:
URL:https://martinus-hn.de/veranstaltung/eucharistiefeier-in-st-maximilian-kolbe-donnerstag/2029-07-05/
LOCATION:St. Maximilian Kolbe\, Jörg-Ratgeb-Platz 25\, Heilbronn-Sontheim\, 74081
CATEGORIES:Gottesdienst
END:VEVENT
BEGIN:VEVENT
DTSTART;TZID=Europe/Berlin:20290707T183000
DTEND;TZID=Europe/Berlin:20290707T193000
DTSTAMP:20260424T215403
CREATED:20260304T153850Z
LAST-MODIFIED:20260327T114702Z
UID:10009921-1878143400-1878147000@martinus-hn.de
SUMMARY:Eucharistiefeier in Heilig Geist
DESCRIPTION:
URL:https://martinus-hn.de/veranstaltung/eucharistiefeier-in-heilig-geist/2029-07-07/
LOCATION:Heilig-Geist-Kirche\, Heilbronner Weg 17\, Heilbronn-Horkheim\, 74081
CATEGORIES:Gottesdienst
END:VEVENT
BEGIN:VEVENT
DTSTART;TZID=Europe/Berlin:20290708T103000
DTEND;TZID=Europe/Berlin:20290708T113000
DTSTAMP:20260424T215403
CREATED:20260327T120935Z
LAST-MODIFIED:20260327T120935Z
UID:10011082-1878201000-1878204600@martinus-hn.de
SUMMARY:Eucharistiefeier in St. Martinus
DESCRIPTION:
URL:https://martinus-hn.de/veranstaltung/eucharistiefeier-in-st-martinus/2029-07-08/
LOCATION:St. Martinus\, Auf dem Bau 1\, Heilbronn-Sontheim\, 74081\, Deutschland
CATEGORIES:Gottesdienst
END:VEVENT
BEGIN:VEVENT
DTSTART;TZID=Europe/Berlin:20290710T183000
DTEND;TZID=Europe/Berlin:20290710T193000
DTSTAMP:20260424T215403
CREATED:20260327T115841Z
LAST-MODIFIED:20260327T115841Z
UID:10010545-1878402600-1878406200@martinus-hn.de
SUMMARY:Eucharistiefeier in Heilig Geist
DESCRIPTION:
URL:https://martinus-hn.de/veranstaltung/eucharistiefeier-in-heilig-geist-dienstag/2029-07-10/
LOCATION:Heilig-Geist-Kirche\, Heilbronner Weg 17\, Heilbronn-Horkheim\, 74081
CATEGORIES:Gottesdienst
END:VEVENT
BEGIN:VEVENT
DTSTART;TZID=Europe/Berlin:20290712T183000
DTEND;TZID=Europe/Berlin:20290712T193000
DTSTAMP:20260424T215403
CREATED:20260327T120443Z
LAST-MODIFIED:20260327T120518Z
UID:10010818-1878575400-1878579000@martinus-hn.de
SUMMARY:Eucharistiefeier in St. Maximilian Kolbe
DESCRIPTION:
URL:https://martinus-hn.de/veranstaltung/eucharistiefeier-in-st-maximilian-kolbe-donnerstag/2029-07-12/
LOCATION:St. Maximilian Kolbe\, Jörg-Ratgeb-Platz 25\, Heilbronn-Sontheim\, 74081
CATEGORIES:Gottesdienst
END:VEVENT
BEGIN:VEVENT
DTSTART;TZID=Europe/Berlin:20290714T183000
DTEND;TZID=Europe/Berlin:20290714T193000
DTSTAMP:20260424T215403
CREATED:20260327T114344Z
LAST-MODIFIED:20260327T114457Z
UID:10009789-1878748200-1878751800@martinus-hn.de
SUMMARY:Eucharistiefeier in St. Maximilian Kolbe
DESCRIPTION:
URL:https://martinus-hn.de/veranstaltung/eucharistiefeier-in-st-maximilian-kolbe/2029-07-14/
LOCATION:St. Maximilian Kolbe\, Jörg-Ratgeb-Platz 25\, Heilbronn-Sontheim\, 74081
CATEGORIES:Gottesdienst
END:VEVENT
BEGIN:VEVENT
DTSTART;TZID=Europe/Berlin:20290715T103000
DTEND;TZID=Europe/Berlin:20290715T113000
DTSTAMP:20260424T215403
CREATED:20260327T120935Z
LAST-MODIFIED:20260327T120935Z
UID:10011083-1878805800-1878809400@martinus-hn.de
SUMMARY:Eucharistiefeier in St. Martinus
DESCRIPTION:
URL:https://martinus-hn.de/veranstaltung/eucharistiefeier-in-st-martinus/2029-07-15/
LOCATION:St. Martinus\, Auf dem Bau 1\, Heilbronn-Sontheim\, 74081\, Deutschland
CATEGORIES:Gottesdienst
END:VEVENT
BEGIN:VEVENT
DTSTART;TZID=Europe/Berlin:20290717T183000
DTEND;TZID=Europe/Berlin:20290717T193000
DTSTAMP:20260424T215403
CREATED:20260327T115841Z
LAST-MODIFIED:20260327T115841Z
UID:10010546-1879007400-1879011000@martinus-hn.de
SUMMARY:Eucharistiefeier in Heilig Geist
DESCRIPTION:
URL:https://martinus-hn.de/veranstaltung/eucharistiefeier-in-heilig-geist-dienstag/2029-07-17/
LOCATION:Heilig-Geist-Kirche\, Heilbronner Weg 17\, Heilbronn-Horkheim\, 74081
CATEGORIES:Gottesdienst
END:VEVENT
BEGIN:VEVENT
DTSTART;TZID=Europe/Berlin:20290719T183000
DTEND;TZID=Europe/Berlin:20290719T193000
DTSTAMP:20260424T215403
CREATED:20260327T120443Z
LAST-MODIFIED:20260327T120518Z
UID:10010819-1879180200-1879183800@martinus-hn.de
SUMMARY:Eucharistiefeier in St. Maximilian Kolbe
DESCRIPTION:
URL:https://martinus-hn.de/veranstaltung/eucharistiefeier-in-st-maximilian-kolbe-donnerstag/2029-07-19/
LOCATION:St. Maximilian Kolbe\, Jörg-Ratgeb-Platz 25\, Heilbronn-Sontheim\, 74081
CATEGORIES:Gottesdienst
END:VEVENT
BEGIN:VEVENT
DTSTART;TZID=Europe/Berlin:20290721T183000
DTEND;TZID=Europe/Berlin:20290721T193000
DTSTAMP:20260424T215403
CREATED:20260304T153850Z
LAST-MODIFIED:20260327T114702Z
UID:10009922-1879353000-1879356600@martinus-hn.de
SUMMARY:Eucharistiefeier in Heilig Geist
DESCRIPTION:
URL:https://martinus-hn.de/veranstaltung/eucharistiefeier-in-heilig-geist/2029-07-21/
LOCATION:Heilig-Geist-Kirche\, Heilbronner Weg 17\, Heilbronn-Horkheim\, 74081
CATEGORIES:Gottesdienst
END:VEVENT
BEGIN:VEVENT
DTSTART;TZID=Europe/Berlin:20290722T103000
DTEND;TZID=Europe/Berlin:20290722T113000
DTSTAMP:20260424T215403
CREATED:20260327T120935Z
LAST-MODIFIED:20260327T120935Z
UID:10011084-1879410600-1879414200@martinus-hn.de
SUMMARY:Eucharistiefeier in St. Martinus
DESCRIPTION:
URL:https://martinus-hn.de/veranstaltung/eucharistiefeier-in-st-martinus/2029-07-22/
LOCATION:St. Martinus\, Auf dem Bau 1\, Heilbronn-Sontheim\, 74081\, Deutschland
CATEGORIES:Gottesdienst
END:VEVENT
BEGIN:VEVENT
DTSTART;TZID=Europe/Berlin:20290724T183000
DTEND;TZID=Europe/Berlin:20290724T193000
DTSTAMP:20260424T215403
CREATED:20260327T115841Z
LAST-MODIFIED:20260327T115841Z
UID:10010547-1879612200-1879615800@martinus-hn.de
SUMMARY:Eucharistiefeier in Heilig Geist
DESCRIPTION:
URL:https://martinus-hn.de/veranstaltung/eucharistiefeier-in-heilig-geist-dienstag/2029-07-24/
LOCATION:Heilig-Geist-Kirche\, Heilbronner Weg 17\, Heilbronn-Horkheim\, 74081
CATEGORIES:Gottesdienst
END:VEVENT
BEGIN:VEVENT
DTSTART;TZID=Europe/Berlin:20290726T183000
DTEND;TZID=Europe/Berlin:20290726T193000
DTSTAMP:20260424T215403
CREATED:20260327T120443Z
LAST-MODIFIED:20260327T120518Z
UID:10010820-1879785000-1879788600@martinus-hn.de
SUMMARY:Eucharistiefeier in St. Maximilian Kolbe
DESCRIPTION:
URL:https://martinus-hn.de/veranstaltung/eucharistiefeier-in-st-maximilian-kolbe-donnerstag/2029-07-26/
LOCATION:St. Maximilian Kolbe\, Jörg-Ratgeb-Platz 25\, Heilbronn-Sontheim\, 74081
CATEGORIES:Gottesdienst
END:VEVENT
BEGIN:VEVENT
DTSTART;TZID=Europe/Berlin:20290728T183000
DTEND;TZID=Europe/Berlin:20290728T193000
DTSTAMP:20260424T215403
CREATED:20260327T114344Z
LAST-MODIFIED:20260327T114457Z
UID:10009790-1879957800-1879961400@martinus-hn.de
SUMMARY:Eucharistiefeier in St. Maximilian Kolbe
DESCRIPTION:
URL:https://martinus-hn.de/veranstaltung/eucharistiefeier-in-st-maximilian-kolbe/2029-07-28/
LOCATION:St. Maximilian Kolbe\, Jörg-Ratgeb-Platz 25\, Heilbronn-Sontheim\, 74081
CATEGORIES:Gottesdienst
END:VEVENT
END:VCALENDAR