BEGIN:VCALENDAR
VERSION:2.0
PRODID:-//St. Martinus Heilbronn-Sontheim - ECPv6.10.2//NONSGML v1.0//EN
CALSCALE:GREGORIAN
METHOD:PUBLISH
X-ORIGINAL-URL:https://martinus-hn.de
X-WR-CALDESC:Veranstaltungen für St. Martinus Heilbronn-Sontheim
REFRESH-INTERVAL;VALUE=DURATION:PT1H
X-Robots-Tag:noindex
X-PUBLISHED-TTL:PT1H
BEGIN:VTIMEZONE
TZID:Europe/Berlin
BEGIN:DAYLIGHT
TZOFFSETFROM:+0100
TZOFFSETTO:+0200
TZNAME:CEST
DTSTART:20290325T010000
END:DAYLIGHT
BEGIN:STANDARD
TZOFFSETFROM:+0200
TZOFFSETTO:+0100
TZNAME:CET
DTSTART:20291028T010000
END:STANDARD
END:VTIMEZONE
BEGIN:VEVENT
DTSTART;TZID=Europe/Berlin:20290329T183000
DTEND;TZID=Europe/Berlin:20290329T193000
DTSTAMP:20260424T145552
CREATED:20260327T120443Z
LAST-MODIFIED:20260327T120518Z
UID:10010803-1869503400-1869507000@martinus-hn.de
SUMMARY:Eucharistiefeier in St. Maximilian Kolbe
DESCRIPTION:
URL:https://martinus-hn.de/veranstaltung/eucharistiefeier-in-st-maximilian-kolbe-donnerstag/2029-03-29/
LOCATION:St. Maximilian Kolbe\, Jörg-Ratgeb-Platz 25\, Heilbronn-Sontheim\, 74081
CATEGORIES:Gottesdienst
END:VEVENT
BEGIN:VEVENT
DTSTART;TZID=Europe/Berlin:20290331T183000
DTEND;TZID=Europe/Berlin:20290331T193000
DTSTAMP:20260424T145552
CREATED:20260304T153850Z
LAST-MODIFIED:20260327T114702Z
UID:10009914-1869676200-1869679800@martinus-hn.de
SUMMARY:Eucharistiefeier in Heilig Geist
DESCRIPTION:
URL:https://martinus-hn.de/veranstaltung/eucharistiefeier-in-heilig-geist/2029-03-31/
LOCATION:Heilig-Geist-Kirche\, Heilbronner Weg 17\, Heilbronn-Horkheim\, 74081
CATEGORIES:Gottesdienst
END:VEVENT
BEGIN:VEVENT
DTSTART;TZID=Europe/Berlin:20290401T103000
DTEND;TZID=Europe/Berlin:20290401T113000
DTSTAMP:20260424T145552
CREATED:20260327T120935Z
LAST-MODIFIED:20260327T120935Z
UID:10011068-1869733800-1869737400@martinus-hn.de
SUMMARY:Eucharistiefeier in St. Martinus
DESCRIPTION:
URL:https://martinus-hn.de/veranstaltung/eucharistiefeier-in-st-martinus/2029-04-01/
LOCATION:St. Martinus\, Auf dem Bau 1\, Heilbronn-Sontheim\, 74081\, Deutschland
CATEGORIES:Gottesdienst
END:VEVENT
BEGIN:VEVENT
DTSTART;TZID=Europe/Berlin:20290403T183000
DTEND;TZID=Europe/Berlin:20290403T193000
DTSTAMP:20260424T145552
CREATED:20260327T115841Z
LAST-MODIFIED:20260327T115841Z
UID:10010531-1869935400-1869939000@martinus-hn.de
SUMMARY:Eucharistiefeier in Heilig Geist
DESCRIPTION:
URL:https://martinus-hn.de/veranstaltung/eucharistiefeier-in-heilig-geist-dienstag/2029-04-03/
LOCATION:Heilig-Geist-Kirche\, Heilbronner Weg 17\, Heilbronn-Horkheim\, 74081
CATEGORIES:Gottesdienst
END:VEVENT
BEGIN:VEVENT
DTSTART;TZID=Europe/Berlin:20290405T183000
DTEND;TZID=Europe/Berlin:20290405T193000
DTSTAMP:20260424T145552
CREATED:20260327T120443Z
LAST-MODIFIED:20260327T120518Z
UID:10010804-1870108200-1870111800@martinus-hn.de
SUMMARY:Eucharistiefeier in St. Maximilian Kolbe
DESCRIPTION:
URL:https://martinus-hn.de/veranstaltung/eucharistiefeier-in-st-maximilian-kolbe-donnerstag/2029-04-05/
LOCATION:St. Maximilian Kolbe\, Jörg-Ratgeb-Platz 25\, Heilbronn-Sontheim\, 74081
CATEGORIES:Gottesdienst
END:VEVENT
BEGIN:VEVENT
DTSTART;TZID=Europe/Berlin:20290407T183000
DTEND;TZID=Europe/Berlin:20290407T193000
DTSTAMP:20260424T145552
CREATED:20260327T114344Z
LAST-MODIFIED:20260327T114457Z
UID:10009782-1870281000-1870284600@martinus-hn.de
SUMMARY:Eucharistiefeier in St. Maximilian Kolbe
DESCRIPTION:
URL:https://martinus-hn.de/veranstaltung/eucharistiefeier-in-st-maximilian-kolbe/2029-04-07/
LOCATION:St. Maximilian Kolbe\, Jörg-Ratgeb-Platz 25\, Heilbronn-Sontheim\, 74081
CATEGORIES:Gottesdienst
END:VEVENT
BEGIN:VEVENT
DTSTART;TZID=Europe/Berlin:20290408T103000
DTEND;TZID=Europe/Berlin:20290408T113000
DTSTAMP:20260424T145552
CREATED:20260327T120935Z
LAST-MODIFIED:20260327T120935Z
UID:10011069-1870338600-1870342200@martinus-hn.de
SUMMARY:Eucharistiefeier in St. Martinus
DESCRIPTION:
URL:https://martinus-hn.de/veranstaltung/eucharistiefeier-in-st-martinus/2029-04-08/
LOCATION:St. Martinus\, Auf dem Bau 1\, Heilbronn-Sontheim\, 74081\, Deutschland
CATEGORIES:Gottesdienst
END:VEVENT
BEGIN:VEVENT
DTSTART;TZID=Europe/Berlin:20290410T183000
DTEND;TZID=Europe/Berlin:20290410T193000
DTSTAMP:20260424T145552
CREATED:20260327T115841Z
LAST-MODIFIED:20260327T115841Z
UID:10010532-1870540200-1870543800@martinus-hn.de
SUMMARY:Eucharistiefeier in Heilig Geist
DESCRIPTION:
URL:https://martinus-hn.de/veranstaltung/eucharistiefeier-in-heilig-geist-dienstag/2029-04-10/
LOCATION:Heilig-Geist-Kirche\, Heilbronner Weg 17\, Heilbronn-Horkheim\, 74081
CATEGORIES:Gottesdienst
END:VEVENT
BEGIN:VEVENT
DTSTART;TZID=Europe/Berlin:20290412T183000
DTEND;TZID=Europe/Berlin:20290412T193000
DTSTAMP:20260424T145552
CREATED:20260327T120443Z
LAST-MODIFIED:20260327T120518Z
UID:10010805-1870713000-1870716600@martinus-hn.de
SUMMARY:Eucharistiefeier in St. Maximilian Kolbe
DESCRIPTION:
URL:https://martinus-hn.de/veranstaltung/eucharistiefeier-in-st-maximilian-kolbe-donnerstag/2029-04-12/
LOCATION:St. Maximilian Kolbe\, Jörg-Ratgeb-Platz 25\, Heilbronn-Sontheim\, 74081
CATEGORIES:Gottesdienst
END:VEVENT
BEGIN:VEVENT
DTSTART;TZID=Europe/Berlin:20290414T183000
DTEND;TZID=Europe/Berlin:20290414T193000
DTSTAMP:20260424T145552
CREATED:20260304T153850Z
LAST-MODIFIED:20260327T114702Z
UID:10009915-1870885800-1870889400@martinus-hn.de
SUMMARY:Eucharistiefeier in Heilig Geist
DESCRIPTION:
URL:https://martinus-hn.de/veranstaltung/eucharistiefeier-in-heilig-geist/2029-04-14/
LOCATION:Heilig-Geist-Kirche\, Heilbronner Weg 17\, Heilbronn-Horkheim\, 74081
CATEGORIES:Gottesdienst
END:VEVENT
BEGIN:VEVENT
DTSTART;TZID=Europe/Berlin:20290415T103000
DTEND;TZID=Europe/Berlin:20290415T113000
DTSTAMP:20260424T145552
CREATED:20260327T120935Z
LAST-MODIFIED:20260327T120935Z
UID:10011070-1870943400-1870947000@martinus-hn.de
SUMMARY:Eucharistiefeier in St. Martinus
DESCRIPTION:
URL:https://martinus-hn.de/veranstaltung/eucharistiefeier-in-st-martinus/2029-04-15/
LOCATION:St. Martinus\, Auf dem Bau 1\, Heilbronn-Sontheim\, 74081\, Deutschland
CATEGORIES:Gottesdienst
END:VEVENT
BEGIN:VEVENT
DTSTART;TZID=Europe/Berlin:20290417T183000
DTEND;TZID=Europe/Berlin:20290417T193000
DTSTAMP:20260424T145552
CREATED:20260327T115841Z
LAST-MODIFIED:20260327T115841Z
UID:10010533-1871145000-1871148600@martinus-hn.de
SUMMARY:Eucharistiefeier in Heilig Geist
DESCRIPTION:
URL:https://martinus-hn.de/veranstaltung/eucharistiefeier-in-heilig-geist-dienstag/2029-04-17/
LOCATION:Heilig-Geist-Kirche\, Heilbronner Weg 17\, Heilbronn-Horkheim\, 74081
CATEGORIES:Gottesdienst
END:VEVENT
BEGIN:VEVENT
DTSTART;TZID=Europe/Berlin:20290419T183000
DTEND;TZID=Europe/Berlin:20290419T193000
DTSTAMP:20260424T145552
CREATED:20260327T120443Z
LAST-MODIFIED:20260327T120518Z
UID:10010806-1871317800-1871321400@martinus-hn.de
SUMMARY:Eucharistiefeier in St. Maximilian Kolbe
DESCRIPTION:
URL:https://martinus-hn.de/veranstaltung/eucharistiefeier-in-st-maximilian-kolbe-donnerstag/2029-04-19/
LOCATION:St. Maximilian Kolbe\, Jörg-Ratgeb-Platz 25\, Heilbronn-Sontheim\, 74081
CATEGORIES:Gottesdienst
END:VEVENT
BEGIN:VEVENT
DTSTART;TZID=Europe/Berlin:20290421T183000
DTEND;TZID=Europe/Berlin:20290421T193000
DTSTAMP:20260424T145552
CREATED:20260327T114344Z
LAST-MODIFIED:20260327T114457Z
UID:10009783-1871490600-1871494200@martinus-hn.de
SUMMARY:Eucharistiefeier in St. Maximilian Kolbe
DESCRIPTION:
URL:https://martinus-hn.de/veranstaltung/eucharistiefeier-in-st-maximilian-kolbe/2029-04-21/
LOCATION:St. Maximilian Kolbe\, Jörg-Ratgeb-Platz 25\, Heilbronn-Sontheim\, 74081
CATEGORIES:Gottesdienst
END:VEVENT
BEGIN:VEVENT
DTSTART;TZID=Europe/Berlin:20290422T103000
DTEND;TZID=Europe/Berlin:20290422T113000
DTSTAMP:20260424T145552
CREATED:20260327T120935Z
LAST-MODIFIED:20260327T120935Z
UID:10011071-1871548200-1871551800@martinus-hn.de
SUMMARY:Eucharistiefeier in St. Martinus
DESCRIPTION:
URL:https://martinus-hn.de/veranstaltung/eucharistiefeier-in-st-martinus/2029-04-22/
LOCATION:St. Martinus\, Auf dem Bau 1\, Heilbronn-Sontheim\, 74081\, Deutschland
CATEGORIES:Gottesdienst
END:VEVENT
BEGIN:VEVENT
DTSTART;TZID=Europe/Berlin:20290424T183000
DTEND;TZID=Europe/Berlin:20290424T193000
DTSTAMP:20260424T145552
CREATED:20260327T115841Z
LAST-MODIFIED:20260327T115841Z
UID:10010534-1871749800-1871753400@martinus-hn.de
SUMMARY:Eucharistiefeier in Heilig Geist
DESCRIPTION:
URL:https://martinus-hn.de/veranstaltung/eucharistiefeier-in-heilig-geist-dienstag/2029-04-24/
LOCATION:Heilig-Geist-Kirche\, Heilbronner Weg 17\, Heilbronn-Horkheim\, 74081
CATEGORIES:Gottesdienst
END:VEVENT
BEGIN:VEVENT
DTSTART;TZID=Europe/Berlin:20290426T183000
DTEND;TZID=Europe/Berlin:20290426T193000
DTSTAMP:20260424T145552
CREATED:20260327T120443Z
LAST-MODIFIED:20260327T120518Z
UID:10010807-1871922600-1871926200@martinus-hn.de
SUMMARY:Eucharistiefeier in St. Maximilian Kolbe
DESCRIPTION:
URL:https://martinus-hn.de/veranstaltung/eucharistiefeier-in-st-maximilian-kolbe-donnerstag/2029-04-26/
LOCATION:St. Maximilian Kolbe\, Jörg-Ratgeb-Platz 25\, Heilbronn-Sontheim\, 74081
CATEGORIES:Gottesdienst
END:VEVENT
BEGIN:VEVENT
DTSTART;TZID=Europe/Berlin:20290428T183000
DTEND;TZID=Europe/Berlin:20290428T193000
DTSTAMP:20260424T145552
CREATED:20260304T153850Z
LAST-MODIFIED:20260327T114702Z
UID:10009916-1872095400-1872099000@martinus-hn.de
SUMMARY:Eucharistiefeier in Heilig Geist
DESCRIPTION:
URL:https://martinus-hn.de/veranstaltung/eucharistiefeier-in-heilig-geist/2029-04-28/
LOCATION:Heilig-Geist-Kirche\, Heilbronner Weg 17\, Heilbronn-Horkheim\, 74081
CATEGORIES:Gottesdienst
END:VEVENT
BEGIN:VEVENT
DTSTART;TZID=Europe/Berlin:20290429T103000
DTEND;TZID=Europe/Berlin:20290429T113000
DTSTAMP:20260424T145552
CREATED:20260327T120935Z
LAST-MODIFIED:20260327T120935Z
UID:10011072-1872153000-1872156600@martinus-hn.de
SUMMARY:Eucharistiefeier in St. Martinus
DESCRIPTION:
URL:https://martinus-hn.de/veranstaltung/eucharistiefeier-in-st-martinus/2029-04-29/
LOCATION:St. Martinus\, Auf dem Bau 1\, Heilbronn-Sontheim\, 74081\, Deutschland
CATEGORIES:Gottesdienst
END:VEVENT
BEGIN:VEVENT
DTSTART;TZID=Europe/Berlin:20290501T183000
DTEND;TZID=Europe/Berlin:20290501T193000
DTSTAMP:20260424T145552
CREATED:20260327T115841Z
LAST-MODIFIED:20260327T115841Z
UID:10010535-1872354600-1872358200@martinus-hn.de
SUMMARY:Eucharistiefeier in Heilig Geist
DESCRIPTION:
URL:https://martinus-hn.de/veranstaltung/eucharistiefeier-in-heilig-geist-dienstag/2029-05-01/
LOCATION:Heilig-Geist-Kirche\, Heilbronner Weg 17\, Heilbronn-Horkheim\, 74081
CATEGORIES:Gottesdienst
END:VEVENT
BEGIN:VEVENT
DTSTART;TZID=Europe/Berlin:20290503T183000
DTEND;TZID=Europe/Berlin:20290503T193000
DTSTAMP:20260424T145552
CREATED:20260327T120443Z
LAST-MODIFIED:20260327T120518Z
UID:10010808-1872527400-1872531000@martinus-hn.de
SUMMARY:Eucharistiefeier in St. Maximilian Kolbe
DESCRIPTION:
URL:https://martinus-hn.de/veranstaltung/eucharistiefeier-in-st-maximilian-kolbe-donnerstag/2029-05-03/
LOCATION:St. Maximilian Kolbe\, Jörg-Ratgeb-Platz 25\, Heilbronn-Sontheim\, 74081
CATEGORIES:Gottesdienst
END:VEVENT
BEGIN:VEVENT
DTSTART;TZID=Europe/Berlin:20290505T183000
DTEND;TZID=Europe/Berlin:20290505T193000
DTSTAMP:20260424T145552
CREATED:20260327T114344Z
LAST-MODIFIED:20260327T114457Z
UID:10009784-1872700200-1872703800@martinus-hn.de
SUMMARY:Eucharistiefeier in St. Maximilian Kolbe
DESCRIPTION:
URL:https://martinus-hn.de/veranstaltung/eucharistiefeier-in-st-maximilian-kolbe/2029-05-05/
LOCATION:St. Maximilian Kolbe\, Jörg-Ratgeb-Platz 25\, Heilbronn-Sontheim\, 74081
CATEGORIES:Gottesdienst
END:VEVENT
BEGIN:VEVENT
DTSTART;TZID=Europe/Berlin:20290506T103000
DTEND;TZID=Europe/Berlin:20290506T113000
DTSTAMP:20260424T145552
CREATED:20260327T120935Z
LAST-MODIFIED:20260327T120935Z
UID:10011073-1872757800-1872761400@martinus-hn.de
SUMMARY:Eucharistiefeier in St. Martinus
DESCRIPTION:
URL:https://martinus-hn.de/veranstaltung/eucharistiefeier-in-st-martinus/2029-05-06/
LOCATION:St. Martinus\, Auf dem Bau 1\, Heilbronn-Sontheim\, 74081\, Deutschland
CATEGORIES:Gottesdienst
END:VEVENT
BEGIN:VEVENT
DTSTART;TZID=Europe/Berlin:20290508T183000
DTEND;TZID=Europe/Berlin:20290508T193000
DTSTAMP:20260424T145552
CREATED:20260327T115841Z
LAST-MODIFIED:20260327T115841Z
UID:10010536-1872959400-1872963000@martinus-hn.de
SUMMARY:Eucharistiefeier in Heilig Geist
DESCRIPTION:
URL:https://martinus-hn.de/veranstaltung/eucharistiefeier-in-heilig-geist-dienstag/2029-05-08/
LOCATION:Heilig-Geist-Kirche\, Heilbronner Weg 17\, Heilbronn-Horkheim\, 74081
CATEGORIES:Gottesdienst
END:VEVENT
BEGIN:VEVENT
DTSTART;TZID=Europe/Berlin:20290510T183000
DTEND;TZID=Europe/Berlin:20290510T193000
DTSTAMP:20260424T145552
CREATED:20260327T120443Z
LAST-MODIFIED:20260327T120518Z
UID:10010809-1873132200-1873135800@martinus-hn.de
SUMMARY:Eucharistiefeier in St. Maximilian Kolbe
DESCRIPTION:
URL:https://martinus-hn.de/veranstaltung/eucharistiefeier-in-st-maximilian-kolbe-donnerstag/2029-05-10/
LOCATION:St. Maximilian Kolbe\, Jörg-Ratgeb-Platz 25\, Heilbronn-Sontheim\, 74081
CATEGORIES:Gottesdienst
END:VEVENT
BEGIN:VEVENT
DTSTART;TZID=Europe/Berlin:20290512T183000
DTEND;TZID=Europe/Berlin:20290512T193000
DTSTAMP:20260424T145552
CREATED:20260304T153850Z
LAST-MODIFIED:20260327T114702Z
UID:10009917-1873305000-1873308600@martinus-hn.de
SUMMARY:Eucharistiefeier in Heilig Geist
DESCRIPTION:
URL:https://martinus-hn.de/veranstaltung/eucharistiefeier-in-heilig-geist/2029-05-12/
LOCATION:Heilig-Geist-Kirche\, Heilbronner Weg 17\, Heilbronn-Horkheim\, 74081
CATEGORIES:Gottesdienst
END:VEVENT
BEGIN:VEVENT
DTSTART;TZID=Europe/Berlin:20290513T103000
DTEND;TZID=Europe/Berlin:20290513T113000
DTSTAMP:20260424T145552
CREATED:20260327T120935Z
LAST-MODIFIED:20260327T120935Z
UID:10011074-1873362600-1873366200@martinus-hn.de
SUMMARY:Eucharistiefeier in St. Martinus
DESCRIPTION:
URL:https://martinus-hn.de/veranstaltung/eucharistiefeier-in-st-martinus/2029-05-13/
LOCATION:St. Martinus\, Auf dem Bau 1\, Heilbronn-Sontheim\, 74081\, Deutschland
CATEGORIES:Gottesdienst
END:VEVENT
BEGIN:VEVENT
DTSTART;TZID=Europe/Berlin:20290515T183000
DTEND;TZID=Europe/Berlin:20290515T193000
DTSTAMP:20260424T145552
CREATED:20260327T115841Z
LAST-MODIFIED:20260327T115841Z
UID:10010537-1873564200-1873567800@martinus-hn.de
SUMMARY:Eucharistiefeier in Heilig Geist
DESCRIPTION:
URL:https://martinus-hn.de/veranstaltung/eucharistiefeier-in-heilig-geist-dienstag/2029-05-15/
LOCATION:Heilig-Geist-Kirche\, Heilbronner Weg 17\, Heilbronn-Horkheim\, 74081
CATEGORIES:Gottesdienst
END:VEVENT
BEGIN:VEVENT
DTSTART;TZID=Europe/Berlin:20290517T183000
DTEND;TZID=Europe/Berlin:20290517T193000
DTSTAMP:20260424T145552
CREATED:20260327T120443Z
LAST-MODIFIED:20260327T120518Z
UID:10010810-1873737000-1873740600@martinus-hn.de
SUMMARY:Eucharistiefeier in St. Maximilian Kolbe
DESCRIPTION:
URL:https://martinus-hn.de/veranstaltung/eucharistiefeier-in-st-maximilian-kolbe-donnerstag/2029-05-17/
LOCATION:St. Maximilian Kolbe\, Jörg-Ratgeb-Platz 25\, Heilbronn-Sontheim\, 74081
CATEGORIES:Gottesdienst
END:VEVENT
BEGIN:VEVENT
DTSTART;TZID=Europe/Berlin:20290519T183000
DTEND;TZID=Europe/Berlin:20290519T193000
DTSTAMP:20260424T145552
CREATED:20260327T114344Z
LAST-MODIFIED:20260327T114457Z
UID:10009785-1873909800-1873913400@martinus-hn.de
SUMMARY:Eucharistiefeier in St. Maximilian Kolbe
DESCRIPTION:
URL:https://martinus-hn.de/veranstaltung/eucharistiefeier-in-st-maximilian-kolbe/2029-05-19/
LOCATION:St. Maximilian Kolbe\, Jörg-Ratgeb-Platz 25\, Heilbronn-Sontheim\, 74081
CATEGORIES:Gottesdienst
END:VEVENT
END:VCALENDAR