BEGIN:VCALENDAR
VERSION:2.0
PRODID:-//St. Martinus Heilbronn-Sontheim - ECPv6.10.2//NONSGML v1.0//EN
CALSCALE:GREGORIAN
METHOD:PUBLISH
X-WR-CALNAME:St. Martinus Heilbronn-Sontheim
X-ORIGINAL-URL:https://martinus-hn.de
X-WR-CALDESC:Veranstaltungen für St. Martinus Heilbronn-Sontheim
REFRESH-INTERVAL;VALUE=DURATION:PT1H
X-Robots-Tag:noindex
X-PUBLISHED-TTL:PT1H
BEGIN:VTIMEZONE
TZID:Europe/Berlin
BEGIN:DAYLIGHT
TZOFFSETFROM:+0100
TZOFFSETTO:+0200
TZNAME:CEST
DTSTART:20280326T010000
END:DAYLIGHT
BEGIN:STANDARD
TZOFFSETFROM:+0200
TZOFFSETTO:+0100
TZNAME:CET
DTSTART:20281029T010000
END:STANDARD
END:VTIMEZONE
BEGIN:VEVENT
DTSTART;TZID=Europe/Berlin:20280725T183000
DTEND;TZID=Europe/Berlin:20280725T193000
DTSTAMP:20260423T140432
CREATED:20260327T115841Z
LAST-MODIFIED:20260327T115841Z
UID:10010495-1848162600-1848166200@martinus-hn.de
SUMMARY:Eucharistiefeier in Heilig Geist
DESCRIPTION:
URL:https://martinus-hn.de/veranstaltung/eucharistiefeier-in-heilig-geist-dienstag/2028-07-25/
LOCATION:Heilig-Geist-Kirche\, Heilbronner Weg 17\, Heilbronn-Horkheim\, 74081
CATEGORIES:Gottesdienst
END:VEVENT
BEGIN:VEVENT
DTSTART;TZID=Europe/Berlin:20280727T183000
DTEND;TZID=Europe/Berlin:20280727T193000
DTSTAMP:20260423T140432
CREATED:20260327T120443Z
LAST-MODIFIED:20260327T120518Z
UID:10010768-1848335400-1848339000@martinus-hn.de
SUMMARY:Eucharistiefeier in St. Maximilian Kolbe
DESCRIPTION:
URL:https://martinus-hn.de/veranstaltung/eucharistiefeier-in-st-maximilian-kolbe-donnerstag/2028-07-27/
LOCATION:St. Maximilian Kolbe\, Jörg-Ratgeb-Platz 25\, Heilbronn-Sontheim\, 74081
CATEGORIES:Gottesdienst
END:VEVENT
BEGIN:VEVENT
DTSTART;TZID=Europe/Berlin:20280729T183000
DTEND;TZID=Europe/Berlin:20280729T193000
DTSTAMP:20260423T140432
CREATED:20260327T114344Z
LAST-MODIFIED:20260327T114457Z
UID:10009764-1848508200-1848511800@martinus-hn.de
SUMMARY:Eucharistiefeier in St. Maximilian Kolbe
DESCRIPTION:
URL:https://martinus-hn.de/veranstaltung/eucharistiefeier-in-st-maximilian-kolbe/2028-07-29/
LOCATION:St. Maximilian Kolbe\, Jörg-Ratgeb-Platz 25\, Heilbronn-Sontheim\, 74081
CATEGORIES:Gottesdienst
END:VEVENT
BEGIN:VEVENT
DTSTART;TZID=Europe/Berlin:20280730T103000
DTEND;TZID=Europe/Berlin:20280730T113000
DTSTAMP:20260423T140432
CREATED:20260327T120935Z
LAST-MODIFIED:20260327T120935Z
UID:10011033-1848565800-1848569400@martinus-hn.de
SUMMARY:Eucharistiefeier in St. Martinus
DESCRIPTION:
URL:https://martinus-hn.de/veranstaltung/eucharistiefeier-in-st-martinus/2028-07-30/
LOCATION:St. Martinus\, Auf dem Bau 1\, Heilbronn-Sontheim\, 74081\, Deutschland
CATEGORIES:Gottesdienst
END:VEVENT
BEGIN:VEVENT
DTSTART;TZID=Europe/Berlin:20280801T183000
DTEND;TZID=Europe/Berlin:20280801T193000
DTSTAMP:20260423T140432
CREATED:20260327T115841Z
LAST-MODIFIED:20260327T115841Z
UID:10010496-1848767400-1848771000@martinus-hn.de
SUMMARY:Eucharistiefeier in Heilig Geist
DESCRIPTION:
URL:https://martinus-hn.de/veranstaltung/eucharistiefeier-in-heilig-geist-dienstag/2028-08-01/
LOCATION:Heilig-Geist-Kirche\, Heilbronner Weg 17\, Heilbronn-Horkheim\, 74081
CATEGORIES:Gottesdienst
END:VEVENT
BEGIN:VEVENT
DTSTART;TZID=Europe/Berlin:20280803T183000
DTEND;TZID=Europe/Berlin:20280803T193000
DTSTAMP:20260423T140432
CREATED:20260327T120443Z
LAST-MODIFIED:20260327T120518Z
UID:10010769-1848940200-1848943800@martinus-hn.de
SUMMARY:Eucharistiefeier in St. Maximilian Kolbe
DESCRIPTION:
URL:https://martinus-hn.de/veranstaltung/eucharistiefeier-in-st-maximilian-kolbe-donnerstag/2028-08-03/
LOCATION:St. Maximilian Kolbe\, Jörg-Ratgeb-Platz 25\, Heilbronn-Sontheim\, 74081
CATEGORIES:Gottesdienst
END:VEVENT
BEGIN:VEVENT
DTSTART;TZID=Europe/Berlin:20280805T183000
DTEND;TZID=Europe/Berlin:20280805T193000
DTSTAMP:20260423T140432
CREATED:20260304T153850Z
LAST-MODIFIED:20260327T114702Z
UID:10009897-1849113000-1849116600@martinus-hn.de
SUMMARY:Eucharistiefeier in Heilig Geist
DESCRIPTION:
URL:https://martinus-hn.de/veranstaltung/eucharistiefeier-in-heilig-geist/2028-08-05/
LOCATION:Heilig-Geist-Kirche\, Heilbronner Weg 17\, Heilbronn-Horkheim\, 74081
CATEGORIES:Gottesdienst
END:VEVENT
BEGIN:VEVENT
DTSTART;TZID=Europe/Berlin:20280806T103000
DTEND;TZID=Europe/Berlin:20280806T113000
DTSTAMP:20260423T140432
CREATED:20260327T120935Z
LAST-MODIFIED:20260327T120935Z
UID:10011034-1849170600-1849174200@martinus-hn.de
SUMMARY:Eucharistiefeier in St. Martinus
DESCRIPTION:
URL:https://martinus-hn.de/veranstaltung/eucharistiefeier-in-st-martinus/2028-08-06/
LOCATION:St. Martinus\, Auf dem Bau 1\, Heilbronn-Sontheim\, 74081\, Deutschland
CATEGORIES:Gottesdienst
END:VEVENT
BEGIN:VEVENT
DTSTART;TZID=Europe/Berlin:20280808T183000
DTEND;TZID=Europe/Berlin:20280808T193000
DTSTAMP:20260423T140432
CREATED:20260327T115841Z
LAST-MODIFIED:20260327T115841Z
UID:10010497-1849372200-1849375800@martinus-hn.de
SUMMARY:Eucharistiefeier in Heilig Geist
DESCRIPTION:
URL:https://martinus-hn.de/veranstaltung/eucharistiefeier-in-heilig-geist-dienstag/2028-08-08/
LOCATION:Heilig-Geist-Kirche\, Heilbronner Weg 17\, Heilbronn-Horkheim\, 74081
CATEGORIES:Gottesdienst
END:VEVENT
BEGIN:VEVENT
DTSTART;TZID=Europe/Berlin:20280810T183000
DTEND;TZID=Europe/Berlin:20280810T193000
DTSTAMP:20260423T140432
CREATED:20260327T120443Z
LAST-MODIFIED:20260327T120518Z
UID:10010770-1849545000-1849548600@martinus-hn.de
SUMMARY:Eucharistiefeier in St. Maximilian Kolbe
DESCRIPTION:
URL:https://martinus-hn.de/veranstaltung/eucharistiefeier-in-st-maximilian-kolbe-donnerstag/2028-08-10/
LOCATION:St. Maximilian Kolbe\, Jörg-Ratgeb-Platz 25\, Heilbronn-Sontheim\, 74081
CATEGORIES:Gottesdienst
END:VEVENT
BEGIN:VEVENT
DTSTART;TZID=Europe/Berlin:20280812T183000
DTEND;TZID=Europe/Berlin:20280812T193000
DTSTAMP:20260423T140432
CREATED:20260327T114344Z
LAST-MODIFIED:20260327T114457Z
UID:10009765-1849717800-1849721400@martinus-hn.de
SUMMARY:Eucharistiefeier in St. Maximilian Kolbe
DESCRIPTION:
URL:https://martinus-hn.de/veranstaltung/eucharistiefeier-in-st-maximilian-kolbe/2028-08-12/
LOCATION:St. Maximilian Kolbe\, Jörg-Ratgeb-Platz 25\, Heilbronn-Sontheim\, 74081
CATEGORIES:Gottesdienst
END:VEVENT
BEGIN:VEVENT
DTSTART;TZID=Europe/Berlin:20280813T103000
DTEND;TZID=Europe/Berlin:20280813T113000
DTSTAMP:20260423T140432
CREATED:20260327T120935Z
LAST-MODIFIED:20260327T120935Z
UID:10011035-1849775400-1849779000@martinus-hn.de
SUMMARY:Eucharistiefeier in St. Martinus
DESCRIPTION:
URL:https://martinus-hn.de/veranstaltung/eucharistiefeier-in-st-martinus/2028-08-13/
LOCATION:St. Martinus\, Auf dem Bau 1\, Heilbronn-Sontheim\, 74081\, Deutschland
CATEGORIES:Gottesdienst
END:VEVENT
BEGIN:VEVENT
DTSTART;TZID=Europe/Berlin:20280815T183000
DTEND;TZID=Europe/Berlin:20280815T193000
DTSTAMP:20260423T140432
CREATED:20260327T115841Z
LAST-MODIFIED:20260327T115841Z
UID:10010498-1849977000-1849980600@martinus-hn.de
SUMMARY:Eucharistiefeier in Heilig Geist
DESCRIPTION:
URL:https://martinus-hn.de/veranstaltung/eucharistiefeier-in-heilig-geist-dienstag/2028-08-15/
LOCATION:Heilig-Geist-Kirche\, Heilbronner Weg 17\, Heilbronn-Horkheim\, 74081
CATEGORIES:Gottesdienst
END:VEVENT
BEGIN:VEVENT
DTSTART;TZID=Europe/Berlin:20280817T183000
DTEND;TZID=Europe/Berlin:20280817T193000
DTSTAMP:20260423T140432
CREATED:20260327T120443Z
LAST-MODIFIED:20260327T120518Z
UID:10010771-1850149800-1850153400@martinus-hn.de
SUMMARY:Eucharistiefeier in St. Maximilian Kolbe
DESCRIPTION:
URL:https://martinus-hn.de/veranstaltung/eucharistiefeier-in-st-maximilian-kolbe-donnerstag/2028-08-17/
LOCATION:St. Maximilian Kolbe\, Jörg-Ratgeb-Platz 25\, Heilbronn-Sontheim\, 74081
CATEGORIES:Gottesdienst
END:VEVENT
BEGIN:VEVENT
DTSTART;TZID=Europe/Berlin:20280819T183000
DTEND;TZID=Europe/Berlin:20280819T193000
DTSTAMP:20260423T140432
CREATED:20260304T153850Z
LAST-MODIFIED:20260327T114702Z
UID:10009898-1850322600-1850326200@martinus-hn.de
SUMMARY:Eucharistiefeier in Heilig Geist
DESCRIPTION:
URL:https://martinus-hn.de/veranstaltung/eucharistiefeier-in-heilig-geist/2028-08-19/
LOCATION:Heilig-Geist-Kirche\, Heilbronner Weg 17\, Heilbronn-Horkheim\, 74081
CATEGORIES:Gottesdienst
END:VEVENT
BEGIN:VEVENT
DTSTART;TZID=Europe/Berlin:20280820T103000
DTEND;TZID=Europe/Berlin:20280820T113000
DTSTAMP:20260423T140432
CREATED:20260327T120935Z
LAST-MODIFIED:20260327T120935Z
UID:10011036-1850380200-1850383800@martinus-hn.de
SUMMARY:Eucharistiefeier in St. Martinus
DESCRIPTION:
URL:https://martinus-hn.de/veranstaltung/eucharistiefeier-in-st-martinus/2028-08-20/
LOCATION:St. Martinus\, Auf dem Bau 1\, Heilbronn-Sontheim\, 74081\, Deutschland
CATEGORIES:Gottesdienst
END:VEVENT
BEGIN:VEVENT
DTSTART;TZID=Europe/Berlin:20280822T183000
DTEND;TZID=Europe/Berlin:20280822T193000
DTSTAMP:20260423T140432
CREATED:20260327T115841Z
LAST-MODIFIED:20260327T115841Z
UID:10010499-1850581800-1850585400@martinus-hn.de
SUMMARY:Eucharistiefeier in Heilig Geist
DESCRIPTION:
URL:https://martinus-hn.de/veranstaltung/eucharistiefeier-in-heilig-geist-dienstag/2028-08-22/
LOCATION:Heilig-Geist-Kirche\, Heilbronner Weg 17\, Heilbronn-Horkheim\, 74081
CATEGORIES:Gottesdienst
END:VEVENT
BEGIN:VEVENT
DTSTART;TZID=Europe/Berlin:20280824T183000
DTEND;TZID=Europe/Berlin:20280824T193000
DTSTAMP:20260423T140432
CREATED:20260327T120443Z
LAST-MODIFIED:20260327T120518Z
UID:10010772-1850754600-1850758200@martinus-hn.de
SUMMARY:Eucharistiefeier in St. Maximilian Kolbe
DESCRIPTION:
URL:https://martinus-hn.de/veranstaltung/eucharistiefeier-in-st-maximilian-kolbe-donnerstag/2028-08-24/
LOCATION:St. Maximilian Kolbe\, Jörg-Ratgeb-Platz 25\, Heilbronn-Sontheim\, 74081
CATEGORIES:Gottesdienst
END:VEVENT
BEGIN:VEVENT
DTSTART;TZID=Europe/Berlin:20280826T183000
DTEND;TZID=Europe/Berlin:20280826T193000
DTSTAMP:20260423T140432
CREATED:20260327T114344Z
LAST-MODIFIED:20260327T114457Z
UID:10009766-1850927400-1850931000@martinus-hn.de
SUMMARY:Eucharistiefeier in St. Maximilian Kolbe
DESCRIPTION:
URL:https://martinus-hn.de/veranstaltung/eucharistiefeier-in-st-maximilian-kolbe/2028-08-26/
LOCATION:St. Maximilian Kolbe\, Jörg-Ratgeb-Platz 25\, Heilbronn-Sontheim\, 74081
CATEGORIES:Gottesdienst
END:VEVENT
BEGIN:VEVENT
DTSTART;TZID=Europe/Berlin:20280827T103000
DTEND;TZID=Europe/Berlin:20280827T113000
DTSTAMP:20260423T140432
CREATED:20260327T120935Z
LAST-MODIFIED:20260327T120935Z
UID:10011037-1850985000-1850988600@martinus-hn.de
SUMMARY:Eucharistiefeier in St. Martinus
DESCRIPTION:
URL:https://martinus-hn.de/veranstaltung/eucharistiefeier-in-st-martinus/2028-08-27/
LOCATION:St. Martinus\, Auf dem Bau 1\, Heilbronn-Sontheim\, 74081\, Deutschland
CATEGORIES:Gottesdienst
END:VEVENT
BEGIN:VEVENT
DTSTART;TZID=Europe/Berlin:20280829T183000
DTEND;TZID=Europe/Berlin:20280829T193000
DTSTAMP:20260423T140432
CREATED:20260327T115841Z
LAST-MODIFIED:20260327T115841Z
UID:10010500-1851186600-1851190200@martinus-hn.de
SUMMARY:Eucharistiefeier in Heilig Geist
DESCRIPTION:
URL:https://martinus-hn.de/veranstaltung/eucharistiefeier-in-heilig-geist-dienstag/2028-08-29/
LOCATION:Heilig-Geist-Kirche\, Heilbronner Weg 17\, Heilbronn-Horkheim\, 74081
CATEGORIES:Gottesdienst
END:VEVENT
BEGIN:VEVENT
DTSTART;TZID=Europe/Berlin:20280831T183000
DTEND;TZID=Europe/Berlin:20280831T193000
DTSTAMP:20260423T140432
CREATED:20260327T120443Z
LAST-MODIFIED:20260327T120518Z
UID:10010773-1851359400-1851363000@martinus-hn.de
SUMMARY:Eucharistiefeier in St. Maximilian Kolbe
DESCRIPTION:
URL:https://martinus-hn.de/veranstaltung/eucharistiefeier-in-st-maximilian-kolbe-donnerstag/2028-08-31/
LOCATION:St. Maximilian Kolbe\, Jörg-Ratgeb-Platz 25\, Heilbronn-Sontheim\, 74081
CATEGORIES:Gottesdienst
END:VEVENT
BEGIN:VEVENT
DTSTART;TZID=Europe/Berlin:20280902T183000
DTEND;TZID=Europe/Berlin:20280902T193000
DTSTAMP:20260423T140432
CREATED:20260304T153850Z
LAST-MODIFIED:20260327T114702Z
UID:10009899-1851532200-1851535800@martinus-hn.de
SUMMARY:Eucharistiefeier in Heilig Geist
DESCRIPTION:
URL:https://martinus-hn.de/veranstaltung/eucharistiefeier-in-heilig-geist/2028-09-02/
LOCATION:Heilig-Geist-Kirche\, Heilbronner Weg 17\, Heilbronn-Horkheim\, 74081
CATEGORIES:Gottesdienst
END:VEVENT
BEGIN:VEVENT
DTSTART;TZID=Europe/Berlin:20280903T103000
DTEND;TZID=Europe/Berlin:20280903T113000
DTSTAMP:20260423T140432
CREATED:20260327T120935Z
LAST-MODIFIED:20260327T120935Z
UID:10011038-1851589800-1851593400@martinus-hn.de
SUMMARY:Eucharistiefeier in St. Martinus
DESCRIPTION:
URL:https://martinus-hn.de/veranstaltung/eucharistiefeier-in-st-martinus/2028-09-03/
LOCATION:St. Martinus\, Auf dem Bau 1\, Heilbronn-Sontheim\, 74081\, Deutschland
CATEGORIES:Gottesdienst
END:VEVENT
BEGIN:VEVENT
DTSTART;TZID=Europe/Berlin:20280905T183000
DTEND;TZID=Europe/Berlin:20280905T193000
DTSTAMP:20260423T140432
CREATED:20260327T115841Z
LAST-MODIFIED:20260327T115841Z
UID:10010501-1851791400-1851795000@martinus-hn.de
SUMMARY:Eucharistiefeier in Heilig Geist
DESCRIPTION:
URL:https://martinus-hn.de/veranstaltung/eucharistiefeier-in-heilig-geist-dienstag/2028-09-05/
LOCATION:Heilig-Geist-Kirche\, Heilbronner Weg 17\, Heilbronn-Horkheim\, 74081
CATEGORIES:Gottesdienst
END:VEVENT
BEGIN:VEVENT
DTSTART;TZID=Europe/Berlin:20280907T183000
DTEND;TZID=Europe/Berlin:20280907T193000
DTSTAMP:20260423T140432
CREATED:20260327T120443Z
LAST-MODIFIED:20260327T120518Z
UID:10010774-1851964200-1851967800@martinus-hn.de
SUMMARY:Eucharistiefeier in St. Maximilian Kolbe
DESCRIPTION:
URL:https://martinus-hn.de/veranstaltung/eucharistiefeier-in-st-maximilian-kolbe-donnerstag/2028-09-07/
LOCATION:St. Maximilian Kolbe\, Jörg-Ratgeb-Platz 25\, Heilbronn-Sontheim\, 74081
CATEGORIES:Gottesdienst
END:VEVENT
BEGIN:VEVENT
DTSTART;TZID=Europe/Berlin:20280909T183000
DTEND;TZID=Europe/Berlin:20280909T193000
DTSTAMP:20260423T140432
CREATED:20260327T114344Z
LAST-MODIFIED:20260327T114457Z
UID:10009767-1852137000-1852140600@martinus-hn.de
SUMMARY:Eucharistiefeier in St. Maximilian Kolbe
DESCRIPTION:
URL:https://martinus-hn.de/veranstaltung/eucharistiefeier-in-st-maximilian-kolbe/2028-09-09/
LOCATION:St. Maximilian Kolbe\, Jörg-Ratgeb-Platz 25\, Heilbronn-Sontheim\, 74081
CATEGORIES:Gottesdienst
END:VEVENT
BEGIN:VEVENT
DTSTART;TZID=Europe/Berlin:20280910T103000
DTEND;TZID=Europe/Berlin:20280910T113000
DTSTAMP:20260423T140432
CREATED:20260327T120935Z
LAST-MODIFIED:20260327T120935Z
UID:10011039-1852194600-1852198200@martinus-hn.de
SUMMARY:Eucharistiefeier in St. Martinus
DESCRIPTION:
URL:https://martinus-hn.de/veranstaltung/eucharistiefeier-in-st-martinus/2028-09-10/
LOCATION:St. Martinus\, Auf dem Bau 1\, Heilbronn-Sontheim\, 74081\, Deutschland
CATEGORIES:Gottesdienst
END:VEVENT
BEGIN:VEVENT
DTSTART;TZID=Europe/Berlin:20280912T183000
DTEND;TZID=Europe/Berlin:20280912T193000
DTSTAMP:20260423T140432
CREATED:20260327T115841Z
LAST-MODIFIED:20260327T115841Z
UID:10010502-1852396200-1852399800@martinus-hn.de
SUMMARY:Eucharistiefeier in Heilig Geist
DESCRIPTION:
URL:https://martinus-hn.de/veranstaltung/eucharistiefeier-in-heilig-geist-dienstag/2028-09-12/
LOCATION:Heilig-Geist-Kirche\, Heilbronner Weg 17\, Heilbronn-Horkheim\, 74081
CATEGORIES:Gottesdienst
END:VEVENT
BEGIN:VEVENT
DTSTART;TZID=Europe/Berlin:20280914T183000
DTEND;TZID=Europe/Berlin:20280914T193000
DTSTAMP:20260423T140432
CREATED:20260327T120443Z
LAST-MODIFIED:20260327T120518Z
UID:10010775-1852569000-1852572600@martinus-hn.de
SUMMARY:Eucharistiefeier in St. Maximilian Kolbe
DESCRIPTION:
URL:https://martinus-hn.de/veranstaltung/eucharistiefeier-in-st-maximilian-kolbe-donnerstag/2028-09-14/
LOCATION:St. Maximilian Kolbe\, Jörg-Ratgeb-Platz 25\, Heilbronn-Sontheim\, 74081
CATEGORIES:Gottesdienst
END:VEVENT
END:VCALENDAR