BEGIN:VCALENDAR
VERSION:2.0
PRODID:-//St. Martinus Heilbronn-Sontheim - ECPv6.10.2//NONSGML v1.0//EN
CALSCALE:GREGORIAN
METHOD:PUBLISH
X-WR-CALNAME:St. Martinus Heilbronn-Sontheim
X-ORIGINAL-URL:https://martinus-hn.de
X-WR-CALDESC:Veranstaltungen für St. Martinus Heilbronn-Sontheim
REFRESH-INTERVAL;VALUE=DURATION:PT1H
X-Robots-Tag:noindex
X-PUBLISHED-TTL:PT1H
BEGIN:VTIMEZONE
TZID:Europe/Berlin
BEGIN:DAYLIGHT
TZOFFSETFROM:+0100
TZOFFSETTO:+0200
TZNAME:CEST
DTSTART:20280326T010000
END:DAYLIGHT
BEGIN:STANDARD
TZOFFSETFROM:+0200
TZOFFSETTO:+0100
TZNAME:CET
DTSTART:20281029T010000
END:STANDARD
END:VTIMEZONE
BEGIN:VEVENT
DTSTART;TZID=Europe/Berlin:20280620T183000
DTEND;TZID=Europe/Berlin:20280620T193000
DTSTAMP:20260423T093810
CREATED:20260327T115841Z
LAST-MODIFIED:20260327T115841Z
UID:10010490-1845138600-1845142200@martinus-hn.de
SUMMARY:Eucharistiefeier in Heilig Geist
DESCRIPTION:
URL:https://martinus-hn.de/veranstaltung/eucharistiefeier-in-heilig-geist-dienstag/2028-06-20/
LOCATION:Heilig-Geist-Kirche\, Heilbronner Weg 17\, Heilbronn-Horkheim\, 74081
CATEGORIES:Gottesdienst
END:VEVENT
BEGIN:VEVENT
DTSTART;TZID=Europe/Berlin:20280622T183000
DTEND;TZID=Europe/Berlin:20280622T193000
DTSTAMP:20260423T093810
CREATED:20260327T120443Z
LAST-MODIFIED:20260327T120518Z
UID:10010763-1845311400-1845315000@martinus-hn.de
SUMMARY:Eucharistiefeier in St. Maximilian Kolbe
DESCRIPTION:
URL:https://martinus-hn.de/veranstaltung/eucharistiefeier-in-st-maximilian-kolbe-donnerstag/2028-06-22/
LOCATION:St. Maximilian Kolbe\, Jörg-Ratgeb-Platz 25\, Heilbronn-Sontheim\, 74081
CATEGORIES:Gottesdienst
END:VEVENT
BEGIN:VEVENT
DTSTART;TZID=Europe/Berlin:20280624T183000
DTEND;TZID=Europe/Berlin:20280624T193000
DTSTAMP:20260423T093810
CREATED:20260304T153850Z
LAST-MODIFIED:20260327T114702Z
UID:10009894-1845484200-1845487800@martinus-hn.de
SUMMARY:Eucharistiefeier in Heilig Geist
DESCRIPTION:
URL:https://martinus-hn.de/veranstaltung/eucharistiefeier-in-heilig-geist/2028-06-24/
LOCATION:Heilig-Geist-Kirche\, Heilbronner Weg 17\, Heilbronn-Horkheim\, 74081
CATEGORIES:Gottesdienst
END:VEVENT
BEGIN:VEVENT
DTSTART;TZID=Europe/Berlin:20280625T103000
DTEND;TZID=Europe/Berlin:20280625T113000
DTSTAMP:20260423T093810
CREATED:20260327T120935Z
LAST-MODIFIED:20260327T120935Z
UID:10011028-1845541800-1845545400@martinus-hn.de
SUMMARY:Eucharistiefeier in St. Martinus
DESCRIPTION:
URL:https://martinus-hn.de/veranstaltung/eucharistiefeier-in-st-martinus/2028-06-25/
LOCATION:St. Martinus\, Auf dem Bau 1\, Heilbronn-Sontheim\, 74081\, Deutschland
CATEGORIES:Gottesdienst
END:VEVENT
BEGIN:VEVENT
DTSTART;TZID=Europe/Berlin:20280627T183000
DTEND;TZID=Europe/Berlin:20280627T193000
DTSTAMP:20260423T093810
CREATED:20260327T115841Z
LAST-MODIFIED:20260327T115841Z
UID:10010491-1845743400-1845747000@martinus-hn.de
SUMMARY:Eucharistiefeier in Heilig Geist
DESCRIPTION:
URL:https://martinus-hn.de/veranstaltung/eucharistiefeier-in-heilig-geist-dienstag/2028-06-27/
LOCATION:Heilig-Geist-Kirche\, Heilbronner Weg 17\, Heilbronn-Horkheim\, 74081
CATEGORIES:Gottesdienst
END:VEVENT
BEGIN:VEVENT
DTSTART;TZID=Europe/Berlin:20280629T183000
DTEND;TZID=Europe/Berlin:20280629T193000
DTSTAMP:20260423T093810
CREATED:20260327T120443Z
LAST-MODIFIED:20260327T120518Z
UID:10010764-1845916200-1845919800@martinus-hn.de
SUMMARY:Eucharistiefeier in St. Maximilian Kolbe
DESCRIPTION:
URL:https://martinus-hn.de/veranstaltung/eucharistiefeier-in-st-maximilian-kolbe-donnerstag/2028-06-29/
LOCATION:St. Maximilian Kolbe\, Jörg-Ratgeb-Platz 25\, Heilbronn-Sontheim\, 74081
CATEGORIES:Gottesdienst
END:VEVENT
BEGIN:VEVENT
DTSTART;TZID=Europe/Berlin:20280701T183000
DTEND;TZID=Europe/Berlin:20280701T193000
DTSTAMP:20260423T093810
CREATED:20260327T114344Z
LAST-MODIFIED:20260327T114457Z
UID:10009762-1846089000-1846092600@martinus-hn.de
SUMMARY:Eucharistiefeier in St. Maximilian Kolbe
DESCRIPTION:
URL:https://martinus-hn.de/veranstaltung/eucharistiefeier-in-st-maximilian-kolbe/2028-07-01/
LOCATION:St. Maximilian Kolbe\, Jörg-Ratgeb-Platz 25\, Heilbronn-Sontheim\, 74081
CATEGORIES:Gottesdienst
END:VEVENT
BEGIN:VEVENT
DTSTART;TZID=Europe/Berlin:20280702T103000
DTEND;TZID=Europe/Berlin:20280702T113000
DTSTAMP:20260423T093810
CREATED:20260327T120935Z
LAST-MODIFIED:20260327T120935Z
UID:10011029-1846146600-1846150200@martinus-hn.de
SUMMARY:Eucharistiefeier in St. Martinus
DESCRIPTION:
URL:https://martinus-hn.de/veranstaltung/eucharistiefeier-in-st-martinus/2028-07-02/
LOCATION:St. Martinus\, Auf dem Bau 1\, Heilbronn-Sontheim\, 74081\, Deutschland
CATEGORIES:Gottesdienst
END:VEVENT
BEGIN:VEVENT
DTSTART;TZID=Europe/Berlin:20280704T183000
DTEND;TZID=Europe/Berlin:20280704T193000
DTSTAMP:20260423T093810
CREATED:20260327T115841Z
LAST-MODIFIED:20260327T115841Z
UID:10010492-1846348200-1846351800@martinus-hn.de
SUMMARY:Eucharistiefeier in Heilig Geist
DESCRIPTION:
URL:https://martinus-hn.de/veranstaltung/eucharistiefeier-in-heilig-geist-dienstag/2028-07-04/
LOCATION:Heilig-Geist-Kirche\, Heilbronner Weg 17\, Heilbronn-Horkheim\, 74081
CATEGORIES:Gottesdienst
END:VEVENT
BEGIN:VEVENT
DTSTART;TZID=Europe/Berlin:20280706T183000
DTEND;TZID=Europe/Berlin:20280706T193000
DTSTAMP:20260423T093810
CREATED:20260327T120443Z
LAST-MODIFIED:20260327T120518Z
UID:10010765-1846521000-1846524600@martinus-hn.de
SUMMARY:Eucharistiefeier in St. Maximilian Kolbe
DESCRIPTION:
URL:https://martinus-hn.de/veranstaltung/eucharistiefeier-in-st-maximilian-kolbe-donnerstag/2028-07-06/
LOCATION:St. Maximilian Kolbe\, Jörg-Ratgeb-Platz 25\, Heilbronn-Sontheim\, 74081
CATEGORIES:Gottesdienst
END:VEVENT
BEGIN:VEVENT
DTSTART;TZID=Europe/Berlin:20280708T183000
DTEND;TZID=Europe/Berlin:20280708T193000
DTSTAMP:20260423T093810
CREATED:20260304T153850Z
LAST-MODIFIED:20260327T114702Z
UID:10009895-1846693800-1846697400@martinus-hn.de
SUMMARY:Eucharistiefeier in Heilig Geist
DESCRIPTION:
URL:https://martinus-hn.de/veranstaltung/eucharistiefeier-in-heilig-geist/2028-07-08/
LOCATION:Heilig-Geist-Kirche\, Heilbronner Weg 17\, Heilbronn-Horkheim\, 74081
CATEGORIES:Gottesdienst
END:VEVENT
BEGIN:VEVENT
DTSTART;TZID=Europe/Berlin:20280709T103000
DTEND;TZID=Europe/Berlin:20280709T113000
DTSTAMP:20260423T093810
CREATED:20260327T120935Z
LAST-MODIFIED:20260327T120935Z
UID:10011030-1846751400-1846755000@martinus-hn.de
SUMMARY:Eucharistiefeier in St. Martinus
DESCRIPTION:
URL:https://martinus-hn.de/veranstaltung/eucharistiefeier-in-st-martinus/2028-07-09/
LOCATION:St. Martinus\, Auf dem Bau 1\, Heilbronn-Sontheim\, 74081\, Deutschland
CATEGORIES:Gottesdienst
END:VEVENT
BEGIN:VEVENT
DTSTART;TZID=Europe/Berlin:20280711T183000
DTEND;TZID=Europe/Berlin:20280711T193000
DTSTAMP:20260423T093810
CREATED:20260327T115841Z
LAST-MODIFIED:20260327T115841Z
UID:10010493-1846953000-1846956600@martinus-hn.de
SUMMARY:Eucharistiefeier in Heilig Geist
DESCRIPTION:
URL:https://martinus-hn.de/veranstaltung/eucharistiefeier-in-heilig-geist-dienstag/2028-07-11/
LOCATION:Heilig-Geist-Kirche\, Heilbronner Weg 17\, Heilbronn-Horkheim\, 74081
CATEGORIES:Gottesdienst
END:VEVENT
BEGIN:VEVENT
DTSTART;TZID=Europe/Berlin:20280713T183000
DTEND;TZID=Europe/Berlin:20280713T193000
DTSTAMP:20260423T093810
CREATED:20260327T120443Z
LAST-MODIFIED:20260327T120518Z
UID:10010766-1847125800-1847129400@martinus-hn.de
SUMMARY:Eucharistiefeier in St. Maximilian Kolbe
DESCRIPTION:
URL:https://martinus-hn.de/veranstaltung/eucharistiefeier-in-st-maximilian-kolbe-donnerstag/2028-07-13/
LOCATION:St. Maximilian Kolbe\, Jörg-Ratgeb-Platz 25\, Heilbronn-Sontheim\, 74081
CATEGORIES:Gottesdienst
END:VEVENT
BEGIN:VEVENT
DTSTART;TZID=Europe/Berlin:20280715T183000
DTEND;TZID=Europe/Berlin:20280715T193000
DTSTAMP:20260423T093810
CREATED:20260327T114344Z
LAST-MODIFIED:20260327T114457Z
UID:10009763-1847298600-1847302200@martinus-hn.de
SUMMARY:Eucharistiefeier in St. Maximilian Kolbe
DESCRIPTION:
URL:https://martinus-hn.de/veranstaltung/eucharistiefeier-in-st-maximilian-kolbe/2028-07-15/
LOCATION:St. Maximilian Kolbe\, Jörg-Ratgeb-Platz 25\, Heilbronn-Sontheim\, 74081
CATEGORIES:Gottesdienst
END:VEVENT
BEGIN:VEVENT
DTSTART;TZID=Europe/Berlin:20280716T103000
DTEND;TZID=Europe/Berlin:20280716T113000
DTSTAMP:20260423T093810
CREATED:20260327T120935Z
LAST-MODIFIED:20260327T120935Z
UID:10011031-1847356200-1847359800@martinus-hn.de
SUMMARY:Eucharistiefeier in St. Martinus
DESCRIPTION:
URL:https://martinus-hn.de/veranstaltung/eucharistiefeier-in-st-martinus/2028-07-16/
LOCATION:St. Martinus\, Auf dem Bau 1\, Heilbronn-Sontheim\, 74081\, Deutschland
CATEGORIES:Gottesdienst
END:VEVENT
BEGIN:VEVENT
DTSTART;TZID=Europe/Berlin:20280718T183000
DTEND;TZID=Europe/Berlin:20280718T193000
DTSTAMP:20260423T093810
CREATED:20260327T115841Z
LAST-MODIFIED:20260327T115841Z
UID:10010494-1847557800-1847561400@martinus-hn.de
SUMMARY:Eucharistiefeier in Heilig Geist
DESCRIPTION:
URL:https://martinus-hn.de/veranstaltung/eucharistiefeier-in-heilig-geist-dienstag/2028-07-18/
LOCATION:Heilig-Geist-Kirche\, Heilbronner Weg 17\, Heilbronn-Horkheim\, 74081
CATEGORIES:Gottesdienst
END:VEVENT
BEGIN:VEVENT
DTSTART;TZID=Europe/Berlin:20280720T183000
DTEND;TZID=Europe/Berlin:20280720T193000
DTSTAMP:20260423T093810
CREATED:20260327T120443Z
LAST-MODIFIED:20260327T120518Z
UID:10010767-1847730600-1847734200@martinus-hn.de
SUMMARY:Eucharistiefeier in St. Maximilian Kolbe
DESCRIPTION:
URL:https://martinus-hn.de/veranstaltung/eucharistiefeier-in-st-maximilian-kolbe-donnerstag/2028-07-20/
LOCATION:St. Maximilian Kolbe\, Jörg-Ratgeb-Platz 25\, Heilbronn-Sontheim\, 74081
CATEGORIES:Gottesdienst
END:VEVENT
BEGIN:VEVENT
DTSTART;TZID=Europe/Berlin:20280722T183000
DTEND;TZID=Europe/Berlin:20280722T193000
DTSTAMP:20260423T093810
CREATED:20260304T153850Z
LAST-MODIFIED:20260327T114702Z
UID:10009896-1847903400-1847907000@martinus-hn.de
SUMMARY:Eucharistiefeier in Heilig Geist
DESCRIPTION:
URL:https://martinus-hn.de/veranstaltung/eucharistiefeier-in-heilig-geist/2028-07-22/
LOCATION:Heilig-Geist-Kirche\, Heilbronner Weg 17\, Heilbronn-Horkheim\, 74081
CATEGORIES:Gottesdienst
END:VEVENT
BEGIN:VEVENT
DTSTART;TZID=Europe/Berlin:20280723T103000
DTEND;TZID=Europe/Berlin:20280723T113000
DTSTAMP:20260423T093810
CREATED:20260327T120935Z
LAST-MODIFIED:20260327T120935Z
UID:10011032-1847961000-1847964600@martinus-hn.de
SUMMARY:Eucharistiefeier in St. Martinus
DESCRIPTION:
URL:https://martinus-hn.de/veranstaltung/eucharistiefeier-in-st-martinus/2028-07-23/
LOCATION:St. Martinus\, Auf dem Bau 1\, Heilbronn-Sontheim\, 74081\, Deutschland
CATEGORIES:Gottesdienst
END:VEVENT
BEGIN:VEVENT
DTSTART;TZID=Europe/Berlin:20280725T183000
DTEND;TZID=Europe/Berlin:20280725T193000
DTSTAMP:20260423T093810
CREATED:20260327T115841Z
LAST-MODIFIED:20260327T115841Z
UID:10010495-1848162600-1848166200@martinus-hn.de
SUMMARY:Eucharistiefeier in Heilig Geist
DESCRIPTION:
URL:https://martinus-hn.de/veranstaltung/eucharistiefeier-in-heilig-geist-dienstag/2028-07-25/
LOCATION:Heilig-Geist-Kirche\, Heilbronner Weg 17\, Heilbronn-Horkheim\, 74081
CATEGORIES:Gottesdienst
END:VEVENT
BEGIN:VEVENT
DTSTART;TZID=Europe/Berlin:20280727T183000
DTEND;TZID=Europe/Berlin:20280727T193000
DTSTAMP:20260423T093810
CREATED:20260327T120443Z
LAST-MODIFIED:20260327T120518Z
UID:10010768-1848335400-1848339000@martinus-hn.de
SUMMARY:Eucharistiefeier in St. Maximilian Kolbe
DESCRIPTION:
URL:https://martinus-hn.de/veranstaltung/eucharistiefeier-in-st-maximilian-kolbe-donnerstag/2028-07-27/
LOCATION:St. Maximilian Kolbe\, Jörg-Ratgeb-Platz 25\, Heilbronn-Sontheim\, 74081
CATEGORIES:Gottesdienst
END:VEVENT
BEGIN:VEVENT
DTSTART;TZID=Europe/Berlin:20280729T183000
DTEND;TZID=Europe/Berlin:20280729T193000
DTSTAMP:20260423T093810
CREATED:20260327T114344Z
LAST-MODIFIED:20260327T114457Z
UID:10009764-1848508200-1848511800@martinus-hn.de
SUMMARY:Eucharistiefeier in St. Maximilian Kolbe
DESCRIPTION:
URL:https://martinus-hn.de/veranstaltung/eucharistiefeier-in-st-maximilian-kolbe/2028-07-29/
LOCATION:St. Maximilian Kolbe\, Jörg-Ratgeb-Platz 25\, Heilbronn-Sontheim\, 74081
CATEGORIES:Gottesdienst
END:VEVENT
BEGIN:VEVENT
DTSTART;TZID=Europe/Berlin:20280730T103000
DTEND;TZID=Europe/Berlin:20280730T113000
DTSTAMP:20260423T093810
CREATED:20260327T120935Z
LAST-MODIFIED:20260327T120935Z
UID:10011033-1848565800-1848569400@martinus-hn.de
SUMMARY:Eucharistiefeier in St. Martinus
DESCRIPTION:
URL:https://martinus-hn.de/veranstaltung/eucharistiefeier-in-st-martinus/2028-07-30/
LOCATION:St. Martinus\, Auf dem Bau 1\, Heilbronn-Sontheim\, 74081\, Deutschland
CATEGORIES:Gottesdienst
END:VEVENT
BEGIN:VEVENT
DTSTART;TZID=Europe/Berlin:20280801T183000
DTEND;TZID=Europe/Berlin:20280801T193000
DTSTAMP:20260423T093810
CREATED:20260327T115841Z
LAST-MODIFIED:20260327T115841Z
UID:10010496-1848767400-1848771000@martinus-hn.de
SUMMARY:Eucharistiefeier in Heilig Geist
DESCRIPTION:
URL:https://martinus-hn.de/veranstaltung/eucharistiefeier-in-heilig-geist-dienstag/2028-08-01/
LOCATION:Heilig-Geist-Kirche\, Heilbronner Weg 17\, Heilbronn-Horkheim\, 74081
CATEGORIES:Gottesdienst
END:VEVENT
BEGIN:VEVENT
DTSTART;TZID=Europe/Berlin:20280803T183000
DTEND;TZID=Europe/Berlin:20280803T193000
DTSTAMP:20260423T093810
CREATED:20260327T120443Z
LAST-MODIFIED:20260327T120518Z
UID:10010769-1848940200-1848943800@martinus-hn.de
SUMMARY:Eucharistiefeier in St. Maximilian Kolbe
DESCRIPTION:
URL:https://martinus-hn.de/veranstaltung/eucharistiefeier-in-st-maximilian-kolbe-donnerstag/2028-08-03/
LOCATION:St. Maximilian Kolbe\, Jörg-Ratgeb-Platz 25\, Heilbronn-Sontheim\, 74081
CATEGORIES:Gottesdienst
END:VEVENT
BEGIN:VEVENT
DTSTART;TZID=Europe/Berlin:20280805T183000
DTEND;TZID=Europe/Berlin:20280805T193000
DTSTAMP:20260423T093810
CREATED:20260304T153850Z
LAST-MODIFIED:20260327T114702Z
UID:10009897-1849113000-1849116600@martinus-hn.de
SUMMARY:Eucharistiefeier in Heilig Geist
DESCRIPTION:
URL:https://martinus-hn.de/veranstaltung/eucharistiefeier-in-heilig-geist/2028-08-05/
LOCATION:Heilig-Geist-Kirche\, Heilbronner Weg 17\, Heilbronn-Horkheim\, 74081
CATEGORIES:Gottesdienst
END:VEVENT
BEGIN:VEVENT
DTSTART;TZID=Europe/Berlin:20280806T103000
DTEND;TZID=Europe/Berlin:20280806T113000
DTSTAMP:20260423T093810
CREATED:20260327T120935Z
LAST-MODIFIED:20260327T120935Z
UID:10011034-1849170600-1849174200@martinus-hn.de
SUMMARY:Eucharistiefeier in St. Martinus
DESCRIPTION:
URL:https://martinus-hn.de/veranstaltung/eucharistiefeier-in-st-martinus/2028-08-06/
LOCATION:St. Martinus\, Auf dem Bau 1\, Heilbronn-Sontheim\, 74081\, Deutschland
CATEGORIES:Gottesdienst
END:VEVENT
BEGIN:VEVENT
DTSTART;TZID=Europe/Berlin:20280808T183000
DTEND;TZID=Europe/Berlin:20280808T193000
DTSTAMP:20260423T093810
CREATED:20260327T115841Z
LAST-MODIFIED:20260327T115841Z
UID:10010497-1849372200-1849375800@martinus-hn.de
SUMMARY:Eucharistiefeier in Heilig Geist
DESCRIPTION:
URL:https://martinus-hn.de/veranstaltung/eucharistiefeier-in-heilig-geist-dienstag/2028-08-08/
LOCATION:Heilig-Geist-Kirche\, Heilbronner Weg 17\, Heilbronn-Horkheim\, 74081
CATEGORIES:Gottesdienst
END:VEVENT
BEGIN:VEVENT
DTSTART;TZID=Europe/Berlin:20280810T183000
DTEND;TZID=Europe/Berlin:20280810T193000
DTSTAMP:20260423T093810
CREATED:20260327T120443Z
LAST-MODIFIED:20260327T120518Z
UID:10010770-1849545000-1849548600@martinus-hn.de
SUMMARY:Eucharistiefeier in St. Maximilian Kolbe
DESCRIPTION:
URL:https://martinus-hn.de/veranstaltung/eucharistiefeier-in-st-maximilian-kolbe-donnerstag/2028-08-10/
LOCATION:St. Maximilian Kolbe\, Jörg-Ratgeb-Platz 25\, Heilbronn-Sontheim\, 74081
CATEGORIES:Gottesdienst
END:VEVENT
END:VCALENDAR