BEGIN:VCALENDAR
VERSION:2.0
PRODID:-//St. Martinus Heilbronn-Sontheim - ECPv6.10.2//NONSGML v1.0//EN
CALSCALE:GREGORIAN
METHOD:PUBLISH
X-ORIGINAL-URL:https://martinus-hn.de
X-WR-CALDESC:Veranstaltungen für St. Martinus Heilbronn-Sontheim
REFRESH-INTERVAL;VALUE=DURATION:PT1H
X-Robots-Tag:noindex
X-PUBLISHED-TTL:PT1H
BEGIN:VTIMEZONE
TZID:Europe/Berlin
BEGIN:DAYLIGHT
TZOFFSETFROM:+0100
TZOFFSETTO:+0200
TZNAME:CEST
DTSTART:20270328T010000
END:DAYLIGHT
BEGIN:STANDARD
TZOFFSETFROM:+0200
TZOFFSETTO:+0100
TZNAME:CET
DTSTART:20271031T010000
END:STANDARD
END:VTIMEZONE
BEGIN:VEVENT
DTSTART;TZID=Europe/Berlin:20271017T103000
DTEND;TZID=Europe/Berlin:20271017T113000
DTSTAMP:20260422T022012
CREATED:20260327T120935Z
LAST-MODIFIED:20260327T120935Z
UID:10010992-1823769000-1823772600@martinus-hn.de
SUMMARY:Eucharistiefeier in St. Martinus
DESCRIPTION:
URL:https://martinus-hn.de/veranstaltung/eucharistiefeier-in-st-martinus/2027-10-17/
LOCATION:St. Martinus\, Auf dem Bau 1\, Heilbronn-Sontheim\, 74081\, Deutschland
CATEGORIES:Gottesdienst
END:VEVENT
BEGIN:VEVENT
DTSTART;TZID=Europe/Berlin:20271019T183000
DTEND;TZID=Europe/Berlin:20271019T193000
DTSTAMP:20260422T022012
CREATED:20260327T115841Z
LAST-MODIFIED:20260327T115841Z
UID:10010455-1823970600-1823974200@martinus-hn.de
SUMMARY:Eucharistiefeier in Heilig Geist
DESCRIPTION:
URL:https://martinus-hn.de/veranstaltung/eucharistiefeier-in-heilig-geist-dienstag/2027-10-19/
LOCATION:Heilig-Geist-Kirche\, Heilbronner Weg 17\, Heilbronn-Horkheim\, 74081
CATEGORIES:Gottesdienst
END:VEVENT
BEGIN:VEVENT
DTSTART;TZID=Europe/Berlin:20271021T183000
DTEND;TZID=Europe/Berlin:20271021T193000
DTSTAMP:20260422T022012
CREATED:20260327T120443Z
LAST-MODIFIED:20260327T120518Z
UID:10010728-1824143400-1824147000@martinus-hn.de
SUMMARY:Eucharistiefeier in St. Maximilian Kolbe
DESCRIPTION:
URL:https://martinus-hn.de/veranstaltung/eucharistiefeier-in-st-maximilian-kolbe-donnerstag/2027-10-21/
LOCATION:St. Maximilian Kolbe\, Jörg-Ratgeb-Platz 25\, Heilbronn-Sontheim\, 74081
CATEGORIES:Gottesdienst
END:VEVENT
BEGIN:VEVENT
DTSTART;TZID=Europe/Berlin:20271023T183000
DTEND;TZID=Europe/Berlin:20271023T193000
DTSTAMP:20260422T022012
CREATED:20260327T114344Z
LAST-MODIFIED:20260327T114457Z
UID:10009744-1824316200-1824319800@martinus-hn.de
SUMMARY:Eucharistiefeier in St. Maximilian Kolbe
DESCRIPTION:
URL:https://martinus-hn.de/veranstaltung/eucharistiefeier-in-st-maximilian-kolbe/2027-10-23/
LOCATION:St. Maximilian Kolbe\, Jörg-Ratgeb-Platz 25\, Heilbronn-Sontheim\, 74081
CATEGORIES:Gottesdienst
END:VEVENT
BEGIN:VEVENT
DTSTART;TZID=Europe/Berlin:20271024T103000
DTEND;TZID=Europe/Berlin:20271024T113000
DTSTAMP:20260422T022012
CREATED:20260327T120935Z
LAST-MODIFIED:20260327T120935Z
UID:10010993-1824373800-1824377400@martinus-hn.de
SUMMARY:Eucharistiefeier in St. Martinus
DESCRIPTION:
URL:https://martinus-hn.de/veranstaltung/eucharistiefeier-in-st-martinus/2027-10-24/
LOCATION:St. Martinus\, Auf dem Bau 1\, Heilbronn-Sontheim\, 74081\, Deutschland
CATEGORIES:Gottesdienst
END:VEVENT
BEGIN:VEVENT
DTSTART;TZID=Europe/Berlin:20271026T183000
DTEND;TZID=Europe/Berlin:20271026T193000
DTSTAMP:20260422T022012
CREATED:20260327T115841Z
LAST-MODIFIED:20260327T115841Z
UID:10010456-1824575400-1824579000@martinus-hn.de
SUMMARY:Eucharistiefeier in Heilig Geist
DESCRIPTION:
URL:https://martinus-hn.de/veranstaltung/eucharistiefeier-in-heilig-geist-dienstag/2027-10-26/
LOCATION:Heilig-Geist-Kirche\, Heilbronner Weg 17\, Heilbronn-Horkheim\, 74081
CATEGORIES:Gottesdienst
END:VEVENT
BEGIN:VEVENT
DTSTART;TZID=Europe/Berlin:20271028T183000
DTEND;TZID=Europe/Berlin:20271028T193000
DTSTAMP:20260422T022012
CREATED:20260327T120443Z
LAST-MODIFIED:20260327T120518Z
UID:10010729-1824748200-1824751800@martinus-hn.de
SUMMARY:Eucharistiefeier in St. Maximilian Kolbe
DESCRIPTION:
URL:https://martinus-hn.de/veranstaltung/eucharistiefeier-in-st-maximilian-kolbe-donnerstag/2027-10-28/
LOCATION:St. Maximilian Kolbe\, Jörg-Ratgeb-Platz 25\, Heilbronn-Sontheim\, 74081
CATEGORIES:Gottesdienst
END:VEVENT
BEGIN:VEVENT
DTSTART;TZID=Europe/Berlin:20271030T183000
DTEND;TZID=Europe/Berlin:20271030T193000
DTSTAMP:20260422T022012
CREATED:20260304T153850Z
LAST-MODIFIED:20260327T114702Z
UID:10009877-1824921000-1824924600@martinus-hn.de
SUMMARY:Eucharistiefeier in Heilig Geist
DESCRIPTION:
URL:https://martinus-hn.de/veranstaltung/eucharistiefeier-in-heilig-geist/2027-10-30/
LOCATION:Heilig-Geist-Kirche\, Heilbronner Weg 17\, Heilbronn-Horkheim\, 74081
CATEGORIES:Gottesdienst
END:VEVENT
BEGIN:VEVENT
DTSTART;TZID=Europe/Berlin:20271031T103000
DTEND;TZID=Europe/Berlin:20271031T113000
DTSTAMP:20260422T022012
CREATED:20260327T120935Z
LAST-MODIFIED:20260327T120935Z
UID:10010994-1824978600-1824982200@martinus-hn.de
SUMMARY:Eucharistiefeier in St. Martinus
DESCRIPTION:
URL:https://martinus-hn.de/veranstaltung/eucharistiefeier-in-st-martinus/2027-10-31/
LOCATION:St. Martinus\, Auf dem Bau 1\, Heilbronn-Sontheim\, 74081\, Deutschland
CATEGORIES:Gottesdienst
END:VEVENT
BEGIN:VEVENT
DTSTART;TZID=Europe/Berlin:20271102T183000
DTEND;TZID=Europe/Berlin:20271102T193000
DTSTAMP:20260422T022012
CREATED:20260327T115841Z
LAST-MODIFIED:20260327T115841Z
UID:10010457-1825180200-1825183800@martinus-hn.de
SUMMARY:Eucharistiefeier in Heilig Geist
DESCRIPTION:
URL:https://martinus-hn.de/veranstaltung/eucharistiefeier-in-heilig-geist-dienstag/2027-11-02/
LOCATION:Heilig-Geist-Kirche\, Heilbronner Weg 17\, Heilbronn-Horkheim\, 74081
CATEGORIES:Gottesdienst
END:VEVENT
BEGIN:VEVENT
DTSTART;TZID=Europe/Berlin:20271104T183000
DTEND;TZID=Europe/Berlin:20271104T193000
DTSTAMP:20260422T022012
CREATED:20260327T120443Z
LAST-MODIFIED:20260327T120518Z
UID:10010730-1825353000-1825356600@martinus-hn.de
SUMMARY:Eucharistiefeier in St. Maximilian Kolbe
DESCRIPTION:
URL:https://martinus-hn.de/veranstaltung/eucharistiefeier-in-st-maximilian-kolbe-donnerstag/2027-11-04/
LOCATION:St. Maximilian Kolbe\, Jörg-Ratgeb-Platz 25\, Heilbronn-Sontheim\, 74081
CATEGORIES:Gottesdienst
END:VEVENT
BEGIN:VEVENT
DTSTART;TZID=Europe/Berlin:20271106T183000
DTEND;TZID=Europe/Berlin:20271106T193000
DTSTAMP:20260422T022012
CREATED:20260327T114344Z
LAST-MODIFIED:20260327T114457Z
UID:10009745-1825525800-1825529400@martinus-hn.de
SUMMARY:Eucharistiefeier in St. Maximilian Kolbe
DESCRIPTION:
URL:https://martinus-hn.de/veranstaltung/eucharistiefeier-in-st-maximilian-kolbe/2027-11-06/
LOCATION:St. Maximilian Kolbe\, Jörg-Ratgeb-Platz 25\, Heilbronn-Sontheim\, 74081
CATEGORIES:Gottesdienst
END:VEVENT
BEGIN:VEVENT
DTSTART;TZID=Europe/Berlin:20271107T103000
DTEND;TZID=Europe/Berlin:20271107T113000
DTSTAMP:20260422T022012
CREATED:20260327T120935Z
LAST-MODIFIED:20260327T120935Z
UID:10010995-1825583400-1825587000@martinus-hn.de
SUMMARY:Eucharistiefeier in St. Martinus
DESCRIPTION:
URL:https://martinus-hn.de/veranstaltung/eucharistiefeier-in-st-martinus/2027-11-07/
LOCATION:St. Martinus\, Auf dem Bau 1\, Heilbronn-Sontheim\, 74081\, Deutschland
CATEGORIES:Gottesdienst
END:VEVENT
BEGIN:VEVENT
DTSTART;TZID=Europe/Berlin:20271109T183000
DTEND;TZID=Europe/Berlin:20271109T193000
DTSTAMP:20260422T022012
CREATED:20260327T115841Z
LAST-MODIFIED:20260327T115841Z
UID:10010458-1825785000-1825788600@martinus-hn.de
SUMMARY:Eucharistiefeier in Heilig Geist
DESCRIPTION:
URL:https://martinus-hn.de/veranstaltung/eucharistiefeier-in-heilig-geist-dienstag/2027-11-09/
LOCATION:Heilig-Geist-Kirche\, Heilbronner Weg 17\, Heilbronn-Horkheim\, 74081
CATEGORIES:Gottesdienst
END:VEVENT
BEGIN:VEVENT
DTSTART;TZID=Europe/Berlin:20271111T183000
DTEND;TZID=Europe/Berlin:20271111T193000
DTSTAMP:20260422T022012
CREATED:20260327T120443Z
LAST-MODIFIED:20260327T120518Z
UID:10010731-1825957800-1825961400@martinus-hn.de
SUMMARY:Eucharistiefeier in St. Maximilian Kolbe
DESCRIPTION:
URL:https://martinus-hn.de/veranstaltung/eucharistiefeier-in-st-maximilian-kolbe-donnerstag/2027-11-11/
LOCATION:St. Maximilian Kolbe\, Jörg-Ratgeb-Platz 25\, Heilbronn-Sontheim\, 74081
CATEGORIES:Gottesdienst
END:VEVENT
BEGIN:VEVENT
DTSTART;TZID=Europe/Berlin:20271113T183000
DTEND;TZID=Europe/Berlin:20271113T193000
DTSTAMP:20260422T022012
CREATED:20260304T153850Z
LAST-MODIFIED:20260327T114702Z
UID:10009878-1826130600-1826134200@martinus-hn.de
SUMMARY:Eucharistiefeier in Heilig Geist
DESCRIPTION:
URL:https://martinus-hn.de/veranstaltung/eucharistiefeier-in-heilig-geist/2027-11-13/
LOCATION:Heilig-Geist-Kirche\, Heilbronner Weg 17\, Heilbronn-Horkheim\, 74081
CATEGORIES:Gottesdienst
END:VEVENT
BEGIN:VEVENT
DTSTART;TZID=Europe/Berlin:20271114T103000
DTEND;TZID=Europe/Berlin:20271114T113000
DTSTAMP:20260422T022012
CREATED:20260327T120935Z
LAST-MODIFIED:20260327T120935Z
UID:10010996-1826188200-1826191800@martinus-hn.de
SUMMARY:Eucharistiefeier in St. Martinus
DESCRIPTION:
URL:https://martinus-hn.de/veranstaltung/eucharistiefeier-in-st-martinus/2027-11-14/
LOCATION:St. Martinus\, Auf dem Bau 1\, Heilbronn-Sontheim\, 74081\, Deutschland
CATEGORIES:Gottesdienst
END:VEVENT
BEGIN:VEVENT
DTSTART;TZID=Europe/Berlin:20271116T183000
DTEND;TZID=Europe/Berlin:20271116T193000
DTSTAMP:20260422T022012
CREATED:20260327T115841Z
LAST-MODIFIED:20260327T115841Z
UID:10010459-1826389800-1826393400@martinus-hn.de
SUMMARY:Eucharistiefeier in Heilig Geist
DESCRIPTION:
URL:https://martinus-hn.de/veranstaltung/eucharistiefeier-in-heilig-geist-dienstag/2027-11-16/
LOCATION:Heilig-Geist-Kirche\, Heilbronner Weg 17\, Heilbronn-Horkheim\, 74081
CATEGORIES:Gottesdienst
END:VEVENT
BEGIN:VEVENT
DTSTART;TZID=Europe/Berlin:20271118T183000
DTEND;TZID=Europe/Berlin:20271118T193000
DTSTAMP:20260422T022012
CREATED:20260327T120443Z
LAST-MODIFIED:20260327T120518Z
UID:10010732-1826562600-1826566200@martinus-hn.de
SUMMARY:Eucharistiefeier in St. Maximilian Kolbe
DESCRIPTION:
URL:https://martinus-hn.de/veranstaltung/eucharistiefeier-in-st-maximilian-kolbe-donnerstag/2027-11-18/
LOCATION:St. Maximilian Kolbe\, Jörg-Ratgeb-Platz 25\, Heilbronn-Sontheim\, 74081
CATEGORIES:Gottesdienst
END:VEVENT
BEGIN:VEVENT
DTSTART;TZID=Europe/Berlin:20271120T183000
DTEND;TZID=Europe/Berlin:20271120T193000
DTSTAMP:20260422T022012
CREATED:20260327T114344Z
LAST-MODIFIED:20260327T114457Z
UID:10009746-1826735400-1826739000@martinus-hn.de
SUMMARY:Eucharistiefeier in St. Maximilian Kolbe
DESCRIPTION:
URL:https://martinus-hn.de/veranstaltung/eucharistiefeier-in-st-maximilian-kolbe/2027-11-20/
LOCATION:St. Maximilian Kolbe\, Jörg-Ratgeb-Platz 25\, Heilbronn-Sontheim\, 74081
CATEGORIES:Gottesdienst
END:VEVENT
BEGIN:VEVENT
DTSTART;TZID=Europe/Berlin:20271121T103000
DTEND;TZID=Europe/Berlin:20271121T113000
DTSTAMP:20260422T022012
CREATED:20260327T120935Z
LAST-MODIFIED:20260327T120935Z
UID:10010997-1826793000-1826796600@martinus-hn.de
SUMMARY:Eucharistiefeier in St. Martinus
DESCRIPTION:
URL:https://martinus-hn.de/veranstaltung/eucharistiefeier-in-st-martinus/2027-11-21/
LOCATION:St. Martinus\, Auf dem Bau 1\, Heilbronn-Sontheim\, 74081\, Deutschland
CATEGORIES:Gottesdienst
END:VEVENT
BEGIN:VEVENT
DTSTART;TZID=Europe/Berlin:20271123T183000
DTEND;TZID=Europe/Berlin:20271123T193000
DTSTAMP:20260422T022012
CREATED:20260327T115841Z
LAST-MODIFIED:20260327T115841Z
UID:10010460-1826994600-1826998200@martinus-hn.de
SUMMARY:Eucharistiefeier in Heilig Geist
DESCRIPTION:
URL:https://martinus-hn.de/veranstaltung/eucharistiefeier-in-heilig-geist-dienstag/2027-11-23/
LOCATION:Heilig-Geist-Kirche\, Heilbronner Weg 17\, Heilbronn-Horkheim\, 74081
CATEGORIES:Gottesdienst
END:VEVENT
BEGIN:VEVENT
DTSTART;TZID=Europe/Berlin:20271125T183000
DTEND;TZID=Europe/Berlin:20271125T193000
DTSTAMP:20260422T022012
CREATED:20260327T120443Z
LAST-MODIFIED:20260327T120518Z
UID:10010733-1827167400-1827171000@martinus-hn.de
SUMMARY:Eucharistiefeier in St. Maximilian Kolbe
DESCRIPTION:
URL:https://martinus-hn.de/veranstaltung/eucharistiefeier-in-st-maximilian-kolbe-donnerstag/2027-11-25/
LOCATION:St. Maximilian Kolbe\, Jörg-Ratgeb-Platz 25\, Heilbronn-Sontheim\, 74081
CATEGORIES:Gottesdienst
END:VEVENT
BEGIN:VEVENT
DTSTART;TZID=Europe/Berlin:20271127T183000
DTEND;TZID=Europe/Berlin:20271127T193000
DTSTAMP:20260422T022012
CREATED:20260304T153850Z
LAST-MODIFIED:20260327T114702Z
UID:10009879-1827340200-1827343800@martinus-hn.de
SUMMARY:Eucharistiefeier in Heilig Geist
DESCRIPTION:
URL:https://martinus-hn.de/veranstaltung/eucharistiefeier-in-heilig-geist/2027-11-27/
LOCATION:Heilig-Geist-Kirche\, Heilbronner Weg 17\, Heilbronn-Horkheim\, 74081
CATEGORIES:Gottesdienst
END:VEVENT
BEGIN:VEVENT
DTSTART;TZID=Europe/Berlin:20271128T103000
DTEND;TZID=Europe/Berlin:20271128T113000
DTSTAMP:20260422T022012
CREATED:20260327T120935Z
LAST-MODIFIED:20260327T120935Z
UID:10010998-1827397800-1827401400@martinus-hn.de
SUMMARY:Eucharistiefeier in St. Martinus
DESCRIPTION:
URL:https://martinus-hn.de/veranstaltung/eucharistiefeier-in-st-martinus/2027-11-28/
LOCATION:St. Martinus\, Auf dem Bau 1\, Heilbronn-Sontheim\, 74081\, Deutschland
CATEGORIES:Gottesdienst
END:VEVENT
BEGIN:VEVENT
DTSTART;TZID=Europe/Berlin:20271130T183000
DTEND;TZID=Europe/Berlin:20271130T193000
DTSTAMP:20260422T022012
CREATED:20260327T115841Z
LAST-MODIFIED:20260327T115841Z
UID:10010461-1827599400-1827603000@martinus-hn.de
SUMMARY:Eucharistiefeier in Heilig Geist
DESCRIPTION:
URL:https://martinus-hn.de/veranstaltung/eucharistiefeier-in-heilig-geist-dienstag/2027-11-30/
LOCATION:Heilig-Geist-Kirche\, Heilbronner Weg 17\, Heilbronn-Horkheim\, 74081
CATEGORIES:Gottesdienst
END:VEVENT
BEGIN:VEVENT
DTSTART;TZID=Europe/Berlin:20271202T183000
DTEND;TZID=Europe/Berlin:20271202T193000
DTSTAMP:20260422T022012
CREATED:20260327T120443Z
LAST-MODIFIED:20260327T120518Z
UID:10010734-1827772200-1827775800@martinus-hn.de
SUMMARY:Eucharistiefeier in St. Maximilian Kolbe
DESCRIPTION:
URL:https://martinus-hn.de/veranstaltung/eucharistiefeier-in-st-maximilian-kolbe-donnerstag/2027-12-02/
LOCATION:St. Maximilian Kolbe\, Jörg-Ratgeb-Platz 25\, Heilbronn-Sontheim\, 74081
CATEGORIES:Gottesdienst
END:VEVENT
BEGIN:VEVENT
DTSTART;TZID=Europe/Berlin:20271204T183000
DTEND;TZID=Europe/Berlin:20271204T193000
DTSTAMP:20260422T022012
CREATED:20260327T114344Z
LAST-MODIFIED:20260327T114457Z
UID:10009747-1827945000-1827948600@martinus-hn.de
SUMMARY:Eucharistiefeier in St. Maximilian Kolbe
DESCRIPTION:
URL:https://martinus-hn.de/veranstaltung/eucharistiefeier-in-st-maximilian-kolbe/2027-12-04/
LOCATION:St. Maximilian Kolbe\, Jörg-Ratgeb-Platz 25\, Heilbronn-Sontheim\, 74081
CATEGORIES:Gottesdienst
END:VEVENT
BEGIN:VEVENT
DTSTART;TZID=Europe/Berlin:20271205T103000
DTEND;TZID=Europe/Berlin:20271205T113000
DTSTAMP:20260422T022012
CREATED:20260327T120935Z
LAST-MODIFIED:20260327T120935Z
UID:10010999-1828002600-1828006200@martinus-hn.de
SUMMARY:Eucharistiefeier in St. Martinus
DESCRIPTION:
URL:https://martinus-hn.de/veranstaltung/eucharistiefeier-in-st-martinus/2027-12-05/
LOCATION:St. Martinus\, Auf dem Bau 1\, Heilbronn-Sontheim\, 74081\, Deutschland
CATEGORIES:Gottesdienst
END:VEVENT
BEGIN:VEVENT
DTSTART;TZID=Europe/Berlin:20271207T183000
DTEND;TZID=Europe/Berlin:20271207T193000
DTSTAMP:20260422T022012
CREATED:20260327T115841Z
LAST-MODIFIED:20260327T115841Z
UID:10010462-1828204200-1828207800@martinus-hn.de
SUMMARY:Eucharistiefeier in Heilig Geist
DESCRIPTION:
URL:https://martinus-hn.de/veranstaltung/eucharistiefeier-in-heilig-geist-dienstag/2027-12-07/
LOCATION:Heilig-Geist-Kirche\, Heilbronner Weg 17\, Heilbronn-Horkheim\, 74081
CATEGORIES:Gottesdienst
END:VEVENT
END:VCALENDAR