BEGIN:VCALENDAR
VERSION:2.0
PRODID:-//St. Martinus Heilbronn-Sontheim - ECPv6.10.2//NONSGML v1.0//EN
CALSCALE:GREGORIAN
METHOD:PUBLISH
X-WR-CALNAME:St. Martinus Heilbronn-Sontheim
X-ORIGINAL-URL:https://martinus-hn.de
X-WR-CALDESC:Veranstaltungen für St. Martinus Heilbronn-Sontheim
REFRESH-INTERVAL;VALUE=DURATION:PT1H
X-Robots-Tag:noindex
X-PUBLISHED-TTL:PT1H
BEGIN:VTIMEZONE
TZID:Europe/Berlin
BEGIN:DAYLIGHT
TZOFFSETFROM:+0100
TZOFFSETTO:+0200
TZNAME:CEST
DTSTART:20270328T010000
END:DAYLIGHT
BEGIN:STANDARD
TZOFFSETFROM:+0200
TZOFFSETTO:+0100
TZNAME:CET
DTSTART:20271031T010000
END:STANDARD
END:VTIMEZONE
BEGIN:VEVENT
DTSTART;TZID=Europe/Berlin:20270826T183000
DTEND;TZID=Europe/Berlin:20270826T193000
DTSTAMP:20260421T213044
CREATED:20260327T120443Z
LAST-MODIFIED:20260327T120518Z
UID:10010720-1819305000-1819308600@martinus-hn.de
SUMMARY:Eucharistiefeier in St. Maximilian Kolbe
DESCRIPTION:
URL:https://martinus-hn.de/veranstaltung/eucharistiefeier-in-st-maximilian-kolbe-donnerstag/2027-08-26/
LOCATION:St. Maximilian Kolbe\, Jörg-Ratgeb-Platz 25\, Heilbronn-Sontheim\, 74081
CATEGORIES:Gottesdienst
END:VEVENT
BEGIN:VEVENT
DTSTART;TZID=Europe/Berlin:20270828T183000
DTEND;TZID=Europe/Berlin:20270828T193000
DTSTAMP:20260421T213044
CREATED:20260327T114344Z
LAST-MODIFIED:20260327T114457Z
UID:10009740-1819477800-1819481400@martinus-hn.de
SUMMARY:Eucharistiefeier in St. Maximilian Kolbe
DESCRIPTION:
URL:https://martinus-hn.de/veranstaltung/eucharistiefeier-in-st-maximilian-kolbe/2027-08-28/
LOCATION:St. Maximilian Kolbe\, Jörg-Ratgeb-Platz 25\, Heilbronn-Sontheim\, 74081
CATEGORIES:Gottesdienst
END:VEVENT
BEGIN:VEVENT
DTSTART;TZID=Europe/Berlin:20270829T103000
DTEND;TZID=Europe/Berlin:20270829T113000
DTSTAMP:20260421T213044
CREATED:20260327T120935Z
LAST-MODIFIED:20260327T120935Z
UID:10010985-1819535400-1819539000@martinus-hn.de
SUMMARY:Eucharistiefeier in St. Martinus
DESCRIPTION:
URL:https://martinus-hn.de/veranstaltung/eucharistiefeier-in-st-martinus/2027-08-29/
LOCATION:St. Martinus\, Auf dem Bau 1\, Heilbronn-Sontheim\, 74081\, Deutschland
CATEGORIES:Gottesdienst
END:VEVENT
BEGIN:VEVENT
DTSTART;TZID=Europe/Berlin:20270831T183000
DTEND;TZID=Europe/Berlin:20270831T193000
DTSTAMP:20260421T213044
CREATED:20260327T115841Z
LAST-MODIFIED:20260327T115841Z
UID:10010448-1819737000-1819740600@martinus-hn.de
SUMMARY:Eucharistiefeier in Heilig Geist
DESCRIPTION:
URL:https://martinus-hn.de/veranstaltung/eucharistiefeier-in-heilig-geist-dienstag/2027-08-31/
LOCATION:Heilig-Geist-Kirche\, Heilbronner Weg 17\, Heilbronn-Horkheim\, 74081
CATEGORIES:Gottesdienst
END:VEVENT
BEGIN:VEVENT
DTSTART;TZID=Europe/Berlin:20270902T183000
DTEND;TZID=Europe/Berlin:20270902T193000
DTSTAMP:20260421T213044
CREATED:20260327T120443Z
LAST-MODIFIED:20260327T120518Z
UID:10010721-1819909800-1819913400@martinus-hn.de
SUMMARY:Eucharistiefeier in St. Maximilian Kolbe
DESCRIPTION:
URL:https://martinus-hn.de/veranstaltung/eucharistiefeier-in-st-maximilian-kolbe-donnerstag/2027-09-02/
LOCATION:St. Maximilian Kolbe\, Jörg-Ratgeb-Platz 25\, Heilbronn-Sontheim\, 74081
CATEGORIES:Gottesdienst
END:VEVENT
BEGIN:VEVENT
DTSTART;TZID=Europe/Berlin:20270904T183000
DTEND;TZID=Europe/Berlin:20270904T193000
DTSTAMP:20260421T213044
CREATED:20260304T153850Z
LAST-MODIFIED:20260327T114702Z
UID:10009873-1820082600-1820086200@martinus-hn.de
SUMMARY:Eucharistiefeier in Heilig Geist
DESCRIPTION:
URL:https://martinus-hn.de/veranstaltung/eucharistiefeier-in-heilig-geist/2027-09-04/
LOCATION:Heilig-Geist-Kirche\, Heilbronner Weg 17\, Heilbronn-Horkheim\, 74081
CATEGORIES:Gottesdienst
END:VEVENT
BEGIN:VEVENT
DTSTART;TZID=Europe/Berlin:20270905T103000
DTEND;TZID=Europe/Berlin:20270905T113000
DTSTAMP:20260421T213044
CREATED:20260327T120935Z
LAST-MODIFIED:20260327T120935Z
UID:10010986-1820140200-1820143800@martinus-hn.de
SUMMARY:Eucharistiefeier in St. Martinus
DESCRIPTION:
URL:https://martinus-hn.de/veranstaltung/eucharistiefeier-in-st-martinus/2027-09-05/
LOCATION:St. Martinus\, Auf dem Bau 1\, Heilbronn-Sontheim\, 74081\, Deutschland
CATEGORIES:Gottesdienst
END:VEVENT
BEGIN:VEVENT
DTSTART;TZID=Europe/Berlin:20270907T183000
DTEND;TZID=Europe/Berlin:20270907T193000
DTSTAMP:20260421T213044
CREATED:20260327T115841Z
LAST-MODIFIED:20260327T115841Z
UID:10010449-1820341800-1820345400@martinus-hn.de
SUMMARY:Eucharistiefeier in Heilig Geist
DESCRIPTION:
URL:https://martinus-hn.de/veranstaltung/eucharistiefeier-in-heilig-geist-dienstag/2027-09-07/
LOCATION:Heilig-Geist-Kirche\, Heilbronner Weg 17\, Heilbronn-Horkheim\, 74081
CATEGORIES:Gottesdienst
END:VEVENT
BEGIN:VEVENT
DTSTART;TZID=Europe/Berlin:20270909T183000
DTEND;TZID=Europe/Berlin:20270909T193000
DTSTAMP:20260421T213044
CREATED:20260327T120443Z
LAST-MODIFIED:20260327T120518Z
UID:10010722-1820514600-1820518200@martinus-hn.de
SUMMARY:Eucharistiefeier in St. Maximilian Kolbe
DESCRIPTION:
URL:https://martinus-hn.de/veranstaltung/eucharistiefeier-in-st-maximilian-kolbe-donnerstag/2027-09-09/
LOCATION:St. Maximilian Kolbe\, Jörg-Ratgeb-Platz 25\, Heilbronn-Sontheim\, 74081
CATEGORIES:Gottesdienst
END:VEVENT
BEGIN:VEVENT
DTSTART;TZID=Europe/Berlin:20270911T183000
DTEND;TZID=Europe/Berlin:20270911T193000
DTSTAMP:20260421T213044
CREATED:20260327T114344Z
LAST-MODIFIED:20260327T114457Z
UID:10009741-1820687400-1820691000@martinus-hn.de
SUMMARY:Eucharistiefeier in St. Maximilian Kolbe
DESCRIPTION:
URL:https://martinus-hn.de/veranstaltung/eucharistiefeier-in-st-maximilian-kolbe/2027-09-11/
LOCATION:St. Maximilian Kolbe\, Jörg-Ratgeb-Platz 25\, Heilbronn-Sontheim\, 74081
CATEGORIES:Gottesdienst
END:VEVENT
BEGIN:VEVENT
DTSTART;TZID=Europe/Berlin:20270912T103000
DTEND;TZID=Europe/Berlin:20270912T113000
DTSTAMP:20260421T213044
CREATED:20260327T120935Z
LAST-MODIFIED:20260327T120935Z
UID:10010987-1820745000-1820748600@martinus-hn.de
SUMMARY:Eucharistiefeier in St. Martinus
DESCRIPTION:
URL:https://martinus-hn.de/veranstaltung/eucharistiefeier-in-st-martinus/2027-09-12/
LOCATION:St. Martinus\, Auf dem Bau 1\, Heilbronn-Sontheim\, 74081\, Deutschland
CATEGORIES:Gottesdienst
END:VEVENT
BEGIN:VEVENT
DTSTART;TZID=Europe/Berlin:20270914T183000
DTEND;TZID=Europe/Berlin:20270914T193000
DTSTAMP:20260421T213044
CREATED:20260327T115841Z
LAST-MODIFIED:20260327T115841Z
UID:10010450-1820946600-1820950200@martinus-hn.de
SUMMARY:Eucharistiefeier in Heilig Geist
DESCRIPTION:
URL:https://martinus-hn.de/veranstaltung/eucharistiefeier-in-heilig-geist-dienstag/2027-09-14/
LOCATION:Heilig-Geist-Kirche\, Heilbronner Weg 17\, Heilbronn-Horkheim\, 74081
CATEGORIES:Gottesdienst
END:VEVENT
BEGIN:VEVENT
DTSTART;TZID=Europe/Berlin:20270916T183000
DTEND;TZID=Europe/Berlin:20270916T193000
DTSTAMP:20260421T213044
CREATED:20260327T120443Z
LAST-MODIFIED:20260327T120518Z
UID:10010723-1821119400-1821123000@martinus-hn.de
SUMMARY:Eucharistiefeier in St. Maximilian Kolbe
DESCRIPTION:
URL:https://martinus-hn.de/veranstaltung/eucharistiefeier-in-st-maximilian-kolbe-donnerstag/2027-09-16/
LOCATION:St. Maximilian Kolbe\, Jörg-Ratgeb-Platz 25\, Heilbronn-Sontheim\, 74081
CATEGORIES:Gottesdienst
END:VEVENT
BEGIN:VEVENT
DTSTART;TZID=Europe/Berlin:20270918T183000
DTEND;TZID=Europe/Berlin:20270918T193000
DTSTAMP:20260421T213044
CREATED:20260304T153850Z
LAST-MODIFIED:20260327T114702Z
UID:10009874-1821292200-1821295800@martinus-hn.de
SUMMARY:Eucharistiefeier in Heilig Geist
DESCRIPTION:
URL:https://martinus-hn.de/veranstaltung/eucharistiefeier-in-heilig-geist/2027-09-18/
LOCATION:Heilig-Geist-Kirche\, Heilbronner Weg 17\, Heilbronn-Horkheim\, 74081
CATEGORIES:Gottesdienst
END:VEVENT
BEGIN:VEVENT
DTSTART;TZID=Europe/Berlin:20270919T103000
DTEND;TZID=Europe/Berlin:20270919T113000
DTSTAMP:20260421T213044
CREATED:20260327T120935Z
LAST-MODIFIED:20260327T120935Z
UID:10010988-1821349800-1821353400@martinus-hn.de
SUMMARY:Eucharistiefeier in St. Martinus
DESCRIPTION:
URL:https://martinus-hn.de/veranstaltung/eucharistiefeier-in-st-martinus/2027-09-19/
LOCATION:St. Martinus\, Auf dem Bau 1\, Heilbronn-Sontheim\, 74081\, Deutschland
CATEGORIES:Gottesdienst
END:VEVENT
BEGIN:VEVENT
DTSTART;TZID=Europe/Berlin:20270921T183000
DTEND;TZID=Europe/Berlin:20270921T193000
DTSTAMP:20260421T213044
CREATED:20260327T115841Z
LAST-MODIFIED:20260327T115841Z
UID:10010451-1821551400-1821555000@martinus-hn.de
SUMMARY:Eucharistiefeier in Heilig Geist
DESCRIPTION:
URL:https://martinus-hn.de/veranstaltung/eucharistiefeier-in-heilig-geist-dienstag/2027-09-21/
LOCATION:Heilig-Geist-Kirche\, Heilbronner Weg 17\, Heilbronn-Horkheim\, 74081
CATEGORIES:Gottesdienst
END:VEVENT
BEGIN:VEVENT
DTSTART;TZID=Europe/Berlin:20270923T183000
DTEND;TZID=Europe/Berlin:20270923T193000
DTSTAMP:20260421T213044
CREATED:20260327T120443Z
LAST-MODIFIED:20260327T120518Z
UID:10010724-1821724200-1821727800@martinus-hn.de
SUMMARY:Eucharistiefeier in St. Maximilian Kolbe
DESCRIPTION:
URL:https://martinus-hn.de/veranstaltung/eucharistiefeier-in-st-maximilian-kolbe-donnerstag/2027-09-23/
LOCATION:St. Maximilian Kolbe\, Jörg-Ratgeb-Platz 25\, Heilbronn-Sontheim\, 74081
CATEGORIES:Gottesdienst
END:VEVENT
BEGIN:VEVENT
DTSTART;TZID=Europe/Berlin:20270925T183000
DTEND;TZID=Europe/Berlin:20270925T193000
DTSTAMP:20260421T213044
CREATED:20260327T114344Z
LAST-MODIFIED:20260327T114457Z
UID:10009742-1821897000-1821900600@martinus-hn.de
SUMMARY:Eucharistiefeier in St. Maximilian Kolbe
DESCRIPTION:
URL:https://martinus-hn.de/veranstaltung/eucharistiefeier-in-st-maximilian-kolbe/2027-09-25/
LOCATION:St. Maximilian Kolbe\, Jörg-Ratgeb-Platz 25\, Heilbronn-Sontheim\, 74081
CATEGORIES:Gottesdienst
END:VEVENT
BEGIN:VEVENT
DTSTART;TZID=Europe/Berlin:20270926T103000
DTEND;TZID=Europe/Berlin:20270926T113000
DTSTAMP:20260421T213044
CREATED:20260327T120935Z
LAST-MODIFIED:20260327T120935Z
UID:10010989-1821954600-1821958200@martinus-hn.de
SUMMARY:Eucharistiefeier in St. Martinus
DESCRIPTION:
URL:https://martinus-hn.de/veranstaltung/eucharistiefeier-in-st-martinus/2027-09-26/
LOCATION:St. Martinus\, Auf dem Bau 1\, Heilbronn-Sontheim\, 74081\, Deutschland
CATEGORIES:Gottesdienst
END:VEVENT
BEGIN:VEVENT
DTSTART;TZID=Europe/Berlin:20270928T183000
DTEND;TZID=Europe/Berlin:20270928T193000
DTSTAMP:20260421T213044
CREATED:20260327T115841Z
LAST-MODIFIED:20260327T115841Z
UID:10010452-1822156200-1822159800@martinus-hn.de
SUMMARY:Eucharistiefeier in Heilig Geist
DESCRIPTION:
URL:https://martinus-hn.de/veranstaltung/eucharistiefeier-in-heilig-geist-dienstag/2027-09-28/
LOCATION:Heilig-Geist-Kirche\, Heilbronner Weg 17\, Heilbronn-Horkheim\, 74081
CATEGORIES:Gottesdienst
END:VEVENT
BEGIN:VEVENT
DTSTART;TZID=Europe/Berlin:20270930T183000
DTEND;TZID=Europe/Berlin:20270930T193000
DTSTAMP:20260421T213044
CREATED:20260327T120443Z
LAST-MODIFIED:20260327T120518Z
UID:10010725-1822329000-1822332600@martinus-hn.de
SUMMARY:Eucharistiefeier in St. Maximilian Kolbe
DESCRIPTION:
URL:https://martinus-hn.de/veranstaltung/eucharistiefeier-in-st-maximilian-kolbe-donnerstag/2027-09-30/
LOCATION:St. Maximilian Kolbe\, Jörg-Ratgeb-Platz 25\, Heilbronn-Sontheim\, 74081
CATEGORIES:Gottesdienst
END:VEVENT
BEGIN:VEVENT
DTSTART;TZID=Europe/Berlin:20271002T183000
DTEND;TZID=Europe/Berlin:20271002T193000
DTSTAMP:20260421T213044
CREATED:20260304T153850Z
LAST-MODIFIED:20260327T114702Z
UID:10009875-1822501800-1822505400@martinus-hn.de
SUMMARY:Eucharistiefeier in Heilig Geist
DESCRIPTION:
URL:https://martinus-hn.de/veranstaltung/eucharistiefeier-in-heilig-geist/2027-10-02/
LOCATION:Heilig-Geist-Kirche\, Heilbronner Weg 17\, Heilbronn-Horkheim\, 74081
CATEGORIES:Gottesdienst
END:VEVENT
BEGIN:VEVENT
DTSTART;TZID=Europe/Berlin:20271003T103000
DTEND;TZID=Europe/Berlin:20271003T113000
DTSTAMP:20260421T213044
CREATED:20260327T120935Z
LAST-MODIFIED:20260327T120935Z
UID:10010990-1822559400-1822563000@martinus-hn.de
SUMMARY:Eucharistiefeier in St. Martinus
DESCRIPTION:
URL:https://martinus-hn.de/veranstaltung/eucharistiefeier-in-st-martinus/2027-10-03/
LOCATION:St. Martinus\, Auf dem Bau 1\, Heilbronn-Sontheim\, 74081\, Deutschland
CATEGORIES:Gottesdienst
END:VEVENT
BEGIN:VEVENT
DTSTART;TZID=Europe/Berlin:20271005T183000
DTEND;TZID=Europe/Berlin:20271005T193000
DTSTAMP:20260421T213044
CREATED:20260327T115841Z
LAST-MODIFIED:20260327T115841Z
UID:10010453-1822761000-1822764600@martinus-hn.de
SUMMARY:Eucharistiefeier in Heilig Geist
DESCRIPTION:
URL:https://martinus-hn.de/veranstaltung/eucharistiefeier-in-heilig-geist-dienstag/2027-10-05/
LOCATION:Heilig-Geist-Kirche\, Heilbronner Weg 17\, Heilbronn-Horkheim\, 74081
CATEGORIES:Gottesdienst
END:VEVENT
BEGIN:VEVENT
DTSTART;TZID=Europe/Berlin:20271007T183000
DTEND;TZID=Europe/Berlin:20271007T193000
DTSTAMP:20260421T213044
CREATED:20260327T120443Z
LAST-MODIFIED:20260327T120518Z
UID:10010726-1822933800-1822937400@martinus-hn.de
SUMMARY:Eucharistiefeier in St. Maximilian Kolbe
DESCRIPTION:
URL:https://martinus-hn.de/veranstaltung/eucharistiefeier-in-st-maximilian-kolbe-donnerstag/2027-10-07/
LOCATION:St. Maximilian Kolbe\, Jörg-Ratgeb-Platz 25\, Heilbronn-Sontheim\, 74081
CATEGORIES:Gottesdienst
END:VEVENT
BEGIN:VEVENT
DTSTART;TZID=Europe/Berlin:20271009T183000
DTEND;TZID=Europe/Berlin:20271009T193000
DTSTAMP:20260421T213044
CREATED:20260327T114344Z
LAST-MODIFIED:20260327T114457Z
UID:10009743-1823106600-1823110200@martinus-hn.de
SUMMARY:Eucharistiefeier in St. Maximilian Kolbe
DESCRIPTION:
URL:https://martinus-hn.de/veranstaltung/eucharistiefeier-in-st-maximilian-kolbe/2027-10-09/
LOCATION:St. Maximilian Kolbe\, Jörg-Ratgeb-Platz 25\, Heilbronn-Sontheim\, 74081
CATEGORIES:Gottesdienst
END:VEVENT
BEGIN:VEVENT
DTSTART;TZID=Europe/Berlin:20271010T103000
DTEND;TZID=Europe/Berlin:20271010T113000
DTSTAMP:20260421T213044
CREATED:20260327T120935Z
LAST-MODIFIED:20260327T120935Z
UID:10010991-1823164200-1823167800@martinus-hn.de
SUMMARY:Eucharistiefeier in St. Martinus
DESCRIPTION:
URL:https://martinus-hn.de/veranstaltung/eucharistiefeier-in-st-martinus/2027-10-10/
LOCATION:St. Martinus\, Auf dem Bau 1\, Heilbronn-Sontheim\, 74081\, Deutschland
CATEGORIES:Gottesdienst
END:VEVENT
BEGIN:VEVENT
DTSTART;TZID=Europe/Berlin:20271012T183000
DTEND;TZID=Europe/Berlin:20271012T193000
DTSTAMP:20260421T213044
CREATED:20260327T115841Z
LAST-MODIFIED:20260327T115841Z
UID:10010454-1823365800-1823369400@martinus-hn.de
SUMMARY:Eucharistiefeier in Heilig Geist
DESCRIPTION:
URL:https://martinus-hn.de/veranstaltung/eucharistiefeier-in-heilig-geist-dienstag/2027-10-12/
LOCATION:Heilig-Geist-Kirche\, Heilbronner Weg 17\, Heilbronn-Horkheim\, 74081
CATEGORIES:Gottesdienst
END:VEVENT
BEGIN:VEVENT
DTSTART;TZID=Europe/Berlin:20271014T183000
DTEND;TZID=Europe/Berlin:20271014T193000
DTSTAMP:20260421T213044
CREATED:20260327T120443Z
LAST-MODIFIED:20260327T120518Z
UID:10010727-1823538600-1823542200@martinus-hn.de
SUMMARY:Eucharistiefeier in St. Maximilian Kolbe
DESCRIPTION:
URL:https://martinus-hn.de/veranstaltung/eucharistiefeier-in-st-maximilian-kolbe-donnerstag/2027-10-14/
LOCATION:St. Maximilian Kolbe\, Jörg-Ratgeb-Platz 25\, Heilbronn-Sontheim\, 74081
CATEGORIES:Gottesdienst
END:VEVENT
BEGIN:VEVENT
DTSTART;TZID=Europe/Berlin:20271016T183000
DTEND;TZID=Europe/Berlin:20271016T193000
DTSTAMP:20260421T213044
CREATED:20260304T153850Z
LAST-MODIFIED:20260327T114702Z
UID:10009876-1823711400-1823715000@martinus-hn.de
SUMMARY:Eucharistiefeier in Heilig Geist
DESCRIPTION:
URL:https://martinus-hn.de/veranstaltung/eucharistiefeier-in-heilig-geist/2027-10-16/
LOCATION:Heilig-Geist-Kirche\, Heilbronner Weg 17\, Heilbronn-Horkheim\, 74081
CATEGORIES:Gottesdienst
END:VEVENT
END:VCALENDAR