BEGIN:VCALENDAR
VERSION:2.0
PRODID:-//St. Martinus Heilbronn-Sontheim - ECPv6.10.2//NONSGML v1.0//EN
CALSCALE:GREGORIAN
METHOD:PUBLISH
X-WR-CALNAME:St. Martinus Heilbronn-Sontheim
X-ORIGINAL-URL:https://martinus-hn.de
X-WR-CALDESC:Veranstaltungen für St. Martinus Heilbronn-Sontheim
REFRESH-INTERVAL;VALUE=DURATION:PT1H
X-Robots-Tag:noindex
X-PUBLISHED-TTL:PT1H
BEGIN:VTIMEZONE
TZID:Europe/Berlin
BEGIN:DAYLIGHT
TZOFFSETFROM:+0100
TZOFFSETTO:+0200
TZNAME:CEST
DTSTART:20270328T010000
END:DAYLIGHT
BEGIN:STANDARD
TZOFFSETFROM:+0200
TZOFFSETTO:+0100
TZNAME:CET
DTSTART:20271031T010000
END:STANDARD
END:VTIMEZONE
BEGIN:VEVENT
DTSTART;TZID=Europe/Berlin:20270424T183000
DTEND;TZID=Europe/Berlin:20270424T193000
DTSTAMP:20260421T071937
CREATED:20260327T114344Z
LAST-MODIFIED:20260327T114457Z
UID:10009731-1808591400-1808595000@martinus-hn.de
SUMMARY:Eucharistiefeier in St. Maximilian Kolbe
DESCRIPTION:
URL:https://martinus-hn.de/veranstaltung/eucharistiefeier-in-st-maximilian-kolbe/2027-04-24/
LOCATION:St. Maximilian Kolbe\, Jörg-Ratgeb-Platz 25\, Heilbronn-Sontheim\, 74081
CATEGORIES:Gottesdienst
END:VEVENT
BEGIN:VEVENT
DTSTART;TZID=Europe/Berlin:20270425T103000
DTEND;TZID=Europe/Berlin:20270425T113000
DTSTAMP:20260421T071937
CREATED:20260327T120935Z
LAST-MODIFIED:20260327T120935Z
UID:10010967-1808649000-1808652600@martinus-hn.de
SUMMARY:Eucharistiefeier in St. Martinus
DESCRIPTION:
URL:https://martinus-hn.de/veranstaltung/eucharistiefeier-in-st-martinus/2027-04-25/
LOCATION:St. Martinus\, Auf dem Bau 1\, Heilbronn-Sontheim\, 74081\, Deutschland
CATEGORIES:Gottesdienst
END:VEVENT
BEGIN:VEVENT
DTSTART;TZID=Europe/Berlin:20270427T183000
DTEND;TZID=Europe/Berlin:20270427T193000
DTSTAMP:20260421T071937
CREATED:20260327T115841Z
LAST-MODIFIED:20260327T115841Z
UID:10010430-1808850600-1808854200@martinus-hn.de
SUMMARY:Eucharistiefeier in Heilig Geist
DESCRIPTION:
URL:https://martinus-hn.de/veranstaltung/eucharistiefeier-in-heilig-geist-dienstag/2027-04-27/
LOCATION:Heilig-Geist-Kirche\, Heilbronner Weg 17\, Heilbronn-Horkheim\, 74081
CATEGORIES:Gottesdienst
END:VEVENT
BEGIN:VEVENT
DTSTART;TZID=Europe/Berlin:20270429T183000
DTEND;TZID=Europe/Berlin:20270429T193000
DTSTAMP:20260421T071937
CREATED:20260327T120443Z
LAST-MODIFIED:20260327T120518Z
UID:10010703-1809023400-1809027000@martinus-hn.de
SUMMARY:Eucharistiefeier in St. Maximilian Kolbe
DESCRIPTION:
URL:https://martinus-hn.de/veranstaltung/eucharistiefeier-in-st-maximilian-kolbe-donnerstag/2027-04-29/
LOCATION:St. Maximilian Kolbe\, Jörg-Ratgeb-Platz 25\, Heilbronn-Sontheim\, 74081
CATEGORIES:Gottesdienst
END:VEVENT
BEGIN:VEVENT
DTSTART;TZID=Europe/Berlin:20270501T183000
DTEND;TZID=Europe/Berlin:20270501T193000
DTSTAMP:20260421T071937
CREATED:20260304T153850Z
LAST-MODIFIED:20260327T114702Z
UID:10009864-1809196200-1809199800@martinus-hn.de
SUMMARY:Eucharistiefeier in Heilig Geist
DESCRIPTION:
URL:https://martinus-hn.de/veranstaltung/eucharistiefeier-in-heilig-geist/2027-05-01/
LOCATION:Heilig-Geist-Kirche\, Heilbronner Weg 17\, Heilbronn-Horkheim\, 74081
CATEGORIES:Gottesdienst
END:VEVENT
BEGIN:VEVENT
DTSTART;TZID=Europe/Berlin:20270502T103000
DTEND;TZID=Europe/Berlin:20270502T113000
DTSTAMP:20260421T071937
CREATED:20260327T120935Z
LAST-MODIFIED:20260327T120935Z
UID:10010968-1809253800-1809257400@martinus-hn.de
SUMMARY:Eucharistiefeier in St. Martinus
DESCRIPTION:
URL:https://martinus-hn.de/veranstaltung/eucharistiefeier-in-st-martinus/2027-05-02/
LOCATION:St. Martinus\, Auf dem Bau 1\, Heilbronn-Sontheim\, 74081\, Deutschland
CATEGORIES:Gottesdienst
END:VEVENT
BEGIN:VEVENT
DTSTART;TZID=Europe/Berlin:20270504T183000
DTEND;TZID=Europe/Berlin:20270504T193000
DTSTAMP:20260421T071937
CREATED:20260327T115841Z
LAST-MODIFIED:20260327T115841Z
UID:10010431-1809455400-1809459000@martinus-hn.de
SUMMARY:Eucharistiefeier in Heilig Geist
DESCRIPTION:
URL:https://martinus-hn.de/veranstaltung/eucharistiefeier-in-heilig-geist-dienstag/2027-05-04/
LOCATION:Heilig-Geist-Kirche\, Heilbronner Weg 17\, Heilbronn-Horkheim\, 74081
CATEGORIES:Gottesdienst
END:VEVENT
BEGIN:VEVENT
DTSTART;TZID=Europe/Berlin:20270506T183000
DTEND;TZID=Europe/Berlin:20270506T193000
DTSTAMP:20260421T071937
CREATED:20260327T120443Z
LAST-MODIFIED:20260327T120518Z
UID:10010704-1809628200-1809631800@martinus-hn.de
SUMMARY:Eucharistiefeier in St. Maximilian Kolbe
DESCRIPTION:
URL:https://martinus-hn.de/veranstaltung/eucharistiefeier-in-st-maximilian-kolbe-donnerstag/2027-05-06/
LOCATION:St. Maximilian Kolbe\, Jörg-Ratgeb-Platz 25\, Heilbronn-Sontheim\, 74081
CATEGORIES:Gottesdienst
END:VEVENT
BEGIN:VEVENT
DTSTART;TZID=Europe/Berlin:20270508T183000
DTEND;TZID=Europe/Berlin:20270508T193000
DTSTAMP:20260421T071937
CREATED:20260327T114344Z
LAST-MODIFIED:20260327T114457Z
UID:10009732-1809801000-1809804600@martinus-hn.de
SUMMARY:Eucharistiefeier in St. Maximilian Kolbe
DESCRIPTION:
URL:https://martinus-hn.de/veranstaltung/eucharistiefeier-in-st-maximilian-kolbe/2027-05-08/
LOCATION:St. Maximilian Kolbe\, Jörg-Ratgeb-Platz 25\, Heilbronn-Sontheim\, 74081
CATEGORIES:Gottesdienst
END:VEVENT
BEGIN:VEVENT
DTSTART;TZID=Europe/Berlin:20270509T103000
DTEND;TZID=Europe/Berlin:20270509T113000
DTSTAMP:20260421T071937
CREATED:20260327T120935Z
LAST-MODIFIED:20260327T120935Z
UID:10010969-1809858600-1809862200@martinus-hn.de
SUMMARY:Eucharistiefeier in St. Martinus
DESCRIPTION:
URL:https://martinus-hn.de/veranstaltung/eucharistiefeier-in-st-martinus/2027-05-09/
LOCATION:St. Martinus\, Auf dem Bau 1\, Heilbronn-Sontheim\, 74081\, Deutschland
CATEGORIES:Gottesdienst
END:VEVENT
BEGIN:VEVENT
DTSTART;TZID=Europe/Berlin:20270511T183000
DTEND;TZID=Europe/Berlin:20270511T193000
DTSTAMP:20260421T071937
CREATED:20260327T115841Z
LAST-MODIFIED:20260327T115841Z
UID:10010432-1810060200-1810063800@martinus-hn.de
SUMMARY:Eucharistiefeier in Heilig Geist
DESCRIPTION:
URL:https://martinus-hn.de/veranstaltung/eucharistiefeier-in-heilig-geist-dienstag/2027-05-11/
LOCATION:Heilig-Geist-Kirche\, Heilbronner Weg 17\, Heilbronn-Horkheim\, 74081
CATEGORIES:Gottesdienst
END:VEVENT
BEGIN:VEVENT
DTSTART;TZID=Europe/Berlin:20270513T183000
DTEND;TZID=Europe/Berlin:20270513T193000
DTSTAMP:20260421T071937
CREATED:20260327T120443Z
LAST-MODIFIED:20260327T120518Z
UID:10010705-1810233000-1810236600@martinus-hn.de
SUMMARY:Eucharistiefeier in St. Maximilian Kolbe
DESCRIPTION:
URL:https://martinus-hn.de/veranstaltung/eucharistiefeier-in-st-maximilian-kolbe-donnerstag/2027-05-13/
LOCATION:St. Maximilian Kolbe\, Jörg-Ratgeb-Platz 25\, Heilbronn-Sontheim\, 74081
CATEGORIES:Gottesdienst
END:VEVENT
BEGIN:VEVENT
DTSTART;TZID=Europe/Berlin:20270515T183000
DTEND;TZID=Europe/Berlin:20270515T193000
DTSTAMP:20260421T071937
CREATED:20260304T153850Z
LAST-MODIFIED:20260327T114702Z
UID:10009865-1810405800-1810409400@martinus-hn.de
SUMMARY:Eucharistiefeier in Heilig Geist
DESCRIPTION:
URL:https://martinus-hn.de/veranstaltung/eucharistiefeier-in-heilig-geist/2027-05-15/
LOCATION:Heilig-Geist-Kirche\, Heilbronner Weg 17\, Heilbronn-Horkheim\, 74081
CATEGORIES:Gottesdienst
END:VEVENT
BEGIN:VEVENT
DTSTART;TZID=Europe/Berlin:20270516T103000
DTEND;TZID=Europe/Berlin:20270516T113000
DTSTAMP:20260421T071937
CREATED:20260327T120935Z
LAST-MODIFIED:20260327T120935Z
UID:10010970-1810463400-1810467000@martinus-hn.de
SUMMARY:Eucharistiefeier in St. Martinus
DESCRIPTION:
URL:https://martinus-hn.de/veranstaltung/eucharistiefeier-in-st-martinus/2027-05-16/
LOCATION:St. Martinus\, Auf dem Bau 1\, Heilbronn-Sontheim\, 74081\, Deutschland
CATEGORIES:Gottesdienst
END:VEVENT
BEGIN:VEVENT
DTSTART;TZID=Europe/Berlin:20270518T183000
DTEND;TZID=Europe/Berlin:20270518T193000
DTSTAMP:20260421T071937
CREATED:20260327T115841Z
LAST-MODIFIED:20260327T115841Z
UID:10010433-1810665000-1810668600@martinus-hn.de
SUMMARY:Eucharistiefeier in Heilig Geist
DESCRIPTION:
URL:https://martinus-hn.de/veranstaltung/eucharistiefeier-in-heilig-geist-dienstag/2027-05-18/
LOCATION:Heilig-Geist-Kirche\, Heilbronner Weg 17\, Heilbronn-Horkheim\, 74081
CATEGORIES:Gottesdienst
END:VEVENT
BEGIN:VEVENT
DTSTART;TZID=Europe/Berlin:20270520T183000
DTEND;TZID=Europe/Berlin:20270520T193000
DTSTAMP:20260421T071937
CREATED:20260327T120443Z
LAST-MODIFIED:20260327T120518Z
UID:10010706-1810837800-1810841400@martinus-hn.de
SUMMARY:Eucharistiefeier in St. Maximilian Kolbe
DESCRIPTION:
URL:https://martinus-hn.de/veranstaltung/eucharistiefeier-in-st-maximilian-kolbe-donnerstag/2027-05-20/
LOCATION:St. Maximilian Kolbe\, Jörg-Ratgeb-Platz 25\, Heilbronn-Sontheim\, 74081
CATEGORIES:Gottesdienst
END:VEVENT
BEGIN:VEVENT
DTSTART;TZID=Europe/Berlin:20270522T183000
DTEND;TZID=Europe/Berlin:20270522T193000
DTSTAMP:20260421T071937
CREATED:20260327T114344Z
LAST-MODIFIED:20260327T114457Z
UID:10009733-1811010600-1811014200@martinus-hn.de
SUMMARY:Eucharistiefeier in St. Maximilian Kolbe
DESCRIPTION:
URL:https://martinus-hn.de/veranstaltung/eucharistiefeier-in-st-maximilian-kolbe/2027-05-22/
LOCATION:St. Maximilian Kolbe\, Jörg-Ratgeb-Platz 25\, Heilbronn-Sontheim\, 74081
CATEGORIES:Gottesdienst
END:VEVENT
BEGIN:VEVENT
DTSTART;TZID=Europe/Berlin:20270523T103000
DTEND;TZID=Europe/Berlin:20270523T113000
DTSTAMP:20260421T071937
CREATED:20260327T120935Z
LAST-MODIFIED:20260327T120935Z
UID:10010971-1811068200-1811071800@martinus-hn.de
SUMMARY:Eucharistiefeier in St. Martinus
DESCRIPTION:
URL:https://martinus-hn.de/veranstaltung/eucharistiefeier-in-st-martinus/2027-05-23/
LOCATION:St. Martinus\, Auf dem Bau 1\, Heilbronn-Sontheim\, 74081\, Deutschland
CATEGORIES:Gottesdienst
END:VEVENT
BEGIN:VEVENT
DTSTART;TZID=Europe/Berlin:20270525T183000
DTEND;TZID=Europe/Berlin:20270525T193000
DTSTAMP:20260421T071937
CREATED:20260327T115841Z
LAST-MODIFIED:20260327T115841Z
UID:10010434-1811269800-1811273400@martinus-hn.de
SUMMARY:Eucharistiefeier in Heilig Geist
DESCRIPTION:
URL:https://martinus-hn.de/veranstaltung/eucharistiefeier-in-heilig-geist-dienstag/2027-05-25/
LOCATION:Heilig-Geist-Kirche\, Heilbronner Weg 17\, Heilbronn-Horkheim\, 74081
CATEGORIES:Gottesdienst
END:VEVENT
BEGIN:VEVENT
DTSTART;TZID=Europe/Berlin:20270527T183000
DTEND;TZID=Europe/Berlin:20270527T193000
DTSTAMP:20260421T071937
CREATED:20260327T120443Z
LAST-MODIFIED:20260327T120518Z
UID:10010707-1811442600-1811446200@martinus-hn.de
SUMMARY:Eucharistiefeier in St. Maximilian Kolbe
DESCRIPTION:
URL:https://martinus-hn.de/veranstaltung/eucharistiefeier-in-st-maximilian-kolbe-donnerstag/2027-05-27/
LOCATION:St. Maximilian Kolbe\, Jörg-Ratgeb-Platz 25\, Heilbronn-Sontheim\, 74081
CATEGORIES:Gottesdienst
END:VEVENT
BEGIN:VEVENT
DTSTART;TZID=Europe/Berlin:20270529T183000
DTEND;TZID=Europe/Berlin:20270529T193000
DTSTAMP:20260421T071937
CREATED:20260304T153850Z
LAST-MODIFIED:20260327T114702Z
UID:10009866-1811615400-1811619000@martinus-hn.de
SUMMARY:Eucharistiefeier in Heilig Geist
DESCRIPTION:
URL:https://martinus-hn.de/veranstaltung/eucharistiefeier-in-heilig-geist/2027-05-29/
LOCATION:Heilig-Geist-Kirche\, Heilbronner Weg 17\, Heilbronn-Horkheim\, 74081
CATEGORIES:Gottesdienst
END:VEVENT
BEGIN:VEVENT
DTSTART;TZID=Europe/Berlin:20270530T103000
DTEND;TZID=Europe/Berlin:20270530T113000
DTSTAMP:20260421T071937
CREATED:20260327T120935Z
LAST-MODIFIED:20260327T120935Z
UID:10010972-1811673000-1811676600@martinus-hn.de
SUMMARY:Eucharistiefeier in St. Martinus
DESCRIPTION:
URL:https://martinus-hn.de/veranstaltung/eucharistiefeier-in-st-martinus/2027-05-30/
LOCATION:St. Martinus\, Auf dem Bau 1\, Heilbronn-Sontheim\, 74081\, Deutschland
CATEGORIES:Gottesdienst
END:VEVENT
BEGIN:VEVENT
DTSTART;TZID=Europe/Berlin:20270601T183000
DTEND;TZID=Europe/Berlin:20270601T193000
DTSTAMP:20260421T071937
CREATED:20260327T115841Z
LAST-MODIFIED:20260327T115841Z
UID:10010435-1811874600-1811878200@martinus-hn.de
SUMMARY:Eucharistiefeier in Heilig Geist
DESCRIPTION:
URL:https://martinus-hn.de/veranstaltung/eucharistiefeier-in-heilig-geist-dienstag/2027-06-01/
LOCATION:Heilig-Geist-Kirche\, Heilbronner Weg 17\, Heilbronn-Horkheim\, 74081
CATEGORIES:Gottesdienst
END:VEVENT
BEGIN:VEVENT
DTSTART;TZID=Europe/Berlin:20270603T183000
DTEND;TZID=Europe/Berlin:20270603T193000
DTSTAMP:20260421T071937
CREATED:20260327T120443Z
LAST-MODIFIED:20260327T120518Z
UID:10010708-1812047400-1812051000@martinus-hn.de
SUMMARY:Eucharistiefeier in St. Maximilian Kolbe
DESCRIPTION:
URL:https://martinus-hn.de/veranstaltung/eucharistiefeier-in-st-maximilian-kolbe-donnerstag/2027-06-03/
LOCATION:St. Maximilian Kolbe\, Jörg-Ratgeb-Platz 25\, Heilbronn-Sontheim\, 74081
CATEGORIES:Gottesdienst
END:VEVENT
BEGIN:VEVENT
DTSTART;TZID=Europe/Berlin:20270605T183000
DTEND;TZID=Europe/Berlin:20270605T193000
DTSTAMP:20260421T071937
CREATED:20260327T114344Z
LAST-MODIFIED:20260327T114457Z
UID:10009734-1812220200-1812223800@martinus-hn.de
SUMMARY:Eucharistiefeier in St. Maximilian Kolbe
DESCRIPTION:
URL:https://martinus-hn.de/veranstaltung/eucharistiefeier-in-st-maximilian-kolbe/2027-06-05/
LOCATION:St. Maximilian Kolbe\, Jörg-Ratgeb-Platz 25\, Heilbronn-Sontheim\, 74081
CATEGORIES:Gottesdienst
END:VEVENT
BEGIN:VEVENT
DTSTART;TZID=Europe/Berlin:20270606T103000
DTEND;TZID=Europe/Berlin:20270606T113000
DTSTAMP:20260421T071937
CREATED:20260327T120935Z
LAST-MODIFIED:20260327T120935Z
UID:10010973-1812277800-1812281400@martinus-hn.de
SUMMARY:Eucharistiefeier in St. Martinus
DESCRIPTION:
URL:https://martinus-hn.de/veranstaltung/eucharistiefeier-in-st-martinus/2027-06-06/
LOCATION:St. Martinus\, Auf dem Bau 1\, Heilbronn-Sontheim\, 74081\, Deutschland
CATEGORIES:Gottesdienst
END:VEVENT
BEGIN:VEVENT
DTSTART;TZID=Europe/Berlin:20270608T183000
DTEND;TZID=Europe/Berlin:20270608T193000
DTSTAMP:20260421T071937
CREATED:20260327T115841Z
LAST-MODIFIED:20260327T115841Z
UID:10010436-1812479400-1812483000@martinus-hn.de
SUMMARY:Eucharistiefeier in Heilig Geist
DESCRIPTION:
URL:https://martinus-hn.de/veranstaltung/eucharistiefeier-in-heilig-geist-dienstag/2027-06-08/
LOCATION:Heilig-Geist-Kirche\, Heilbronner Weg 17\, Heilbronn-Horkheim\, 74081
CATEGORIES:Gottesdienst
END:VEVENT
BEGIN:VEVENT
DTSTART;TZID=Europe/Berlin:20270610T183000
DTEND;TZID=Europe/Berlin:20270610T193000
DTSTAMP:20260421T071937
CREATED:20260327T120443Z
LAST-MODIFIED:20260327T120518Z
UID:10010709-1812652200-1812655800@martinus-hn.de
SUMMARY:Eucharistiefeier in St. Maximilian Kolbe
DESCRIPTION:
URL:https://martinus-hn.de/veranstaltung/eucharistiefeier-in-st-maximilian-kolbe-donnerstag/2027-06-10/
LOCATION:St. Maximilian Kolbe\, Jörg-Ratgeb-Platz 25\, Heilbronn-Sontheim\, 74081
CATEGORIES:Gottesdienst
END:VEVENT
BEGIN:VEVENT
DTSTART;TZID=Europe/Berlin:20270612T183000
DTEND;TZID=Europe/Berlin:20270612T193000
DTSTAMP:20260421T071937
CREATED:20260304T153850Z
LAST-MODIFIED:20260327T114702Z
UID:10009867-1812825000-1812828600@martinus-hn.de
SUMMARY:Eucharistiefeier in Heilig Geist
DESCRIPTION:
URL:https://martinus-hn.de/veranstaltung/eucharistiefeier-in-heilig-geist/2027-06-12/
LOCATION:Heilig-Geist-Kirche\, Heilbronner Weg 17\, Heilbronn-Horkheim\, 74081
CATEGORIES:Gottesdienst
END:VEVENT
BEGIN:VEVENT
DTSTART;TZID=Europe/Berlin:20270613T103000
DTEND;TZID=Europe/Berlin:20270613T113000
DTSTAMP:20260421T071937
CREATED:20260327T120935Z
LAST-MODIFIED:20260327T120935Z
UID:10010974-1812882600-1812886200@martinus-hn.de
SUMMARY:Eucharistiefeier in St. Martinus
DESCRIPTION:
URL:https://martinus-hn.de/veranstaltung/eucharistiefeier-in-st-martinus/2027-06-13/
LOCATION:St. Martinus\, Auf dem Bau 1\, Heilbronn-Sontheim\, 74081\, Deutschland
CATEGORIES:Gottesdienst
END:VEVENT
END:VCALENDAR