BEGIN:VCALENDAR
VERSION:2.0
PRODID:-//St. Martinus Heilbronn-Sontheim - ECPv6.10.2//NONSGML v1.0//EN
CALSCALE:GREGORIAN
METHOD:PUBLISH
X-ORIGINAL-URL:https://martinus-hn.de
X-WR-CALDESC:Veranstaltungen für St. Martinus Heilbronn-Sontheim
REFRESH-INTERVAL;VALUE=DURATION:PT1H
X-Robots-Tag:noindex
X-PUBLISHED-TTL:PT1H
BEGIN:VTIMEZONE
TZID:Europe/Berlin
BEGIN:DAYLIGHT
TZOFFSETFROM:+0100
TZOFFSETTO:+0200
TZNAME:CEST
DTSTART:20270328T010000
END:DAYLIGHT
BEGIN:STANDARD
TZOFFSETFROM:+0200
TZOFFSETTO:+0100
TZNAME:CET
DTSTART:20271031T010000
END:STANDARD
END:VTIMEZONE
BEGIN:VEVENT
DTSTART;TZID=Europe/Berlin:20270302T183000
DTEND;TZID=Europe/Berlin:20270302T193000
DTSTAMP:20260420T190154
CREATED:20260327T115841Z
LAST-MODIFIED:20260327T115841Z
UID:10010422-1804012200-1804015800@martinus-hn.de
SUMMARY:Eucharistiefeier in Heilig Geist
DESCRIPTION:
URL:https://martinus-hn.de/veranstaltung/eucharistiefeier-in-heilig-geist-dienstag/2027-03-02/
LOCATION:Heilig-Geist-Kirche\, Heilbronner Weg 17\, Heilbronn-Horkheim\, 74081
CATEGORIES:Gottesdienst
END:VEVENT
BEGIN:VEVENT
DTSTART;TZID=Europe/Berlin:20270304T183000
DTEND;TZID=Europe/Berlin:20270304T193000
DTSTAMP:20260420T190154
CREATED:20260327T120443Z
LAST-MODIFIED:20260327T120518Z
UID:10010695-1804185000-1804188600@martinus-hn.de
SUMMARY:Eucharistiefeier in St. Maximilian Kolbe
DESCRIPTION:
URL:https://martinus-hn.de/veranstaltung/eucharistiefeier-in-st-maximilian-kolbe-donnerstag/2027-03-04/
LOCATION:St. Maximilian Kolbe\, Jörg-Ratgeb-Platz 25\, Heilbronn-Sontheim\, 74081
CATEGORIES:Gottesdienst
END:VEVENT
BEGIN:VEVENT
DTSTART;TZID=Europe/Berlin:20270306T183000
DTEND;TZID=Europe/Berlin:20270306T193000
DTSTAMP:20260420T190154
CREATED:20260304T153850Z
LAST-MODIFIED:20260327T114702Z
UID:10009860-1804357800-1804361400@martinus-hn.de
SUMMARY:Eucharistiefeier in Heilig Geist
DESCRIPTION:
URL:https://martinus-hn.de/veranstaltung/eucharistiefeier-in-heilig-geist/2027-03-06/
LOCATION:Heilig-Geist-Kirche\, Heilbronner Weg 17\, Heilbronn-Horkheim\, 74081
CATEGORIES:Gottesdienst
END:VEVENT
BEGIN:VEVENT
DTSTART;TZID=Europe/Berlin:20270307T103000
DTEND;TZID=Europe/Berlin:20270307T113000
DTSTAMP:20260420T190154
CREATED:20260327T120935Z
LAST-MODIFIED:20260327T120935Z
UID:10010960-1804415400-1804419000@martinus-hn.de
SUMMARY:Eucharistiefeier in St. Martinus
DESCRIPTION:
URL:https://martinus-hn.de/veranstaltung/eucharistiefeier-in-st-martinus/2027-03-07/
LOCATION:St. Martinus\, Auf dem Bau 1\, Heilbronn-Sontheim\, 74081\, Deutschland
CATEGORIES:Gottesdienst
END:VEVENT
BEGIN:VEVENT
DTSTART;TZID=Europe/Berlin:20270309T183000
DTEND;TZID=Europe/Berlin:20270309T193000
DTSTAMP:20260420T190154
CREATED:20260327T115841Z
LAST-MODIFIED:20260327T115841Z
UID:10010423-1804617000-1804620600@martinus-hn.de
SUMMARY:Eucharistiefeier in Heilig Geist
DESCRIPTION:
URL:https://martinus-hn.de/veranstaltung/eucharistiefeier-in-heilig-geist-dienstag/2027-03-09/
LOCATION:Heilig-Geist-Kirche\, Heilbronner Weg 17\, Heilbronn-Horkheim\, 74081
CATEGORIES:Gottesdienst
END:VEVENT
BEGIN:VEVENT
DTSTART;TZID=Europe/Berlin:20270311T183000
DTEND;TZID=Europe/Berlin:20270311T193000
DTSTAMP:20260420T190154
CREATED:20260327T120443Z
LAST-MODIFIED:20260327T120518Z
UID:10010696-1804789800-1804793400@martinus-hn.de
SUMMARY:Eucharistiefeier in St. Maximilian Kolbe
DESCRIPTION:
URL:https://martinus-hn.de/veranstaltung/eucharistiefeier-in-st-maximilian-kolbe-donnerstag/2027-03-11/
LOCATION:St. Maximilian Kolbe\, Jörg-Ratgeb-Platz 25\, Heilbronn-Sontheim\, 74081
CATEGORIES:Gottesdienst
END:VEVENT
BEGIN:VEVENT
DTSTART;TZID=Europe/Berlin:20270313T183000
DTEND;TZID=Europe/Berlin:20270313T193000
DTSTAMP:20260420T190154
CREATED:20260327T114344Z
LAST-MODIFIED:20260327T114457Z
UID:10009728-1804962600-1804966200@martinus-hn.de
SUMMARY:Eucharistiefeier in St. Maximilian Kolbe
DESCRIPTION:
URL:https://martinus-hn.de/veranstaltung/eucharistiefeier-in-st-maximilian-kolbe/2027-03-13/
LOCATION:St. Maximilian Kolbe\, Jörg-Ratgeb-Platz 25\, Heilbronn-Sontheim\, 74081
CATEGORIES:Gottesdienst
END:VEVENT
BEGIN:VEVENT
DTSTART;TZID=Europe/Berlin:20270314T103000
DTEND;TZID=Europe/Berlin:20270314T113000
DTSTAMP:20260420T190154
CREATED:20260327T120935Z
LAST-MODIFIED:20260327T120935Z
UID:10010961-1805020200-1805023800@martinus-hn.de
SUMMARY:Eucharistiefeier in St. Martinus
DESCRIPTION:
URL:https://martinus-hn.de/veranstaltung/eucharistiefeier-in-st-martinus/2027-03-14/
LOCATION:St. Martinus\, Auf dem Bau 1\, Heilbronn-Sontheim\, 74081\, Deutschland
CATEGORIES:Gottesdienst
END:VEVENT
BEGIN:VEVENT
DTSTART;TZID=Europe/Berlin:20270316T183000
DTEND;TZID=Europe/Berlin:20270316T193000
DTSTAMP:20260420T190154
CREATED:20260327T115841Z
LAST-MODIFIED:20260327T115841Z
UID:10010424-1805221800-1805225400@martinus-hn.de
SUMMARY:Eucharistiefeier in Heilig Geist
DESCRIPTION:
URL:https://martinus-hn.de/veranstaltung/eucharistiefeier-in-heilig-geist-dienstag/2027-03-16/
LOCATION:Heilig-Geist-Kirche\, Heilbronner Weg 17\, Heilbronn-Horkheim\, 74081
CATEGORIES:Gottesdienst
END:VEVENT
BEGIN:VEVENT
DTSTART;TZID=Europe/Berlin:20270318T183000
DTEND;TZID=Europe/Berlin:20270318T193000
DTSTAMP:20260420T190154
CREATED:20260327T120443Z
LAST-MODIFIED:20260327T120518Z
UID:10010697-1805394600-1805398200@martinus-hn.de
SUMMARY:Eucharistiefeier in St. Maximilian Kolbe
DESCRIPTION:
URL:https://martinus-hn.de/veranstaltung/eucharistiefeier-in-st-maximilian-kolbe-donnerstag/2027-03-18/
LOCATION:St. Maximilian Kolbe\, Jörg-Ratgeb-Platz 25\, Heilbronn-Sontheim\, 74081
CATEGORIES:Gottesdienst
END:VEVENT
BEGIN:VEVENT
DTSTART;TZID=Europe/Berlin:20270320T183000
DTEND;TZID=Europe/Berlin:20270320T193000
DTSTAMP:20260420T190154
CREATED:20260304T153850Z
LAST-MODIFIED:20260327T114702Z
UID:10009861-1805567400-1805571000@martinus-hn.de
SUMMARY:Eucharistiefeier in Heilig Geist
DESCRIPTION:
URL:https://martinus-hn.de/veranstaltung/eucharistiefeier-in-heilig-geist/2027-03-20/
LOCATION:Heilig-Geist-Kirche\, Heilbronner Weg 17\, Heilbronn-Horkheim\, 74081
CATEGORIES:Gottesdienst
END:VEVENT
BEGIN:VEVENT
DTSTART;TZID=Europe/Berlin:20270321T103000
DTEND;TZID=Europe/Berlin:20270321T113000
DTSTAMP:20260420T190154
CREATED:20260327T120935Z
LAST-MODIFIED:20260327T120935Z
UID:10010962-1805625000-1805628600@martinus-hn.de
SUMMARY:Eucharistiefeier in St. Martinus
DESCRIPTION:
URL:https://martinus-hn.de/veranstaltung/eucharistiefeier-in-st-martinus/2027-03-21/
LOCATION:St. Martinus\, Auf dem Bau 1\, Heilbronn-Sontheim\, 74081\, Deutschland
CATEGORIES:Gottesdienst
END:VEVENT
BEGIN:VEVENT
DTSTART;TZID=Europe/Berlin:20270323T183000
DTEND;TZID=Europe/Berlin:20270323T193000
DTSTAMP:20260420T190154
CREATED:20260327T115841Z
LAST-MODIFIED:20260327T115841Z
UID:10010425-1805826600-1805830200@martinus-hn.de
SUMMARY:Eucharistiefeier in Heilig Geist
DESCRIPTION:
URL:https://martinus-hn.de/veranstaltung/eucharistiefeier-in-heilig-geist-dienstag/2027-03-23/
LOCATION:Heilig-Geist-Kirche\, Heilbronner Weg 17\, Heilbronn-Horkheim\, 74081
CATEGORIES:Gottesdienst
END:VEVENT
BEGIN:VEVENT
DTSTART;TZID=Europe/Berlin:20270325T183000
DTEND;TZID=Europe/Berlin:20270325T193000
DTSTAMP:20260420T190154
CREATED:20260327T120443Z
LAST-MODIFIED:20260327T120518Z
UID:10010698-1805999400-1806003000@martinus-hn.de
SUMMARY:Eucharistiefeier in St. Maximilian Kolbe
DESCRIPTION:
URL:https://martinus-hn.de/veranstaltung/eucharistiefeier-in-st-maximilian-kolbe-donnerstag/2027-03-25/
LOCATION:St. Maximilian Kolbe\, Jörg-Ratgeb-Platz 25\, Heilbronn-Sontheim\, 74081
CATEGORIES:Gottesdienst
END:VEVENT
BEGIN:VEVENT
DTSTART;TZID=Europe/Berlin:20270327T183000
DTEND;TZID=Europe/Berlin:20270327T193000
DTSTAMP:20260420T190154
CREATED:20260327T114344Z
LAST-MODIFIED:20260327T114457Z
UID:10009729-1806172200-1806175800@martinus-hn.de
SUMMARY:Eucharistiefeier in St. Maximilian Kolbe
DESCRIPTION:
URL:https://martinus-hn.de/veranstaltung/eucharistiefeier-in-st-maximilian-kolbe/2027-03-27/
LOCATION:St. Maximilian Kolbe\, Jörg-Ratgeb-Platz 25\, Heilbronn-Sontheim\, 74081
CATEGORIES:Gottesdienst
END:VEVENT
BEGIN:VEVENT
DTSTART;TZID=Europe/Berlin:20270328T103000
DTEND;TZID=Europe/Berlin:20270328T113000
DTSTAMP:20260420T190154
CREATED:20260327T120935Z
LAST-MODIFIED:20260327T120935Z
UID:10010963-1806229800-1806233400@martinus-hn.de
SUMMARY:Eucharistiefeier in St. Martinus
DESCRIPTION:
URL:https://martinus-hn.de/veranstaltung/eucharistiefeier-in-st-martinus/2027-03-28/
LOCATION:St. Martinus\, Auf dem Bau 1\, Heilbronn-Sontheim\, 74081\, Deutschland
CATEGORIES:Gottesdienst
END:VEVENT
BEGIN:VEVENT
DTSTART;TZID=Europe/Berlin:20270330T183000
DTEND;TZID=Europe/Berlin:20270330T193000
DTSTAMP:20260420T190154
CREATED:20260327T115841Z
LAST-MODIFIED:20260327T115841Z
UID:10010426-1806431400-1806435000@martinus-hn.de
SUMMARY:Eucharistiefeier in Heilig Geist
DESCRIPTION:
URL:https://martinus-hn.de/veranstaltung/eucharistiefeier-in-heilig-geist-dienstag/2027-03-30/
LOCATION:Heilig-Geist-Kirche\, Heilbronner Weg 17\, Heilbronn-Horkheim\, 74081
CATEGORIES:Gottesdienst
END:VEVENT
BEGIN:VEVENT
DTSTART;TZID=Europe/Berlin:20270401T183000
DTEND;TZID=Europe/Berlin:20270401T193000
DTSTAMP:20260420T190154
CREATED:20260327T120443Z
LAST-MODIFIED:20260327T120518Z
UID:10010699-1806604200-1806607800@martinus-hn.de
SUMMARY:Eucharistiefeier in St. Maximilian Kolbe
DESCRIPTION:
URL:https://martinus-hn.de/veranstaltung/eucharistiefeier-in-st-maximilian-kolbe-donnerstag/2027-04-01/
LOCATION:St. Maximilian Kolbe\, Jörg-Ratgeb-Platz 25\, Heilbronn-Sontheim\, 74081
CATEGORIES:Gottesdienst
END:VEVENT
BEGIN:VEVENT
DTSTART;TZID=Europe/Berlin:20270403T183000
DTEND;TZID=Europe/Berlin:20270403T193000
DTSTAMP:20260420T190154
CREATED:20260304T153850Z
LAST-MODIFIED:20260327T114702Z
UID:10009862-1806777000-1806780600@martinus-hn.de
SUMMARY:Eucharistiefeier in Heilig Geist
DESCRIPTION:
URL:https://martinus-hn.de/veranstaltung/eucharistiefeier-in-heilig-geist/2027-04-03/
LOCATION:Heilig-Geist-Kirche\, Heilbronner Weg 17\, Heilbronn-Horkheim\, 74081
CATEGORIES:Gottesdienst
END:VEVENT
BEGIN:VEVENT
DTSTART;TZID=Europe/Berlin:20270404T103000
DTEND;TZID=Europe/Berlin:20270404T113000
DTSTAMP:20260420T190154
CREATED:20260327T120935Z
LAST-MODIFIED:20260327T120935Z
UID:10010964-1806834600-1806838200@martinus-hn.de
SUMMARY:Eucharistiefeier in St. Martinus
DESCRIPTION:
URL:https://martinus-hn.de/veranstaltung/eucharistiefeier-in-st-martinus/2027-04-04/
LOCATION:St. Martinus\, Auf dem Bau 1\, Heilbronn-Sontheim\, 74081\, Deutschland
CATEGORIES:Gottesdienst
END:VEVENT
BEGIN:VEVENT
DTSTART;TZID=Europe/Berlin:20270406T183000
DTEND;TZID=Europe/Berlin:20270406T193000
DTSTAMP:20260420T190154
CREATED:20260327T115841Z
LAST-MODIFIED:20260327T115841Z
UID:10010427-1807036200-1807039800@martinus-hn.de
SUMMARY:Eucharistiefeier in Heilig Geist
DESCRIPTION:
URL:https://martinus-hn.de/veranstaltung/eucharistiefeier-in-heilig-geist-dienstag/2027-04-06/
LOCATION:Heilig-Geist-Kirche\, Heilbronner Weg 17\, Heilbronn-Horkheim\, 74081
CATEGORIES:Gottesdienst
END:VEVENT
BEGIN:VEVENT
DTSTART;TZID=Europe/Berlin:20270408T183000
DTEND;TZID=Europe/Berlin:20270408T193000
DTSTAMP:20260420T190154
CREATED:20260327T120443Z
LAST-MODIFIED:20260327T120518Z
UID:10010700-1807209000-1807212600@martinus-hn.de
SUMMARY:Eucharistiefeier in St. Maximilian Kolbe
DESCRIPTION:
URL:https://martinus-hn.de/veranstaltung/eucharistiefeier-in-st-maximilian-kolbe-donnerstag/2027-04-08/
LOCATION:St. Maximilian Kolbe\, Jörg-Ratgeb-Platz 25\, Heilbronn-Sontheim\, 74081
CATEGORIES:Gottesdienst
END:VEVENT
BEGIN:VEVENT
DTSTART;TZID=Europe/Berlin:20270410T183000
DTEND;TZID=Europe/Berlin:20270410T193000
DTSTAMP:20260420T190154
CREATED:20260327T114344Z
LAST-MODIFIED:20260327T114457Z
UID:10009730-1807381800-1807385400@martinus-hn.de
SUMMARY:Eucharistiefeier in St. Maximilian Kolbe
DESCRIPTION:
URL:https://martinus-hn.de/veranstaltung/eucharistiefeier-in-st-maximilian-kolbe/2027-04-10/
LOCATION:St. Maximilian Kolbe\, Jörg-Ratgeb-Platz 25\, Heilbronn-Sontheim\, 74081
CATEGORIES:Gottesdienst
END:VEVENT
BEGIN:VEVENT
DTSTART;TZID=Europe/Berlin:20270411T103000
DTEND;TZID=Europe/Berlin:20270411T113000
DTSTAMP:20260420T190154
CREATED:20260327T120935Z
LAST-MODIFIED:20260327T120935Z
UID:10010965-1807439400-1807443000@martinus-hn.de
SUMMARY:Eucharistiefeier in St. Martinus
DESCRIPTION:
URL:https://martinus-hn.de/veranstaltung/eucharistiefeier-in-st-martinus/2027-04-11/
LOCATION:St. Martinus\, Auf dem Bau 1\, Heilbronn-Sontheim\, 74081\, Deutschland
CATEGORIES:Gottesdienst
END:VEVENT
BEGIN:VEVENT
DTSTART;TZID=Europe/Berlin:20270413T183000
DTEND;TZID=Europe/Berlin:20270413T193000
DTSTAMP:20260420T190154
CREATED:20260327T115841Z
LAST-MODIFIED:20260327T115841Z
UID:10010428-1807641000-1807644600@martinus-hn.de
SUMMARY:Eucharistiefeier in Heilig Geist
DESCRIPTION:
URL:https://martinus-hn.de/veranstaltung/eucharistiefeier-in-heilig-geist-dienstag/2027-04-13/
LOCATION:Heilig-Geist-Kirche\, Heilbronner Weg 17\, Heilbronn-Horkheim\, 74081
CATEGORIES:Gottesdienst
END:VEVENT
BEGIN:VEVENT
DTSTART;TZID=Europe/Berlin:20270415T183000
DTEND;TZID=Europe/Berlin:20270415T193000
DTSTAMP:20260420T190154
CREATED:20260327T120443Z
LAST-MODIFIED:20260327T120518Z
UID:10010701-1807813800-1807817400@martinus-hn.de
SUMMARY:Eucharistiefeier in St. Maximilian Kolbe
DESCRIPTION:
URL:https://martinus-hn.de/veranstaltung/eucharistiefeier-in-st-maximilian-kolbe-donnerstag/2027-04-15/
LOCATION:St. Maximilian Kolbe\, Jörg-Ratgeb-Platz 25\, Heilbronn-Sontheim\, 74081
CATEGORIES:Gottesdienst
END:VEVENT
BEGIN:VEVENT
DTSTART;TZID=Europe/Berlin:20270417T183000
DTEND;TZID=Europe/Berlin:20270417T193000
DTSTAMP:20260420T190154
CREATED:20260304T153850Z
LAST-MODIFIED:20260327T114702Z
UID:10009863-1807986600-1807990200@martinus-hn.de
SUMMARY:Eucharistiefeier in Heilig Geist
DESCRIPTION:
URL:https://martinus-hn.de/veranstaltung/eucharistiefeier-in-heilig-geist/2027-04-17/
LOCATION:Heilig-Geist-Kirche\, Heilbronner Weg 17\, Heilbronn-Horkheim\, 74081
CATEGORIES:Gottesdienst
END:VEVENT
BEGIN:VEVENT
DTSTART;TZID=Europe/Berlin:20270418T103000
DTEND;TZID=Europe/Berlin:20270418T113000
DTSTAMP:20260420T190154
CREATED:20260327T120935Z
LAST-MODIFIED:20260327T120935Z
UID:10010966-1808044200-1808047800@martinus-hn.de
SUMMARY:Eucharistiefeier in St. Martinus
DESCRIPTION:
URL:https://martinus-hn.de/veranstaltung/eucharistiefeier-in-st-martinus/2027-04-18/
LOCATION:St. Martinus\, Auf dem Bau 1\, Heilbronn-Sontheim\, 74081\, Deutschland
CATEGORIES:Gottesdienst
END:VEVENT
BEGIN:VEVENT
DTSTART;TZID=Europe/Berlin:20270420T183000
DTEND;TZID=Europe/Berlin:20270420T193000
DTSTAMP:20260420T190154
CREATED:20260327T115841Z
LAST-MODIFIED:20260327T115841Z
UID:10010429-1808245800-1808249400@martinus-hn.de
SUMMARY:Eucharistiefeier in Heilig Geist
DESCRIPTION:
URL:https://martinus-hn.de/veranstaltung/eucharistiefeier-in-heilig-geist-dienstag/2027-04-20/
LOCATION:Heilig-Geist-Kirche\, Heilbronner Weg 17\, Heilbronn-Horkheim\, 74081
CATEGORIES:Gottesdienst
END:VEVENT
BEGIN:VEVENT
DTSTART;TZID=Europe/Berlin:20270422T183000
DTEND;TZID=Europe/Berlin:20270422T193000
DTSTAMP:20260420T190154
CREATED:20260327T120443Z
LAST-MODIFIED:20260327T120518Z
UID:10010702-1808418600-1808422200@martinus-hn.de
SUMMARY:Eucharistiefeier in St. Maximilian Kolbe
DESCRIPTION:
URL:https://martinus-hn.de/veranstaltung/eucharistiefeier-in-st-maximilian-kolbe-donnerstag/2027-04-22/
LOCATION:St. Maximilian Kolbe\, Jörg-Ratgeb-Platz 25\, Heilbronn-Sontheim\, 74081
CATEGORIES:Gottesdienst
END:VEVENT
END:VCALENDAR