BEGIN:VCALENDAR
VERSION:2.0
PRODID:-//St. Martinus Heilbronn-Sontheim - ECPv6.10.2//NONSGML v1.0//EN
CALSCALE:GREGORIAN
METHOD:PUBLISH
X-WR-CALNAME:St. Martinus Heilbronn-Sontheim
X-ORIGINAL-URL:https://martinus-hn.de
X-WR-CALDESC:Veranstaltungen für St. Martinus Heilbronn-Sontheim
REFRESH-INTERVAL;VALUE=DURATION:PT1H
X-Robots-Tag:noindex
X-PUBLISHED-TTL:PT1H
BEGIN:VTIMEZONE
TZID:Europe/Berlin
BEGIN:DAYLIGHT
TZOFFSETFROM:+0100
TZOFFSETTO:+0200
TZNAME:CEST
DTSTART:20260329T010000
END:DAYLIGHT
BEGIN:STANDARD
TZOFFSETFROM:+0200
TZOFFSETTO:+0100
TZNAME:CET
DTSTART:20261025T010000
END:STANDARD
END:VTIMEZONE
BEGIN:VEVENT
DTSTART;TZID=Europe/Berlin:20261101T103000
DTEND;TZID=Europe/Berlin:20261101T113000
DTSTAMP:20260420T024025
CREATED:20260327T120935Z
LAST-MODIFIED:20260327T120935Z
UID:10010942-1793529000-1793532600@martinus-hn.de
SUMMARY:Eucharistiefeier in St. Martinus
DESCRIPTION:
URL:https://martinus-hn.de/veranstaltung/eucharistiefeier-in-st-martinus/2026-11-01/
LOCATION:St. Martinus\, Auf dem Bau 1\, Heilbronn-Sontheim\, 74081\, Deutschland
CATEGORIES:Gottesdienst
END:VEVENT
BEGIN:VEVENT
DTSTART;TZID=Europe/Berlin:20261103T183000
DTEND;TZID=Europe/Berlin:20261103T193000
DTSTAMP:20260420T024025
CREATED:20260327T115841Z
LAST-MODIFIED:20260327T115841Z
UID:10010405-1793730600-1793734200@martinus-hn.de
SUMMARY:Eucharistiefeier in Heilig Geist
DESCRIPTION:
URL:https://martinus-hn.de/veranstaltung/eucharistiefeier-in-heilig-geist-dienstag/2026-11-03/
LOCATION:Heilig-Geist-Kirche\, Heilbronner Weg 17\, Heilbronn-Horkheim\, 74081
CATEGORIES:Gottesdienst
END:VEVENT
BEGIN:VEVENT
DTSTART;TZID=Europe/Berlin:20261104T151500
DTEND;TZID=Europe/Berlin:20261104T160000
DTSTAMP:20260420T024025
CREATED:20251104T131224Z
LAST-MODIFIED:20251104T131224Z
UID:10008942-1793805300-1793808000@martinus-hn.de
SUMMARY:Gottesdienst im ASB-Heim
DESCRIPTION:
URL:https://martinus-hn.de/veranstaltung/gottesdienst-im-asb-heim/2026-11-04/
LOCATION:ASB Pflegezentrum Heilbronn-Sontheim\, Bottwarbahnstr. 28\, Heilbronn-Sontheim\, 74081
CATEGORIES:Gottesdienst,Pflegeheime
END:VEVENT
BEGIN:VEVENT
DTSTART;TZID=Europe/Berlin:20261105T183000
DTEND;TZID=Europe/Berlin:20261105T193000
DTSTAMP:20260420T024026
CREATED:20260327T120443Z
LAST-MODIFIED:20260327T120518Z
UID:10010678-1793903400-1793907000@martinus-hn.de
SUMMARY:Eucharistiefeier in St. Maximilian Kolbe
DESCRIPTION:
URL:https://martinus-hn.de/veranstaltung/eucharistiefeier-in-st-maximilian-kolbe-donnerstag/2026-11-05/
LOCATION:St. Maximilian Kolbe\, Jörg-Ratgeb-Platz 25\, Heilbronn-Sontheim\, 74081
CATEGORIES:Gottesdienst
END:VEVENT
BEGIN:VEVENT
DTSTART;TZID=Europe/Berlin:20261107T183000
DTEND;TZID=Europe/Berlin:20261107T193000
DTSTAMP:20260420T024026
CREATED:20260327T114344Z
LAST-MODIFIED:20260327T114457Z
UID:10009719-1794076200-1794079800@martinus-hn.de
SUMMARY:Eucharistiefeier in St. Maximilian Kolbe
DESCRIPTION:
URL:https://martinus-hn.de/veranstaltung/eucharistiefeier-in-st-maximilian-kolbe/2026-11-07/
LOCATION:St. Maximilian Kolbe\, Jörg-Ratgeb-Platz 25\, Heilbronn-Sontheim\, 74081
CATEGORIES:Gottesdienst
END:VEVENT
BEGIN:VEVENT
DTSTART;TZID=Europe/Berlin:20261108T103000
DTEND;TZID=Europe/Berlin:20261108T113000
DTSTAMP:20260420T024026
CREATED:20260327T120935Z
LAST-MODIFIED:20260327T120935Z
UID:10010943-1794133800-1794137400@martinus-hn.de
SUMMARY:Eucharistiefeier in St. Martinus
DESCRIPTION:
URL:https://martinus-hn.de/veranstaltung/eucharistiefeier-in-st-martinus/2026-11-08/
LOCATION:St. Martinus\, Auf dem Bau 1\, Heilbronn-Sontheim\, 74081\, Deutschland
CATEGORIES:Gottesdienst
END:VEVENT
BEGIN:VEVENT
DTSTART;TZID=Europe/Berlin:20261110T183000
DTEND;TZID=Europe/Berlin:20261110T193000
DTSTAMP:20260420T024026
CREATED:20260327T115841Z
LAST-MODIFIED:20260327T115841Z
UID:10010406-1794335400-1794339000@martinus-hn.de
SUMMARY:Eucharistiefeier in Heilig Geist
DESCRIPTION:
URL:https://martinus-hn.de/veranstaltung/eucharistiefeier-in-heilig-geist-dienstag/2026-11-10/
LOCATION:Heilig-Geist-Kirche\, Heilbronner Weg 17\, Heilbronn-Horkheim\, 74081
CATEGORIES:Gottesdienst
END:VEVENT
BEGIN:VEVENT
DTSTART;TZID=Europe/Berlin:20261111T153000
DTEND;TZID=Europe/Berlin:20261111T163000
DTSTAMP:20260420T024026
CREATED:20251104T161733Z
LAST-MODIFIED:20251104T161733Z
UID:10008954-1794411000-1794414600@martinus-hn.de
SUMMARY:Gottesdienst im pro-seniore-Heim
DESCRIPTION:
URL:https://martinus-hn.de/veranstaltung/gottesdienst-im-pro-seniore-heim/2026-11-11/
LOCATION:Pro Seniore Residenz Sontheim\, Zwirnereistr. 2\, Heilbronn-Sontheim\, 74081
CATEGORIES:Gottesdienst,Pflegeheime
END:VEVENT
BEGIN:VEVENT
DTSTART;TZID=Europe/Berlin:20261112T183000
DTEND;TZID=Europe/Berlin:20261112T193000
DTSTAMP:20260420T024026
CREATED:20260327T120443Z
LAST-MODIFIED:20260327T120518Z
UID:10010679-1794508200-1794511800@martinus-hn.de
SUMMARY:Eucharistiefeier in St. Maximilian Kolbe
DESCRIPTION:
URL:https://martinus-hn.de/veranstaltung/eucharistiefeier-in-st-maximilian-kolbe-donnerstag/2026-11-12/
LOCATION:St. Maximilian Kolbe\, Jörg-Ratgeb-Platz 25\, Heilbronn-Sontheim\, 74081
CATEGORIES:Gottesdienst
END:VEVENT
BEGIN:VEVENT
DTSTART;TZID=Europe/Berlin:20261114T170000
DTEND;TZID=Europe/Berlin:20261114T180000
DTSTAMP:20260420T024026
CREATED:20260328T105541Z
LAST-MODIFIED:20260328T105541Z
UID:10011180-1794675600-1794679200@martinus-hn.de
SUMMARY:Martinsspiel mit Laternenumzug
DESCRIPTION:vorher: Verkauf von gebackenen Gänsen \nanschließend: Begegnung bei Punsch und Glühwein auf dem Platz und im Gemeindehaus
URL:https://martinus-hn.de/veranstaltung/martinsspiel-mit-laternenumzug/
LOCATION:Auf dem Bau\, vor dem Gemeindehaus St. Martinus\, Auf dem Bau 3\, Heilbronn-Sontheim\, 74081
CATEGORIES:Andacht,Begegnung,Kinder und junge Familien,Kinder- und Familiengottesdienste,Musikkapelle St. Martinus
END:VEVENT
BEGIN:VEVENT
DTSTART;TZID=Europe/Berlin:20261114T183000
DTEND;TZID=Europe/Berlin:20261114T193000
DTSTAMP:20260420T024026
CREATED:20260304T153850Z
LAST-MODIFIED:20260327T114702Z
UID:10009852-1794681000-1794684600@martinus-hn.de
SUMMARY:Eucharistiefeier in Heilig Geist
DESCRIPTION:
URL:https://martinus-hn.de/veranstaltung/eucharistiefeier-in-heilig-geist/2026-11-14/
LOCATION:Heilig-Geist-Kirche\, Heilbronner Weg 17\, Heilbronn-Horkheim\, 74081
CATEGORIES:Gottesdienst
END:VEVENT
BEGIN:VEVENT
DTSTART;TZID=Europe/Berlin:20261115T103000
DTEND;TZID=Europe/Berlin:20261115T113000
DTSTAMP:20260420T024026
CREATED:20260327T120935Z
LAST-MODIFIED:20260327T120935Z
UID:10010944-1794738600-1794742200@martinus-hn.de
SUMMARY:Eucharistiefeier in St. Martinus
DESCRIPTION:
URL:https://martinus-hn.de/veranstaltung/eucharistiefeier-in-st-martinus/2026-11-15/
LOCATION:St. Martinus\, Auf dem Bau 1\, Heilbronn-Sontheim\, 74081\, Deutschland
CATEGORIES:Gottesdienst
END:VEVENT
BEGIN:VEVENT
DTSTART;TZID=Europe/Berlin:20261115T114500
DTEND;TZID=Europe/Berlin:20261115T123000
DTSTAMP:20260420T024026
CREATED:20260120T125823Z
LAST-MODIFIED:20260120T132225Z
UID:10009029-1794743100-1794745800@martinus-hn.de
SUMMARY:Taufe
DESCRIPTION:im Anschluss an den Sonntagsgottesdienst in der St.-Martinus-Kirche
URL:https://martinus-hn.de/veranstaltung/taufe-9/2026-11-15/
LOCATION:St. Martinus\, Auf dem Bau 1\, Heilbronn-Sontheim\, 74081\, Deutschland
CATEGORIES:Taufe
END:VEVENT
BEGIN:VEVENT
DTSTART;TZID=Europe/Berlin:20261117T183000
DTEND;TZID=Europe/Berlin:20261117T193000
DTSTAMP:20260420T024026
CREATED:20260327T115841Z
LAST-MODIFIED:20260327T115841Z
UID:10010407-1794940200-1794943800@martinus-hn.de
SUMMARY:Eucharistiefeier in Heilig Geist
DESCRIPTION:
URL:https://martinus-hn.de/veranstaltung/eucharistiefeier-in-heilig-geist-dienstag/2026-11-17/
LOCATION:Heilig-Geist-Kirche\, Heilbronner Weg 17\, Heilbronn-Horkheim\, 74081
CATEGORIES:Gottesdienst
END:VEVENT
BEGIN:VEVENT
DTSTART;TZID=Europe/Berlin:20261118T160000
DTEND;TZID=Europe/Berlin:20261118T170000
DTSTAMP:20260420T024026
CREATED:20251104T162004Z
LAST-MODIFIED:20251104T162453Z
UID:10008966-1795017600-1795021200@martinus-hn.de
SUMMARY:Gottesdienst im Haus am Schlüsselgarnweg
DESCRIPTION:
URL:https://martinus-hn.de/veranstaltung/gottesdienst-im-haus-am-schluesselgarnweg/2026-11-18/
LOCATION:Haus am Schlüsselgarnweg (ehemals CASA REHA Seniorenpflegeheim)\, Karl-Döft-Straße 10\, Heilbronn-Sontheim\, 74081
CATEGORIES:Gottesdienst,Pflegeheime
END:VEVENT
BEGIN:VEVENT
DTSTART;TZID=Europe/Berlin:20261119T183000
DTEND;TZID=Europe/Berlin:20261119T193000
DTSTAMP:20260420T024026
CREATED:20260327T120443Z
LAST-MODIFIED:20260327T120518Z
UID:10010680-1795113000-1795116600@martinus-hn.de
SUMMARY:Eucharistiefeier in St. Maximilian Kolbe
DESCRIPTION:
URL:https://martinus-hn.de/veranstaltung/eucharistiefeier-in-st-maximilian-kolbe-donnerstag/2026-11-19/
LOCATION:St. Maximilian Kolbe\, Jörg-Ratgeb-Platz 25\, Heilbronn-Sontheim\, 74081
CATEGORIES:Gottesdienst
END:VEVENT
BEGIN:VEVENT
DTSTART;TZID=Europe/Berlin:20261121T183000
DTEND;TZID=Europe/Berlin:20261121T193000
DTSTAMP:20260420T024026
CREATED:20260327T114344Z
LAST-MODIFIED:20260327T114457Z
UID:10009720-1795285800-1795289400@martinus-hn.de
SUMMARY:Eucharistiefeier in St. Maximilian Kolbe
DESCRIPTION:
URL:https://martinus-hn.de/veranstaltung/eucharistiefeier-in-st-maximilian-kolbe/2026-11-21/
LOCATION:St. Maximilian Kolbe\, Jörg-Ratgeb-Platz 25\, Heilbronn-Sontheim\, 74081
CATEGORIES:Gottesdienst
END:VEVENT
BEGIN:VEVENT
DTSTART;TZID=Europe/Berlin:20261122T103000
DTEND;TZID=Europe/Berlin:20261122T113000
DTSTAMP:20260420T024026
CREATED:20260327T120935Z
LAST-MODIFIED:20260327T120935Z
UID:10010945-1795343400-1795347000@martinus-hn.de
SUMMARY:Eucharistiefeier in St. Martinus
DESCRIPTION:
URL:https://martinus-hn.de/veranstaltung/eucharistiefeier-in-st-martinus/2026-11-22/
LOCATION:St. Martinus\, Auf dem Bau 1\, Heilbronn-Sontheim\, 74081\, Deutschland
CATEGORIES:Gottesdienst
END:VEVENT
BEGIN:VEVENT
DTSTART;TZID=Europe/Berlin:20261124T183000
DTEND;TZID=Europe/Berlin:20261124T193000
DTSTAMP:20260420T024026
CREATED:20260327T115841Z
LAST-MODIFIED:20260327T115841Z
UID:10010408-1795545000-1795548600@martinus-hn.de
SUMMARY:Eucharistiefeier in Heilig Geist
DESCRIPTION:
URL:https://martinus-hn.de/veranstaltung/eucharistiefeier-in-heilig-geist-dienstag/2026-11-24/
LOCATION:Heilig-Geist-Kirche\, Heilbronner Weg 17\, Heilbronn-Horkheim\, 74081
CATEGORIES:Gottesdienst
END:VEVENT
BEGIN:VEVENT
DTSTART;TZID=Europe/Berlin:20261125T100000
DTEND;TZID=Europe/Berlin:20261125T110000
DTSTAMP:20260420T024026
CREATED:20251104T162210Z
LAST-MODIFIED:20251104T162210Z
UID:10008978-1795600800-1795604400@martinus-hn.de
SUMMARY:Gottesdienst im Haus am Staufenberg
DESCRIPTION:
URL:https://martinus-hn.de/veranstaltung/gottesdienst-im-haus-am-staufenberg/2026-11-25/
LOCATION:Haus am Staufenberg\, Max-von-Laue-Straße 50\, Heilbronn-Sontheim\, 74081
CATEGORIES:Gottesdienst,Pflegeheime
END:VEVENT
BEGIN:VEVENT
DTSTART;TZID=Europe/Berlin:20261126T183000
DTEND;TZID=Europe/Berlin:20261126T193000
DTSTAMP:20260420T024026
CREATED:20260327T120443Z
LAST-MODIFIED:20260327T120518Z
UID:10010681-1795717800-1795721400@martinus-hn.de
SUMMARY:Eucharistiefeier in St. Maximilian Kolbe
DESCRIPTION:
URL:https://martinus-hn.de/veranstaltung/eucharistiefeier-in-st-maximilian-kolbe-donnerstag/2026-11-26/
LOCATION:St. Maximilian Kolbe\, Jörg-Ratgeb-Platz 25\, Heilbronn-Sontheim\, 74081
CATEGORIES:Gottesdienst
END:VEVENT
BEGIN:VEVENT
DTSTART;TZID=Europe/Berlin:20261128T183000
DTEND;TZID=Europe/Berlin:20261128T193000
DTSTAMP:20260420T024026
CREATED:20260304T153850Z
LAST-MODIFIED:20260327T114702Z
UID:10009853-1795890600-1795894200@martinus-hn.de
SUMMARY:Eucharistiefeier in Heilig Geist
DESCRIPTION:
URL:https://martinus-hn.de/veranstaltung/eucharistiefeier-in-heilig-geist/2026-11-28/
LOCATION:Heilig-Geist-Kirche\, Heilbronner Weg 17\, Heilbronn-Horkheim\, 74081
CATEGORIES:Gottesdienst
END:VEVENT
BEGIN:VEVENT
DTSTART;TZID=Europe/Berlin:20261129T103000
DTEND;TZID=Europe/Berlin:20261129T113000
DTSTAMP:20260420T024026
CREATED:20260327T120935Z
LAST-MODIFIED:20260327T120935Z
UID:10010946-1795948200-1795951800@martinus-hn.de
SUMMARY:Eucharistiefeier in St. Martinus
DESCRIPTION:
URL:https://martinus-hn.de/veranstaltung/eucharistiefeier-in-st-martinus/2026-11-29/
LOCATION:St. Martinus\, Auf dem Bau 1\, Heilbronn-Sontheim\, 74081\, Deutschland
CATEGORIES:Gottesdienst
END:VEVENT
BEGIN:VEVENT
DTSTART;TZID=Europe/Berlin:20261201T183000
DTEND;TZID=Europe/Berlin:20261201T193000
DTSTAMP:20260420T024026
CREATED:20260327T115841Z
LAST-MODIFIED:20260327T115841Z
UID:10010409-1796149800-1796153400@martinus-hn.de
SUMMARY:Eucharistiefeier in Heilig Geist
DESCRIPTION:
URL:https://martinus-hn.de/veranstaltung/eucharistiefeier-in-heilig-geist-dienstag/2026-12-01/
LOCATION:Heilig-Geist-Kirche\, Heilbronner Weg 17\, Heilbronn-Horkheim\, 74081
CATEGORIES:Gottesdienst
END:VEVENT
BEGIN:VEVENT
DTSTART;TZID=Europe/Berlin:20261202T151500
DTEND;TZID=Europe/Berlin:20261202T160000
DTSTAMP:20260420T024026
CREATED:20251104T131224Z
LAST-MODIFIED:20251104T131224Z
UID:10008943-1796224500-1796227200@martinus-hn.de
SUMMARY:Gottesdienst im ASB-Heim
DESCRIPTION:
URL:https://martinus-hn.de/veranstaltung/gottesdienst-im-asb-heim/2026-12-02/
LOCATION:ASB Pflegezentrum Heilbronn-Sontheim\, Bottwarbahnstr. 28\, Heilbronn-Sontheim\, 74081
CATEGORIES:Gottesdienst,Pflegeheime
END:VEVENT
BEGIN:VEVENT
DTSTART;TZID=Europe/Berlin:20261203T183000
DTEND;TZID=Europe/Berlin:20261203T193000
DTSTAMP:20260420T024026
CREATED:20260327T120443Z
LAST-MODIFIED:20260327T120518Z
UID:10010682-1796322600-1796326200@martinus-hn.de
SUMMARY:Eucharistiefeier in St. Maximilian Kolbe
DESCRIPTION:
URL:https://martinus-hn.de/veranstaltung/eucharistiefeier-in-st-maximilian-kolbe-donnerstag/2026-12-03/
LOCATION:St. Maximilian Kolbe\, Jörg-Ratgeb-Platz 25\, Heilbronn-Sontheim\, 74081
CATEGORIES:Gottesdienst
END:VEVENT
BEGIN:VEVENT
DTSTART;TZID=Europe/Berlin:20261205T183000
DTEND;TZID=Europe/Berlin:20261205T193000
DTSTAMP:20260420T024026
CREATED:20260327T114344Z
LAST-MODIFIED:20260327T114457Z
UID:10009721-1796495400-1796499000@martinus-hn.de
SUMMARY:Eucharistiefeier in St. Maximilian Kolbe
DESCRIPTION:
URL:https://martinus-hn.de/veranstaltung/eucharistiefeier-in-st-maximilian-kolbe/2026-12-05/
LOCATION:St. Maximilian Kolbe\, Jörg-Ratgeb-Platz 25\, Heilbronn-Sontheim\, 74081
CATEGORIES:Gottesdienst
END:VEVENT
BEGIN:VEVENT
DTSTART;TZID=Europe/Berlin:20261206T103000
DTEND;TZID=Europe/Berlin:20261206T113000
DTSTAMP:20260420T024026
CREATED:20260327T120935Z
LAST-MODIFIED:20260327T120935Z
UID:10010947-1796553000-1796556600@martinus-hn.de
SUMMARY:Eucharistiefeier in St. Martinus
DESCRIPTION:
URL:https://martinus-hn.de/veranstaltung/eucharistiefeier-in-st-martinus/2026-12-06/
LOCATION:St. Martinus\, Auf dem Bau 1\, Heilbronn-Sontheim\, 74081\, Deutschland
CATEGORIES:Gottesdienst
END:VEVENT
BEGIN:VEVENT
DTSTART;TZID=Europe/Berlin:20261208T183000
DTEND;TZID=Europe/Berlin:20261208T193000
DTSTAMP:20260420T024026
CREATED:20260327T115841Z
LAST-MODIFIED:20260327T115841Z
UID:10010410-1796754600-1796758200@martinus-hn.de
SUMMARY:Eucharistiefeier in Heilig Geist
DESCRIPTION:
URL:https://martinus-hn.de/veranstaltung/eucharistiefeier-in-heilig-geist-dienstag/2026-12-08/
LOCATION:Heilig-Geist-Kirche\, Heilbronner Weg 17\, Heilbronn-Horkheim\, 74081
CATEGORIES:Gottesdienst
END:VEVENT
BEGIN:VEVENT
DTSTART;TZID=Europe/Berlin:20261209T153000
DTEND;TZID=Europe/Berlin:20261209T163000
DTSTAMP:20260420T024026
CREATED:20251104T161733Z
LAST-MODIFIED:20251104T161733Z
UID:10008955-1796830200-1796833800@martinus-hn.de
SUMMARY:Gottesdienst im pro-seniore-Heim
DESCRIPTION:
URL:https://martinus-hn.de/veranstaltung/gottesdienst-im-pro-seniore-heim/2026-12-09/
LOCATION:Pro Seniore Residenz Sontheim\, Zwirnereistr. 2\, Heilbronn-Sontheim\, 74081
CATEGORIES:Gottesdienst,Pflegeheime
END:VEVENT
END:VCALENDAR