BEGIN:VCALENDAR
VERSION:2.0
PRODID:-//St. Martinus Heilbronn-Sontheim - ECPv6.10.2//NONSGML v1.0//EN
CALSCALE:GREGORIAN
METHOD:PUBLISH
X-WR-CALNAME:St. Martinus Heilbronn-Sontheim
X-ORIGINAL-URL:https://martinus-hn.de
X-WR-CALDESC:Veranstaltungen für St. Martinus Heilbronn-Sontheim
REFRESH-INTERVAL;VALUE=DURATION:PT1H
X-Robots-Tag:noindex
X-PUBLISHED-TTL:PT1H
BEGIN:VTIMEZONE
TZID:Europe/Berlin
BEGIN:DAYLIGHT
TZOFFSETFROM:+0100
TZOFFSETTO:+0200
TZNAME:CEST
DTSTART:20270328T010000
END:DAYLIGHT
BEGIN:STANDARD
TZOFFSETFROM:+0200
TZOFFSETTO:+0100
TZNAME:CET
DTSTART:20271031T010000
END:STANDARD
END:VTIMEZONE
BEGIN:VEVENT
DTSTART;TZID=Europe/Berlin:20270701T183000
DTEND;TZID=Europe/Berlin:20270701T193000
DTSTAMP:20260420T203952
CREATED:20260327T120443Z
LAST-MODIFIED:20260327T120518Z
UID:10010712-1814466600-1814470200@martinus-hn.de
SUMMARY:Eucharistiefeier in St. Maximilian Kolbe
DESCRIPTION:
URL:https://martinus-hn.de/veranstaltung/eucharistiefeier-in-st-maximilian-kolbe-donnerstag/2027-07-01/
LOCATION:St. Maximilian Kolbe\, Jörg-Ratgeb-Platz 25\, Heilbronn-Sontheim\, 74081
CATEGORIES:Gottesdienst
END:VEVENT
BEGIN:VEVENT
DTSTART;TZID=Europe/Berlin:20270703T183000
DTEND;TZID=Europe/Berlin:20270703T193000
DTSTAMP:20260420T203952
CREATED:20260327T114344Z
LAST-MODIFIED:20260327T114457Z
UID:10009736-1814639400-1814643000@martinus-hn.de
SUMMARY:Eucharistiefeier in St. Maximilian Kolbe
DESCRIPTION:
URL:https://martinus-hn.de/veranstaltung/eucharistiefeier-in-st-maximilian-kolbe/2027-07-03/
LOCATION:St. Maximilian Kolbe\, Jörg-Ratgeb-Platz 25\, Heilbronn-Sontheim\, 74081
CATEGORIES:Gottesdienst
END:VEVENT
BEGIN:VEVENT
DTSTART;TZID=Europe/Berlin:20270704T103000
DTEND;TZID=Europe/Berlin:20270704T113000
DTSTAMP:20260420T203952
CREATED:20260327T120935Z
LAST-MODIFIED:20260327T120935Z
UID:10010977-1814697000-1814700600@martinus-hn.de
SUMMARY:Eucharistiefeier in St. Martinus
DESCRIPTION:
URL:https://martinus-hn.de/veranstaltung/eucharistiefeier-in-st-martinus/2027-07-04/
LOCATION:St. Martinus\, Auf dem Bau 1\, Heilbronn-Sontheim\, 74081\, Deutschland
CATEGORIES:Gottesdienst
END:VEVENT
BEGIN:VEVENT
DTSTART;TZID=Europe/Berlin:20270706T183000
DTEND;TZID=Europe/Berlin:20270706T193000
DTSTAMP:20260420T203952
CREATED:20260327T115841Z
LAST-MODIFIED:20260327T115841Z
UID:10010440-1814898600-1814902200@martinus-hn.de
SUMMARY:Eucharistiefeier in Heilig Geist
DESCRIPTION:
URL:https://martinus-hn.de/veranstaltung/eucharistiefeier-in-heilig-geist-dienstag/2027-07-06/
LOCATION:Heilig-Geist-Kirche\, Heilbronner Weg 17\, Heilbronn-Horkheim\, 74081
CATEGORIES:Gottesdienst
END:VEVENT
BEGIN:VEVENT
DTSTART;TZID=Europe/Berlin:20270708T183000
DTEND;TZID=Europe/Berlin:20270708T193000
DTSTAMP:20260420T203952
CREATED:20260327T120443Z
LAST-MODIFIED:20260327T120518Z
UID:10010713-1815071400-1815075000@martinus-hn.de
SUMMARY:Eucharistiefeier in St. Maximilian Kolbe
DESCRIPTION:
URL:https://martinus-hn.de/veranstaltung/eucharistiefeier-in-st-maximilian-kolbe-donnerstag/2027-07-08/
LOCATION:St. Maximilian Kolbe\, Jörg-Ratgeb-Platz 25\, Heilbronn-Sontheim\, 74081
CATEGORIES:Gottesdienst
END:VEVENT
BEGIN:VEVENT
DTSTART;TZID=Europe/Berlin:20270710T183000
DTEND;TZID=Europe/Berlin:20270710T193000
DTSTAMP:20260420T203952
CREATED:20260304T153850Z
LAST-MODIFIED:20260327T114702Z
UID:10009869-1815244200-1815247800@martinus-hn.de
SUMMARY:Eucharistiefeier in Heilig Geist
DESCRIPTION:
URL:https://martinus-hn.de/veranstaltung/eucharistiefeier-in-heilig-geist/2027-07-10/
LOCATION:Heilig-Geist-Kirche\, Heilbronner Weg 17\, Heilbronn-Horkheim\, 74081
CATEGORIES:Gottesdienst
END:VEVENT
BEGIN:VEVENT
DTSTART;TZID=Europe/Berlin:20270711T103000
DTEND;TZID=Europe/Berlin:20270711T113000
DTSTAMP:20260420T203952
CREATED:20260327T120935Z
LAST-MODIFIED:20260327T120935Z
UID:10010978-1815301800-1815305400@martinus-hn.de
SUMMARY:Eucharistiefeier in St. Martinus
DESCRIPTION:
URL:https://martinus-hn.de/veranstaltung/eucharistiefeier-in-st-martinus/2027-07-11/
LOCATION:St. Martinus\, Auf dem Bau 1\, Heilbronn-Sontheim\, 74081\, Deutschland
CATEGORIES:Gottesdienst
END:VEVENT
BEGIN:VEVENT
DTSTART;TZID=Europe/Berlin:20270713T183000
DTEND;TZID=Europe/Berlin:20270713T193000
DTSTAMP:20260420T203952
CREATED:20260327T115841Z
LAST-MODIFIED:20260327T115841Z
UID:10010441-1815503400-1815507000@martinus-hn.de
SUMMARY:Eucharistiefeier in Heilig Geist
DESCRIPTION:
URL:https://martinus-hn.de/veranstaltung/eucharistiefeier-in-heilig-geist-dienstag/2027-07-13/
LOCATION:Heilig-Geist-Kirche\, Heilbronner Weg 17\, Heilbronn-Horkheim\, 74081
CATEGORIES:Gottesdienst
END:VEVENT
BEGIN:VEVENT
DTSTART;TZID=Europe/Berlin:20270715T183000
DTEND;TZID=Europe/Berlin:20270715T193000
DTSTAMP:20260420T203952
CREATED:20260327T120443Z
LAST-MODIFIED:20260327T120518Z
UID:10010714-1815676200-1815679800@martinus-hn.de
SUMMARY:Eucharistiefeier in St. Maximilian Kolbe
DESCRIPTION:
URL:https://martinus-hn.de/veranstaltung/eucharistiefeier-in-st-maximilian-kolbe-donnerstag/2027-07-15/
LOCATION:St. Maximilian Kolbe\, Jörg-Ratgeb-Platz 25\, Heilbronn-Sontheim\, 74081
CATEGORIES:Gottesdienst
END:VEVENT
BEGIN:VEVENT
DTSTART;TZID=Europe/Berlin:20270717T183000
DTEND;TZID=Europe/Berlin:20270717T193000
DTSTAMP:20260420T203952
CREATED:20260327T114344Z
LAST-MODIFIED:20260327T114457Z
UID:10009737-1815849000-1815852600@martinus-hn.de
SUMMARY:Eucharistiefeier in St. Maximilian Kolbe
DESCRIPTION:
URL:https://martinus-hn.de/veranstaltung/eucharistiefeier-in-st-maximilian-kolbe/2027-07-17/
LOCATION:St. Maximilian Kolbe\, Jörg-Ratgeb-Platz 25\, Heilbronn-Sontheim\, 74081
CATEGORIES:Gottesdienst
END:VEVENT
BEGIN:VEVENT
DTSTART;TZID=Europe/Berlin:20270718T103000
DTEND;TZID=Europe/Berlin:20270718T113000
DTSTAMP:20260420T203952
CREATED:20260327T120935Z
LAST-MODIFIED:20260327T120935Z
UID:10010979-1815906600-1815910200@martinus-hn.de
SUMMARY:Eucharistiefeier in St. Martinus
DESCRIPTION:
URL:https://martinus-hn.de/veranstaltung/eucharistiefeier-in-st-martinus/2027-07-18/
LOCATION:St. Martinus\, Auf dem Bau 1\, Heilbronn-Sontheim\, 74081\, Deutschland
CATEGORIES:Gottesdienst
END:VEVENT
BEGIN:VEVENT
DTSTART;TZID=Europe/Berlin:20270720T183000
DTEND;TZID=Europe/Berlin:20270720T193000
DTSTAMP:20260420T203952
CREATED:20260327T115841Z
LAST-MODIFIED:20260327T115841Z
UID:10010442-1816108200-1816111800@martinus-hn.de
SUMMARY:Eucharistiefeier in Heilig Geist
DESCRIPTION:
URL:https://martinus-hn.de/veranstaltung/eucharistiefeier-in-heilig-geist-dienstag/2027-07-20/
LOCATION:Heilig-Geist-Kirche\, Heilbronner Weg 17\, Heilbronn-Horkheim\, 74081
CATEGORIES:Gottesdienst
END:VEVENT
BEGIN:VEVENT
DTSTART;TZID=Europe/Berlin:20270722T183000
DTEND;TZID=Europe/Berlin:20270722T193000
DTSTAMP:20260420T203952
CREATED:20260327T120443Z
LAST-MODIFIED:20260327T120518Z
UID:10010715-1816281000-1816284600@martinus-hn.de
SUMMARY:Eucharistiefeier in St. Maximilian Kolbe
DESCRIPTION:
URL:https://martinus-hn.de/veranstaltung/eucharistiefeier-in-st-maximilian-kolbe-donnerstag/2027-07-22/
LOCATION:St. Maximilian Kolbe\, Jörg-Ratgeb-Platz 25\, Heilbronn-Sontheim\, 74081
CATEGORIES:Gottesdienst
END:VEVENT
BEGIN:VEVENT
DTSTART;TZID=Europe/Berlin:20270724T183000
DTEND;TZID=Europe/Berlin:20270724T193000
DTSTAMP:20260420T203952
CREATED:20260304T153850Z
LAST-MODIFIED:20260327T114702Z
UID:10009870-1816453800-1816457400@martinus-hn.de
SUMMARY:Eucharistiefeier in Heilig Geist
DESCRIPTION:
URL:https://martinus-hn.de/veranstaltung/eucharistiefeier-in-heilig-geist/2027-07-24/
LOCATION:Heilig-Geist-Kirche\, Heilbronner Weg 17\, Heilbronn-Horkheim\, 74081
CATEGORIES:Gottesdienst
END:VEVENT
BEGIN:VEVENT
DTSTART;TZID=Europe/Berlin:20270725T103000
DTEND;TZID=Europe/Berlin:20270725T113000
DTSTAMP:20260420T203952
CREATED:20260327T120935Z
LAST-MODIFIED:20260327T120935Z
UID:10010980-1816511400-1816515000@martinus-hn.de
SUMMARY:Eucharistiefeier in St. Martinus
DESCRIPTION:
URL:https://martinus-hn.de/veranstaltung/eucharistiefeier-in-st-martinus/2027-07-25/
LOCATION:St. Martinus\, Auf dem Bau 1\, Heilbronn-Sontheim\, 74081\, Deutschland
CATEGORIES:Gottesdienst
END:VEVENT
BEGIN:VEVENT
DTSTART;TZID=Europe/Berlin:20270727T183000
DTEND;TZID=Europe/Berlin:20270727T193000
DTSTAMP:20260420T203952
CREATED:20260327T115841Z
LAST-MODIFIED:20260327T115841Z
UID:10010443-1816713000-1816716600@martinus-hn.de
SUMMARY:Eucharistiefeier in Heilig Geist
DESCRIPTION:
URL:https://martinus-hn.de/veranstaltung/eucharistiefeier-in-heilig-geist-dienstag/2027-07-27/
LOCATION:Heilig-Geist-Kirche\, Heilbronner Weg 17\, Heilbronn-Horkheim\, 74081
CATEGORIES:Gottesdienst
END:VEVENT
BEGIN:VEVENT
DTSTART;TZID=Europe/Berlin:20270729T183000
DTEND;TZID=Europe/Berlin:20270729T193000
DTSTAMP:20260420T203952
CREATED:20260327T120443Z
LAST-MODIFIED:20260327T120518Z
UID:10010716-1816885800-1816889400@martinus-hn.de
SUMMARY:Eucharistiefeier in St. Maximilian Kolbe
DESCRIPTION:
URL:https://martinus-hn.de/veranstaltung/eucharistiefeier-in-st-maximilian-kolbe-donnerstag/2027-07-29/
LOCATION:St. Maximilian Kolbe\, Jörg-Ratgeb-Platz 25\, Heilbronn-Sontheim\, 74081
CATEGORIES:Gottesdienst
END:VEVENT
BEGIN:VEVENT
DTSTART;TZID=Europe/Berlin:20270731T183000
DTEND;TZID=Europe/Berlin:20270731T193000
DTSTAMP:20260420T203952
CREATED:20260327T114344Z
LAST-MODIFIED:20260327T114457Z
UID:10009738-1817058600-1817062200@martinus-hn.de
SUMMARY:Eucharistiefeier in St. Maximilian Kolbe
DESCRIPTION:
URL:https://martinus-hn.de/veranstaltung/eucharistiefeier-in-st-maximilian-kolbe/2027-07-31/
LOCATION:St. Maximilian Kolbe\, Jörg-Ratgeb-Platz 25\, Heilbronn-Sontheim\, 74081
CATEGORIES:Gottesdienst
END:VEVENT
END:VCALENDAR