BEGIN:VCALENDAR
VERSION:2.0
PRODID:-//St. Martinus Heilbronn-Sontheim - ECPv6.10.2//NONSGML v1.0//EN
CALSCALE:GREGORIAN
METHOD:PUBLISH
X-ORIGINAL-URL:https://martinus-hn.de
X-WR-CALDESC:Veranstaltungen für St. Martinus Heilbronn-Sontheim
REFRESH-INTERVAL;VALUE=DURATION:PT1H
X-Robots-Tag:noindex
X-PUBLISHED-TTL:PT1H
BEGIN:VTIMEZONE
TZID:Europe/Berlin
BEGIN:DAYLIGHT
TZOFFSETFROM:+0100
TZOFFSETTO:+0200
TZNAME:CEST
DTSTART:20260329T010000
END:DAYLIGHT
BEGIN:STANDARD
TZOFFSETFROM:+0200
TZOFFSETTO:+0100
TZNAME:CET
DTSTART:20261025T010000
END:STANDARD
END:VTIMEZONE
BEGIN:VEVENT
DTSTART;TZID=Europe/Berlin:20261001T183000
DTEND;TZID=Europe/Berlin:20261001T193000
DTSTAMP:20260420T063527
CREATED:20260327T120443Z
LAST-MODIFIED:20260327T120518Z
UID:10010673-1790879400-1790883000@martinus-hn.de
SUMMARY:Eucharistiefeier in St. Maximilian Kolbe
DESCRIPTION:
URL:https://martinus-hn.de/veranstaltung/eucharistiefeier-in-st-maximilian-kolbe-donnerstag/2026-10-01/
LOCATION:St. Maximilian Kolbe\, Jörg-Ratgeb-Platz 25\, Heilbronn-Sontheim\, 74081
CATEGORIES:Gottesdienst
END:VEVENT
BEGIN:VEVENT
DTSTART;TZID=Europe/Berlin:20261003T183000
DTEND;TZID=Europe/Berlin:20261003T193000
DTSTAMP:20260420T063527
CREATED:20260304T153850Z
LAST-MODIFIED:20260327T114702Z
UID:10009849-1791052200-1791055800@martinus-hn.de
SUMMARY:Eucharistiefeier in Heilig Geist
DESCRIPTION:
URL:https://martinus-hn.de/veranstaltung/eucharistiefeier-in-heilig-geist/2026-10-03/
LOCATION:Heilig-Geist-Kirche\, Heilbronner Weg 17\, Heilbronn-Horkheim\, 74081
CATEGORIES:Gottesdienst
END:VEVENT
BEGIN:VEVENT
DTSTART;TZID=Europe/Berlin:20261004T103000
DTEND;TZID=Europe/Berlin:20261004T113000
DTSTAMP:20260420T063527
CREATED:20260327T120935Z
LAST-MODIFIED:20260327T120935Z
UID:10010938-1791109800-1791113400@martinus-hn.de
SUMMARY:Eucharistiefeier in St. Martinus
DESCRIPTION:
URL:https://martinus-hn.de/veranstaltung/eucharistiefeier-in-st-martinus/2026-10-04/
LOCATION:St. Martinus\, Auf dem Bau 1\, Heilbronn-Sontheim\, 74081\, Deutschland
CATEGORIES:Gottesdienst
END:VEVENT
BEGIN:VEVENT
DTSTART;TZID=Europe/Berlin:20261004T103000
DTEND;TZID=Europe/Berlin:20261004T113000
DTSTAMP:20260420T063527
CREATED:20260328T105149Z
LAST-MODIFIED:20260330T143046Z
UID:10011179-1791109800-1791113400@martinus-hn.de
SUMMARY:Familiengottesdienst zum Erntedankfest
DESCRIPTION:
URL:https://martinus-hn.de/veranstaltung/familiengottesdienst-zum-erntedankfest/
LOCATION:St. Martinus\, Auf dem Bau 1\, Heilbronn-Sontheim\, 74081\, Deutschland
CATEGORIES:Gottesdienst,Kinder und junge Familien,Kinder- und Familiengottesdienste
END:VEVENT
BEGIN:VEVENT
DTSTART;TZID=Europe/Berlin:20261006T183000
DTEND;TZID=Europe/Berlin:20261006T193000
DTSTAMP:20260420T063527
CREATED:20260327T115841Z
LAST-MODIFIED:20260327T115841Z
UID:10010401-1791311400-1791315000@martinus-hn.de
SUMMARY:Eucharistiefeier in Heilig Geist
DESCRIPTION:
URL:https://martinus-hn.de/veranstaltung/eucharistiefeier-in-heilig-geist-dienstag/2026-10-06/
LOCATION:Heilig-Geist-Kirche\, Heilbronner Weg 17\, Heilbronn-Horkheim\, 74081
CATEGORIES:Gottesdienst
END:VEVENT
BEGIN:VEVENT
DTSTART;TZID=Europe/Berlin:20261007T151500
DTEND;TZID=Europe/Berlin:20261007T160000
DTSTAMP:20260420T063527
CREATED:20251104T131224Z
LAST-MODIFIED:20251104T131224Z
UID:10008941-1791386100-1791388800@martinus-hn.de
SUMMARY:Gottesdienst im ASB-Heim
DESCRIPTION:
URL:https://martinus-hn.de/veranstaltung/gottesdienst-im-asb-heim/2026-10-07/
LOCATION:ASB Pflegezentrum Heilbronn-Sontheim\, Bottwarbahnstr. 28\, Heilbronn-Sontheim\, 74081
CATEGORIES:Gottesdienst,Pflegeheime
END:VEVENT
BEGIN:VEVENT
DTSTART;TZID=Europe/Berlin:20261008T183000
DTEND;TZID=Europe/Berlin:20261008T193000
DTSTAMP:20260420T063527
CREATED:20260327T120443Z
LAST-MODIFIED:20260327T120518Z
UID:10010674-1791484200-1791487800@martinus-hn.de
SUMMARY:Eucharistiefeier in St. Maximilian Kolbe
DESCRIPTION:
URL:https://martinus-hn.de/veranstaltung/eucharistiefeier-in-st-maximilian-kolbe-donnerstag/2026-10-08/
LOCATION:St. Maximilian Kolbe\, Jörg-Ratgeb-Platz 25\, Heilbronn-Sontheim\, 74081
CATEGORIES:Gottesdienst
END:VEVENT
BEGIN:VEVENT
DTSTART;TZID=Europe/Berlin:20261010T183000
DTEND;TZID=Europe/Berlin:20261010T193000
DTSTAMP:20260420T063527
CREATED:20260327T114344Z
LAST-MODIFIED:20260327T114457Z
UID:10009717-1791657000-1791660600@martinus-hn.de
SUMMARY:Eucharistiefeier in St. Maximilian Kolbe
DESCRIPTION:
URL:https://martinus-hn.de/veranstaltung/eucharistiefeier-in-st-maximilian-kolbe/2026-10-10/
LOCATION:St. Maximilian Kolbe\, Jörg-Ratgeb-Platz 25\, Heilbronn-Sontheim\, 74081
CATEGORIES:Gottesdienst
END:VEVENT
BEGIN:VEVENT
DTSTART;TZID=Europe/Berlin:20261011T103000
DTEND;TZID=Europe/Berlin:20261011T113000
DTSTAMP:20260420T063527
CREATED:20260327T120935Z
LAST-MODIFIED:20260327T120935Z
UID:10010939-1791714600-1791718200@martinus-hn.de
SUMMARY:Eucharistiefeier in St. Martinus
DESCRIPTION:
URL:https://martinus-hn.de/veranstaltung/eucharistiefeier-in-st-martinus/2026-10-11/
LOCATION:St. Martinus\, Auf dem Bau 1\, Heilbronn-Sontheim\, 74081\, Deutschland
CATEGORIES:Gottesdienst
END:VEVENT
BEGIN:VEVENT
DTSTART;TZID=Europe/Berlin:20261013T183000
DTEND;TZID=Europe/Berlin:20261013T193000
DTSTAMP:20260420T063527
CREATED:20260327T115841Z
LAST-MODIFIED:20260327T115841Z
UID:10010402-1791916200-1791919800@martinus-hn.de
SUMMARY:Eucharistiefeier in Heilig Geist
DESCRIPTION:
URL:https://martinus-hn.de/veranstaltung/eucharistiefeier-in-heilig-geist-dienstag/2026-10-13/
LOCATION:Heilig-Geist-Kirche\, Heilbronner Weg 17\, Heilbronn-Horkheim\, 74081
CATEGORIES:Gottesdienst
END:VEVENT
BEGIN:VEVENT
DTSTART;TZID=Europe/Berlin:20261014T153000
DTEND;TZID=Europe/Berlin:20261014T163000
DTSTAMP:20260420T063527
CREATED:20251104T161733Z
LAST-MODIFIED:20251104T161733Z
UID:10008953-1791991800-1791995400@martinus-hn.de
SUMMARY:Gottesdienst im pro-seniore-Heim
DESCRIPTION:
URL:https://martinus-hn.de/veranstaltung/gottesdienst-im-pro-seniore-heim/2026-10-14/
LOCATION:Pro Seniore Residenz Sontheim\, Zwirnereistr. 2\, Heilbronn-Sontheim\, 74081
CATEGORIES:Gottesdienst,Pflegeheime
END:VEVENT
BEGIN:VEVENT
DTSTART;TZID=Europe/Berlin:20261015T183000
DTEND;TZID=Europe/Berlin:20261015T193000
DTSTAMP:20260420T063527
CREATED:20260327T120443Z
LAST-MODIFIED:20260327T120518Z
UID:10010675-1792089000-1792092600@martinus-hn.de
SUMMARY:Eucharistiefeier in St. Maximilian Kolbe
DESCRIPTION:
URL:https://martinus-hn.de/veranstaltung/eucharistiefeier-in-st-maximilian-kolbe-donnerstag/2026-10-15/
LOCATION:St. Maximilian Kolbe\, Jörg-Ratgeb-Platz 25\, Heilbronn-Sontheim\, 74081
CATEGORIES:Gottesdienst
END:VEVENT
BEGIN:VEVENT
DTSTART;TZID=Europe/Berlin:20261017T183000
DTEND;TZID=Europe/Berlin:20261017T193000
DTSTAMP:20260420T063527
CREATED:20260304T153850Z
LAST-MODIFIED:20260327T114702Z
UID:10009850-1792261800-1792265400@martinus-hn.de
SUMMARY:Eucharistiefeier in Heilig Geist
DESCRIPTION:
URL:https://martinus-hn.de/veranstaltung/eucharistiefeier-in-heilig-geist/2026-10-17/
LOCATION:Heilig-Geist-Kirche\, Heilbronner Weg 17\, Heilbronn-Horkheim\, 74081
CATEGORIES:Gottesdienst
END:VEVENT
BEGIN:VEVENT
DTSTART;TZID=Europe/Berlin:20261018T103000
DTEND;TZID=Europe/Berlin:20261018T113000
DTSTAMP:20260420T063527
CREATED:20260327T120935Z
LAST-MODIFIED:20260327T120935Z
UID:10010940-1792319400-1792323000@martinus-hn.de
SUMMARY:Eucharistiefeier in St. Martinus
DESCRIPTION:
URL:https://martinus-hn.de/veranstaltung/eucharistiefeier-in-st-martinus/2026-10-18/
LOCATION:St. Martinus\, Auf dem Bau 1\, Heilbronn-Sontheim\, 74081\, Deutschland
CATEGORIES:Gottesdienst
END:VEVENT
BEGIN:VEVENT
DTSTART;TZID=Europe/Berlin:20261020T183000
DTEND;TZID=Europe/Berlin:20261020T193000
DTSTAMP:20260420T063527
CREATED:20260327T115841Z
LAST-MODIFIED:20260327T115841Z
UID:10010403-1792521000-1792524600@martinus-hn.de
SUMMARY:Eucharistiefeier in Heilig Geist
DESCRIPTION:
URL:https://martinus-hn.de/veranstaltung/eucharistiefeier-in-heilig-geist-dienstag/2026-10-20/
LOCATION:Heilig-Geist-Kirche\, Heilbronner Weg 17\, Heilbronn-Horkheim\, 74081
CATEGORIES:Gottesdienst
END:VEVENT
BEGIN:VEVENT
DTSTART;TZID=Europe/Berlin:20261021T160000
DTEND;TZID=Europe/Berlin:20261021T170000
DTSTAMP:20260420T063527
CREATED:20251104T162004Z
LAST-MODIFIED:20251104T162453Z
UID:10008965-1792598400-1792602000@martinus-hn.de
SUMMARY:Gottesdienst im Haus am Schlüsselgarnweg
DESCRIPTION:
URL:https://martinus-hn.de/veranstaltung/gottesdienst-im-haus-am-schluesselgarnweg/2026-10-21/
LOCATION:Haus am Schlüsselgarnweg (ehemals CASA REHA Seniorenpflegeheim)\, Karl-Döft-Straße 10\, Heilbronn-Sontheim\, 74081
CATEGORIES:Gottesdienst,Pflegeheime
END:VEVENT
BEGIN:VEVENT
DTSTART;TZID=Europe/Berlin:20261022T183000
DTEND;TZID=Europe/Berlin:20261022T193000
DTSTAMP:20260420T063528
CREATED:20260327T120443Z
LAST-MODIFIED:20260327T120518Z
UID:10010676-1792693800-1792697400@martinus-hn.de
SUMMARY:Eucharistiefeier in St. Maximilian Kolbe
DESCRIPTION:
URL:https://martinus-hn.de/veranstaltung/eucharistiefeier-in-st-maximilian-kolbe-donnerstag/2026-10-22/
LOCATION:St. Maximilian Kolbe\, Jörg-Ratgeb-Platz 25\, Heilbronn-Sontheim\, 74081
CATEGORIES:Gottesdienst
END:VEVENT
BEGIN:VEVENT
DTSTART;TZID=Europe/Berlin:20261024T183000
DTEND;TZID=Europe/Berlin:20261024T193000
DTSTAMP:20260420T063528
CREATED:20260327T114344Z
LAST-MODIFIED:20260327T114457Z
UID:10009718-1792866600-1792870200@martinus-hn.de
SUMMARY:Eucharistiefeier in St. Maximilian Kolbe
DESCRIPTION:
URL:https://martinus-hn.de/veranstaltung/eucharistiefeier-in-st-maximilian-kolbe/2026-10-24/
LOCATION:St. Maximilian Kolbe\, Jörg-Ratgeb-Platz 25\, Heilbronn-Sontheim\, 74081
CATEGORIES:Gottesdienst
END:VEVENT
BEGIN:VEVENT
DTSTART;TZID=Europe/Berlin:20261025T103000
DTEND;TZID=Europe/Berlin:20261025T113000
DTSTAMP:20260420T063528
CREATED:20260327T120935Z
LAST-MODIFIED:20260327T120935Z
UID:10010941-1792924200-1792927800@martinus-hn.de
SUMMARY:Eucharistiefeier in St. Martinus
DESCRIPTION:
URL:https://martinus-hn.de/veranstaltung/eucharistiefeier-in-st-martinus/2026-10-25/
LOCATION:St. Martinus\, Auf dem Bau 1\, Heilbronn-Sontheim\, 74081\, Deutschland
CATEGORIES:Gottesdienst
END:VEVENT
BEGIN:VEVENT
DTSTART;TZID=Europe/Berlin:20261027T183000
DTEND;TZID=Europe/Berlin:20261027T193000
DTSTAMP:20260420T063528
CREATED:20260327T115841Z
LAST-MODIFIED:20260327T115841Z
UID:10010404-1793125800-1793129400@martinus-hn.de
SUMMARY:Eucharistiefeier in Heilig Geist
DESCRIPTION:
URL:https://martinus-hn.de/veranstaltung/eucharistiefeier-in-heilig-geist-dienstag/2026-10-27/
LOCATION:Heilig-Geist-Kirche\, Heilbronner Weg 17\, Heilbronn-Horkheim\, 74081
CATEGORIES:Gottesdienst
END:VEVENT
BEGIN:VEVENT
DTSTART;TZID=Europe/Berlin:20261028T100000
DTEND;TZID=Europe/Berlin:20261028T110000
DTSTAMP:20260420T063528
CREATED:20251104T162210Z
LAST-MODIFIED:20251104T162210Z
UID:10008977-1793181600-1793185200@martinus-hn.de
SUMMARY:Gottesdienst im Haus am Staufenberg
DESCRIPTION:
URL:https://martinus-hn.de/veranstaltung/gottesdienst-im-haus-am-staufenberg/2026-10-28/
LOCATION:Haus am Staufenberg\, Max-von-Laue-Straße 50\, Heilbronn-Sontheim\, 74081
CATEGORIES:Gottesdienst,Pflegeheime
END:VEVENT
BEGIN:VEVENT
DTSTART;TZID=Europe/Berlin:20261029T183000
DTEND;TZID=Europe/Berlin:20261029T193000
DTSTAMP:20260420T063528
CREATED:20260327T120443Z
LAST-MODIFIED:20260327T120518Z
UID:10010677-1793298600-1793302200@martinus-hn.de
SUMMARY:Eucharistiefeier in St. Maximilian Kolbe
DESCRIPTION:
URL:https://martinus-hn.de/veranstaltung/eucharistiefeier-in-st-maximilian-kolbe-donnerstag/2026-10-29/
LOCATION:St. Maximilian Kolbe\, Jörg-Ratgeb-Platz 25\, Heilbronn-Sontheim\, 74081
CATEGORIES:Gottesdienst
END:VEVENT
BEGIN:VEVENT
DTSTART;TZID=Europe/Berlin:20261031T183000
DTEND;TZID=Europe/Berlin:20261031T193000
DTSTAMP:20260420T063528
CREATED:20260304T153850Z
LAST-MODIFIED:20260327T114702Z
UID:10009851-1793471400-1793475000@martinus-hn.de
SUMMARY:Eucharistiefeier in Heilig Geist
DESCRIPTION:
URL:https://martinus-hn.de/veranstaltung/eucharistiefeier-in-heilig-geist/2026-10-31/
LOCATION:Heilig-Geist-Kirche\, Heilbronner Weg 17\, Heilbronn-Horkheim\, 74081
CATEGORIES:Gottesdienst
END:VEVENT
END:VCALENDAR