BEGIN:VCALENDAR
VERSION:2.0
PRODID:-//St. Martinus Heilbronn-Sontheim - ECPv6.10.2//NONSGML v1.0//EN
CALSCALE:GREGORIAN
METHOD:PUBLISH
X-ORIGINAL-URL:https://martinus-hn.de
X-WR-CALDESC:Veranstaltungen für St. Martinus Heilbronn-Sontheim
REFRESH-INTERVAL;VALUE=DURATION:PT1H
X-Robots-Tag:noindex
X-PUBLISHED-TTL:PT1H
BEGIN:VTIMEZONE
TZID:Europe/Berlin
BEGIN:DAYLIGHT
TZOFFSETFROM:+0100
TZOFFSETTO:+0200
TZNAME:CEST
DTSTART:20300331T010000
END:DAYLIGHT
BEGIN:STANDARD
TZOFFSETFROM:+0200
TZOFFSETTO:+0100
TZNAME:CET
DTSTART:20301027T010000
END:STANDARD
END:VTIMEZONE
BEGIN:VEVENT
DTSTART;TZID=Europe/Berlin:20300210T103000
DTEND;TZID=Europe/Berlin:20300210T113000
DTSTAMP:20260426T000735
CREATED:20260327T120935Z
LAST-MODIFIED:20260327T120935Z
UID:10011113-1896949800-1896953400@martinus-hn.de
SUMMARY:Eucharistiefeier in St. Martinus
DESCRIPTION:
URL:https://martinus-hn.de/veranstaltung/eucharistiefeier-in-st-martinus/2030-02-10/
LOCATION:St. Martinus\, Auf dem Bau 1\, Heilbronn-Sontheim\, 74081\, Deutschland
CATEGORIES:Gottesdienst
END:VEVENT
BEGIN:VEVENT
DTSTART;TZID=Europe/Berlin:20300212T183000
DTEND;TZID=Europe/Berlin:20300212T193000
DTSTAMP:20260426T000735
CREATED:20260327T115841Z
LAST-MODIFIED:20260327T115841Z
UID:10010576-1897151400-1897155000@martinus-hn.de
SUMMARY:Eucharistiefeier in Heilig Geist
DESCRIPTION:
URL:https://martinus-hn.de/veranstaltung/eucharistiefeier-in-heilig-geist-dienstag/2030-02-12/
LOCATION:Heilig-Geist-Kirche\, Heilbronner Weg 17\, Heilbronn-Horkheim\, 74081
CATEGORIES:Gottesdienst
END:VEVENT
BEGIN:VEVENT
DTSTART;TZID=Europe/Berlin:20300214T183000
DTEND;TZID=Europe/Berlin:20300214T193000
DTSTAMP:20260426T000735
CREATED:20260327T120443Z
LAST-MODIFIED:20260327T120518Z
UID:10010849-1897324200-1897327800@martinus-hn.de
SUMMARY:Eucharistiefeier in St. Maximilian Kolbe
DESCRIPTION:
URL:https://martinus-hn.de/veranstaltung/eucharistiefeier-in-st-maximilian-kolbe-donnerstag/2030-02-14/
LOCATION:St. Maximilian Kolbe\, Jörg-Ratgeb-Platz 25\, Heilbronn-Sontheim\, 74081
CATEGORIES:Gottesdienst
END:VEVENT
BEGIN:VEVENT
DTSTART;TZID=Europe/Berlin:20300216T183000
DTEND;TZID=Europe/Berlin:20300216T193000
DTSTAMP:20260426T000735
CREATED:20260304T153850Z
LAST-MODIFIED:20260327T114702Z
UID:10009937-1897497000-1897500600@martinus-hn.de
SUMMARY:Eucharistiefeier in Heilig Geist
DESCRIPTION:
URL:https://martinus-hn.de/veranstaltung/eucharistiefeier-in-heilig-geist/2030-02-16/
LOCATION:Heilig-Geist-Kirche\, Heilbronner Weg 17\, Heilbronn-Horkheim\, 74081
CATEGORIES:Gottesdienst
END:VEVENT
BEGIN:VEVENT
DTSTART;TZID=Europe/Berlin:20300217T103000
DTEND;TZID=Europe/Berlin:20300217T113000
DTSTAMP:20260426T000735
CREATED:20260327T120935Z
LAST-MODIFIED:20260327T120935Z
UID:10011114-1897554600-1897558200@martinus-hn.de
SUMMARY:Eucharistiefeier in St. Martinus
DESCRIPTION:
URL:https://martinus-hn.de/veranstaltung/eucharistiefeier-in-st-martinus/2030-02-17/
LOCATION:St. Martinus\, Auf dem Bau 1\, Heilbronn-Sontheim\, 74081\, Deutschland
CATEGORIES:Gottesdienst
END:VEVENT
BEGIN:VEVENT
DTSTART;TZID=Europe/Berlin:20300219T183000
DTEND;TZID=Europe/Berlin:20300219T193000
DTSTAMP:20260426T000735
CREATED:20260327T115841Z
LAST-MODIFIED:20260327T115841Z
UID:10010577-1897756200-1897759800@martinus-hn.de
SUMMARY:Eucharistiefeier in Heilig Geist
DESCRIPTION:
URL:https://martinus-hn.de/veranstaltung/eucharistiefeier-in-heilig-geist-dienstag/2030-02-19/
LOCATION:Heilig-Geist-Kirche\, Heilbronner Weg 17\, Heilbronn-Horkheim\, 74081
CATEGORIES:Gottesdienst
END:VEVENT
BEGIN:VEVENT
DTSTART;TZID=Europe/Berlin:20300221T183000
DTEND;TZID=Europe/Berlin:20300221T193000
DTSTAMP:20260426T000735
CREATED:20260327T120443Z
LAST-MODIFIED:20260327T120518Z
UID:10010850-1897929000-1897932600@martinus-hn.de
SUMMARY:Eucharistiefeier in St. Maximilian Kolbe
DESCRIPTION:
URL:https://martinus-hn.de/veranstaltung/eucharistiefeier-in-st-maximilian-kolbe-donnerstag/2030-02-21/
LOCATION:St. Maximilian Kolbe\, Jörg-Ratgeb-Platz 25\, Heilbronn-Sontheim\, 74081
CATEGORIES:Gottesdienst
END:VEVENT
BEGIN:VEVENT
DTSTART;TZID=Europe/Berlin:20300223T183000
DTEND;TZID=Europe/Berlin:20300223T193000
DTSTAMP:20260426T000735
CREATED:20260327T114344Z
LAST-MODIFIED:20260327T114457Z
UID:10009805-1898101800-1898105400@martinus-hn.de
SUMMARY:Eucharistiefeier in St. Maximilian Kolbe
DESCRIPTION:
URL:https://martinus-hn.de/veranstaltung/eucharistiefeier-in-st-maximilian-kolbe/2030-02-23/
LOCATION:St. Maximilian Kolbe\, Jörg-Ratgeb-Platz 25\, Heilbronn-Sontheim\, 74081
CATEGORIES:Gottesdienst
END:VEVENT
BEGIN:VEVENT
DTSTART;TZID=Europe/Berlin:20300224T103000
DTEND;TZID=Europe/Berlin:20300224T113000
DTSTAMP:20260426T000735
CREATED:20260327T120935Z
LAST-MODIFIED:20260327T120935Z
UID:10011115-1898159400-1898163000@martinus-hn.de
SUMMARY:Eucharistiefeier in St. Martinus
DESCRIPTION:
URL:https://martinus-hn.de/veranstaltung/eucharistiefeier-in-st-martinus/2030-02-24/
LOCATION:St. Martinus\, Auf dem Bau 1\, Heilbronn-Sontheim\, 74081\, Deutschland
CATEGORIES:Gottesdienst
END:VEVENT
BEGIN:VEVENT
DTSTART;TZID=Europe/Berlin:20300226T183000
DTEND;TZID=Europe/Berlin:20300226T193000
DTSTAMP:20260426T000735
CREATED:20260327T115841Z
LAST-MODIFIED:20260327T115841Z
UID:10010578-1898361000-1898364600@martinus-hn.de
SUMMARY:Eucharistiefeier in Heilig Geist
DESCRIPTION:
URL:https://martinus-hn.de/veranstaltung/eucharistiefeier-in-heilig-geist-dienstag/2030-02-26/
LOCATION:Heilig-Geist-Kirche\, Heilbronner Weg 17\, Heilbronn-Horkheim\, 74081
CATEGORIES:Gottesdienst
END:VEVENT
BEGIN:VEVENT
DTSTART;TZID=Europe/Berlin:20300228T183000
DTEND;TZID=Europe/Berlin:20300228T193000
DTSTAMP:20260426T000735
CREATED:20260327T120443Z
LAST-MODIFIED:20260327T120518Z
UID:10010851-1898533800-1898537400@martinus-hn.de
SUMMARY:Eucharistiefeier in St. Maximilian Kolbe
DESCRIPTION:
URL:https://martinus-hn.de/veranstaltung/eucharistiefeier-in-st-maximilian-kolbe-donnerstag/2030-02-28/
LOCATION:St. Maximilian Kolbe\, Jörg-Ratgeb-Platz 25\, Heilbronn-Sontheim\, 74081
CATEGORIES:Gottesdienst
END:VEVENT
BEGIN:VEVENT
DTSTART;TZID=Europe/Berlin:20300302T183000
DTEND;TZID=Europe/Berlin:20300302T193000
DTSTAMP:20260426T000735
CREATED:20260304T153850Z
LAST-MODIFIED:20260327T114702Z
UID:10009938-1898706600-1898710200@martinus-hn.de
SUMMARY:Eucharistiefeier in Heilig Geist
DESCRIPTION:
URL:https://martinus-hn.de/veranstaltung/eucharistiefeier-in-heilig-geist/2030-03-02/
LOCATION:Heilig-Geist-Kirche\, Heilbronner Weg 17\, Heilbronn-Horkheim\, 74081
CATEGORIES:Gottesdienst
END:VEVENT
BEGIN:VEVENT
DTSTART;TZID=Europe/Berlin:20300303T103000
DTEND;TZID=Europe/Berlin:20300303T113000
DTSTAMP:20260426T000735
CREATED:20260327T120935Z
LAST-MODIFIED:20260327T120935Z
UID:10011116-1898764200-1898767800@martinus-hn.de
SUMMARY:Eucharistiefeier in St. Martinus
DESCRIPTION:
URL:https://martinus-hn.de/veranstaltung/eucharistiefeier-in-st-martinus/2030-03-03/
LOCATION:St. Martinus\, Auf dem Bau 1\, Heilbronn-Sontheim\, 74081\, Deutschland
CATEGORIES:Gottesdienst
END:VEVENT
BEGIN:VEVENT
DTSTART;TZID=Europe/Berlin:20300305T183000
DTEND;TZID=Europe/Berlin:20300305T193000
DTSTAMP:20260426T000735
CREATED:20260327T115841Z
LAST-MODIFIED:20260327T115841Z
UID:10010579-1898965800-1898969400@martinus-hn.de
SUMMARY:Eucharistiefeier in Heilig Geist
DESCRIPTION:
URL:https://martinus-hn.de/veranstaltung/eucharistiefeier-in-heilig-geist-dienstag/2030-03-05/
LOCATION:Heilig-Geist-Kirche\, Heilbronner Weg 17\, Heilbronn-Horkheim\, 74081
CATEGORIES:Gottesdienst
END:VEVENT
BEGIN:VEVENT
DTSTART;TZID=Europe/Berlin:20300307T183000
DTEND;TZID=Europe/Berlin:20300307T193000
DTSTAMP:20260426T000735
CREATED:20260327T120443Z
LAST-MODIFIED:20260327T120518Z
UID:10010852-1899138600-1899142200@martinus-hn.de
SUMMARY:Eucharistiefeier in St. Maximilian Kolbe
DESCRIPTION:
URL:https://martinus-hn.de/veranstaltung/eucharistiefeier-in-st-maximilian-kolbe-donnerstag/2030-03-07/
LOCATION:St. Maximilian Kolbe\, Jörg-Ratgeb-Platz 25\, Heilbronn-Sontheim\, 74081
CATEGORIES:Gottesdienst
END:VEVENT
BEGIN:VEVENT
DTSTART;TZID=Europe/Berlin:20300309T183000
DTEND;TZID=Europe/Berlin:20300309T193000
DTSTAMP:20260426T000735
CREATED:20260327T114344Z
LAST-MODIFIED:20260327T114457Z
UID:10009806-1899311400-1899315000@martinus-hn.de
SUMMARY:Eucharistiefeier in St. Maximilian Kolbe
DESCRIPTION:
URL:https://martinus-hn.de/veranstaltung/eucharistiefeier-in-st-maximilian-kolbe/2030-03-09/
LOCATION:St. Maximilian Kolbe\, Jörg-Ratgeb-Platz 25\, Heilbronn-Sontheim\, 74081
CATEGORIES:Gottesdienst
END:VEVENT
BEGIN:VEVENT
DTSTART;TZID=Europe/Berlin:20300310T103000
DTEND;TZID=Europe/Berlin:20300310T113000
DTSTAMP:20260426T000735
CREATED:20260327T120935Z
LAST-MODIFIED:20260327T120935Z
UID:10011117-1899369000-1899372600@martinus-hn.de
SUMMARY:Eucharistiefeier in St. Martinus
DESCRIPTION:
URL:https://martinus-hn.de/veranstaltung/eucharistiefeier-in-st-martinus/2030-03-10/
LOCATION:St. Martinus\, Auf dem Bau 1\, Heilbronn-Sontheim\, 74081\, Deutschland
CATEGORIES:Gottesdienst
END:VEVENT
BEGIN:VEVENT
DTSTART;TZID=Europe/Berlin:20300312T183000
DTEND;TZID=Europe/Berlin:20300312T193000
DTSTAMP:20260426T000735
CREATED:20260327T115841Z
LAST-MODIFIED:20260327T115841Z
UID:10010580-1899570600-1899574200@martinus-hn.de
SUMMARY:Eucharistiefeier in Heilig Geist
DESCRIPTION:
URL:https://martinus-hn.de/veranstaltung/eucharistiefeier-in-heilig-geist-dienstag/2030-03-12/
LOCATION:Heilig-Geist-Kirche\, Heilbronner Weg 17\, Heilbronn-Horkheim\, 74081
CATEGORIES:Gottesdienst
END:VEVENT
BEGIN:VEVENT
DTSTART;TZID=Europe/Berlin:20300314T183000
DTEND;TZID=Europe/Berlin:20300314T193000
DTSTAMP:20260426T000735
CREATED:20260327T120443Z
LAST-MODIFIED:20260327T120518Z
UID:10010853-1899743400-1899747000@martinus-hn.de
SUMMARY:Eucharistiefeier in St. Maximilian Kolbe
DESCRIPTION:
URL:https://martinus-hn.de/veranstaltung/eucharistiefeier-in-st-maximilian-kolbe-donnerstag/2030-03-14/
LOCATION:St. Maximilian Kolbe\, Jörg-Ratgeb-Platz 25\, Heilbronn-Sontheim\, 74081
CATEGORIES:Gottesdienst
END:VEVENT
BEGIN:VEVENT
DTSTART;TZID=Europe/Berlin:20300316T183000
DTEND;TZID=Europe/Berlin:20300316T193000
DTSTAMP:20260426T000735
CREATED:20260304T153850Z
LAST-MODIFIED:20260327T114702Z
UID:10009939-1899916200-1899919800@martinus-hn.de
SUMMARY:Eucharistiefeier in Heilig Geist
DESCRIPTION:
URL:https://martinus-hn.de/veranstaltung/eucharistiefeier-in-heilig-geist/2030-03-16/
LOCATION:Heilig-Geist-Kirche\, Heilbronner Weg 17\, Heilbronn-Horkheim\, 74081
CATEGORIES:Gottesdienst
END:VEVENT
BEGIN:VEVENT
DTSTART;TZID=Europe/Berlin:20300317T103000
DTEND;TZID=Europe/Berlin:20300317T113000
DTSTAMP:20260426T000735
CREATED:20260327T120935Z
LAST-MODIFIED:20260327T120935Z
UID:10011118-1899973800-1899977400@martinus-hn.de
SUMMARY:Eucharistiefeier in St. Martinus
DESCRIPTION:
URL:https://martinus-hn.de/veranstaltung/eucharistiefeier-in-st-martinus/2030-03-17/
LOCATION:St. Martinus\, Auf dem Bau 1\, Heilbronn-Sontheim\, 74081\, Deutschland
CATEGORIES:Gottesdienst
END:VEVENT
BEGIN:VEVENT
DTSTART;TZID=Europe/Berlin:20300319T183000
DTEND;TZID=Europe/Berlin:20300319T193000
DTSTAMP:20260426T000735
CREATED:20260327T115841Z
LAST-MODIFIED:20260327T115841Z
UID:10010581-1900175400-1900179000@martinus-hn.de
SUMMARY:Eucharistiefeier in Heilig Geist
DESCRIPTION:
URL:https://martinus-hn.de/veranstaltung/eucharistiefeier-in-heilig-geist-dienstag/2030-03-19/
LOCATION:Heilig-Geist-Kirche\, Heilbronner Weg 17\, Heilbronn-Horkheim\, 74081
CATEGORIES:Gottesdienst
END:VEVENT
BEGIN:VEVENT
DTSTART;TZID=Europe/Berlin:20300321T183000
DTEND;TZID=Europe/Berlin:20300321T193000
DTSTAMP:20260426T000735
CREATED:20260327T120443Z
LAST-MODIFIED:20260327T120518Z
UID:10010854-1900348200-1900351800@martinus-hn.de
SUMMARY:Eucharistiefeier in St. Maximilian Kolbe
DESCRIPTION:
URL:https://martinus-hn.de/veranstaltung/eucharistiefeier-in-st-maximilian-kolbe-donnerstag/2030-03-21/
LOCATION:St. Maximilian Kolbe\, Jörg-Ratgeb-Platz 25\, Heilbronn-Sontheim\, 74081
CATEGORIES:Gottesdienst
END:VEVENT
BEGIN:VEVENT
DTSTART;TZID=Europe/Berlin:20300323T183000
DTEND;TZID=Europe/Berlin:20300323T193000
DTSTAMP:20260426T000735
CREATED:20260327T114344Z
LAST-MODIFIED:20260327T114457Z
UID:10009807-1900521000-1900524600@martinus-hn.de
SUMMARY:Eucharistiefeier in St. Maximilian Kolbe
DESCRIPTION:
URL:https://martinus-hn.de/veranstaltung/eucharistiefeier-in-st-maximilian-kolbe/2030-03-23/
LOCATION:St. Maximilian Kolbe\, Jörg-Ratgeb-Platz 25\, Heilbronn-Sontheim\, 74081
CATEGORIES:Gottesdienst
END:VEVENT
BEGIN:VEVENT
DTSTART;TZID=Europe/Berlin:20300324T103000
DTEND;TZID=Europe/Berlin:20300324T113000
DTSTAMP:20260426T000735
CREATED:20260327T120935Z
LAST-MODIFIED:20260327T120935Z
UID:10011119-1900578600-1900582200@martinus-hn.de
SUMMARY:Eucharistiefeier in St. Martinus
DESCRIPTION:
URL:https://martinus-hn.de/veranstaltung/eucharistiefeier-in-st-martinus/2030-03-24/
LOCATION:St. Martinus\, Auf dem Bau 1\, Heilbronn-Sontheim\, 74081\, Deutschland
CATEGORIES:Gottesdienst
END:VEVENT
BEGIN:VEVENT
DTSTART;TZID=Europe/Berlin:20300326T183000
DTEND;TZID=Europe/Berlin:20300326T193000
DTSTAMP:20260426T000735
CREATED:20260327T115841Z
LAST-MODIFIED:20260327T115841Z
UID:10010582-1900780200-1900783800@martinus-hn.de
SUMMARY:Eucharistiefeier in Heilig Geist
DESCRIPTION:
URL:https://martinus-hn.de/veranstaltung/eucharistiefeier-in-heilig-geist-dienstag/2030-03-26/
LOCATION:Heilig-Geist-Kirche\, Heilbronner Weg 17\, Heilbronn-Horkheim\, 74081
CATEGORIES:Gottesdienst
END:VEVENT
BEGIN:VEVENT
DTSTART;TZID=Europe/Berlin:20300328T183000
DTEND;TZID=Europe/Berlin:20300328T193000
DTSTAMP:20260426T000735
CREATED:20260327T120443Z
LAST-MODIFIED:20260327T120518Z
UID:10010855-1900953000-1900956600@martinus-hn.de
SUMMARY:Eucharistiefeier in St. Maximilian Kolbe
DESCRIPTION:
URL:https://martinus-hn.de/veranstaltung/eucharistiefeier-in-st-maximilian-kolbe-donnerstag/2030-03-28/
LOCATION:St. Maximilian Kolbe\, Jörg-Ratgeb-Platz 25\, Heilbronn-Sontheim\, 74081
CATEGORIES:Gottesdienst
END:VEVENT
BEGIN:VEVENT
DTSTART;TZID=Europe/Berlin:20300330T183000
DTEND;TZID=Europe/Berlin:20300330T193000
DTSTAMP:20260426T000735
CREATED:20260304T153850Z
LAST-MODIFIED:20260327T114702Z
UID:10009940-1901125800-1901129400@martinus-hn.de
SUMMARY:Eucharistiefeier in Heilig Geist
DESCRIPTION:
URL:https://martinus-hn.de/veranstaltung/eucharistiefeier-in-heilig-geist/2030-03-30/
LOCATION:Heilig-Geist-Kirche\, Heilbronner Weg 17\, Heilbronn-Horkheim\, 74081
CATEGORIES:Gottesdienst
END:VEVENT
BEGIN:VEVENT
DTSTART;TZID=Europe/Berlin:20300331T103000
DTEND;TZID=Europe/Berlin:20300331T113000
DTSTAMP:20260426T000735
CREATED:20260327T120935Z
LAST-MODIFIED:20260327T120935Z
UID:10011120-1901183400-1901187000@martinus-hn.de
SUMMARY:Eucharistiefeier in St. Martinus
DESCRIPTION:
URL:https://martinus-hn.de/veranstaltung/eucharistiefeier-in-st-martinus/2030-03-31/
LOCATION:St. Martinus\, Auf dem Bau 1\, Heilbronn-Sontheim\, 74081\, Deutschland
CATEGORIES:Gottesdienst
END:VEVENT
BEGIN:VEVENT
DTSTART;TZID=Europe/Berlin:20300402T183000
DTEND;TZID=Europe/Berlin:20300402T193000
DTSTAMP:20260426T000735
CREATED:20260327T115841Z
LAST-MODIFIED:20260327T115841Z
UID:10010583-1901385000-1901388600@martinus-hn.de
SUMMARY:Eucharistiefeier in Heilig Geist
DESCRIPTION:
URL:https://martinus-hn.de/veranstaltung/eucharistiefeier-in-heilig-geist-dienstag/2030-04-02/
LOCATION:Heilig-Geist-Kirche\, Heilbronner Weg 17\, Heilbronn-Horkheim\, 74081
CATEGORIES:Gottesdienst
END:VEVENT
END:VCALENDAR