BEGIN:VCALENDAR
VERSION:2.0
PRODID:-//St. Martinus Heilbronn-Sontheim - ECPv6.10.2//NONSGML v1.0//EN
CALSCALE:GREGORIAN
METHOD:PUBLISH
X-WR-CALNAME:St. Martinus Heilbronn-Sontheim
X-ORIGINAL-URL:https://martinus-hn.de
X-WR-CALDESC:Veranstaltungen für St. Martinus Heilbronn-Sontheim
REFRESH-INTERVAL;VALUE=DURATION:PT1H
X-Robots-Tag:noindex
X-PUBLISHED-TTL:PT1H
BEGIN:VTIMEZONE
TZID:Europe/Berlin
BEGIN:DAYLIGHT
TZOFFSETFROM:+0100
TZOFFSETTO:+0200
TZNAME:CEST
DTSTART:20290325T010000
END:DAYLIGHT
BEGIN:STANDARD
TZOFFSETFROM:+0200
TZOFFSETTO:+0100
TZNAME:CET
DTSTART:20291028T010000
END:STANDARD
END:VTIMEZONE
BEGIN:VEVENT
DTSTART;TZID=Europe/Berlin:20290118T183000
DTEND;TZID=Europe/Berlin:20290118T193000
DTSTAMP:20260424T092206
CREATED:20260327T120443Z
LAST-MODIFIED:20260327T120518Z
UID:10010793-1863455400-1863459000@martinus-hn.de
SUMMARY:Eucharistiefeier in St. Maximilian Kolbe
DESCRIPTION:
URL:https://martinus-hn.de/veranstaltung/eucharistiefeier-in-st-maximilian-kolbe-donnerstag/2029-01-18/
LOCATION:St. Maximilian Kolbe\, Jörg-Ratgeb-Platz 25\, Heilbronn-Sontheim\, 74081
CATEGORIES:Gottesdienst
END:VEVENT
BEGIN:VEVENT
DTSTART;TZID=Europe/Berlin:20290120T183000
DTEND;TZID=Europe/Berlin:20290120T193000
DTSTAMP:20260424T092206
CREATED:20260304T153850Z
LAST-MODIFIED:20260327T114702Z
UID:10009909-1863628200-1863631800@martinus-hn.de
SUMMARY:Eucharistiefeier in Heilig Geist
DESCRIPTION:
URL:https://martinus-hn.de/veranstaltung/eucharistiefeier-in-heilig-geist/2029-01-20/
LOCATION:Heilig-Geist-Kirche\, Heilbronner Weg 17\, Heilbronn-Horkheim\, 74081
CATEGORIES:Gottesdienst
END:VEVENT
BEGIN:VEVENT
DTSTART;TZID=Europe/Berlin:20290121T103000
DTEND;TZID=Europe/Berlin:20290121T113000
DTSTAMP:20260424T092206
CREATED:20260327T120935Z
LAST-MODIFIED:20260327T120935Z
UID:10011058-1863685800-1863689400@martinus-hn.de
SUMMARY:Eucharistiefeier in St. Martinus
DESCRIPTION:
URL:https://martinus-hn.de/veranstaltung/eucharistiefeier-in-st-martinus/2029-01-21/
LOCATION:St. Martinus\, Auf dem Bau 1\, Heilbronn-Sontheim\, 74081\, Deutschland
CATEGORIES:Gottesdienst
END:VEVENT
BEGIN:VEVENT
DTSTART;TZID=Europe/Berlin:20290123T183000
DTEND;TZID=Europe/Berlin:20290123T193000
DTSTAMP:20260424T092206
CREATED:20260327T115841Z
LAST-MODIFIED:20260327T115841Z
UID:10010521-1863887400-1863891000@martinus-hn.de
SUMMARY:Eucharistiefeier in Heilig Geist
DESCRIPTION:
URL:https://martinus-hn.de/veranstaltung/eucharistiefeier-in-heilig-geist-dienstag/2029-01-23/
LOCATION:Heilig-Geist-Kirche\, Heilbronner Weg 17\, Heilbronn-Horkheim\, 74081
CATEGORIES:Gottesdienst
END:VEVENT
BEGIN:VEVENT
DTSTART;TZID=Europe/Berlin:20290125T183000
DTEND;TZID=Europe/Berlin:20290125T193000
DTSTAMP:20260424T092206
CREATED:20260327T120443Z
LAST-MODIFIED:20260327T120518Z
UID:10010794-1864060200-1864063800@martinus-hn.de
SUMMARY:Eucharistiefeier in St. Maximilian Kolbe
DESCRIPTION:
URL:https://martinus-hn.de/veranstaltung/eucharistiefeier-in-st-maximilian-kolbe-donnerstag/2029-01-25/
LOCATION:St. Maximilian Kolbe\, Jörg-Ratgeb-Platz 25\, Heilbronn-Sontheim\, 74081
CATEGORIES:Gottesdienst
END:VEVENT
BEGIN:VEVENT
DTSTART;TZID=Europe/Berlin:20290127T183000
DTEND;TZID=Europe/Berlin:20290127T193000
DTSTAMP:20260424T092206
CREATED:20260327T114344Z
LAST-MODIFIED:20260327T114457Z
UID:10009777-1864233000-1864236600@martinus-hn.de
SUMMARY:Eucharistiefeier in St. Maximilian Kolbe
DESCRIPTION:
URL:https://martinus-hn.de/veranstaltung/eucharistiefeier-in-st-maximilian-kolbe/2029-01-27/
LOCATION:St. Maximilian Kolbe\, Jörg-Ratgeb-Platz 25\, Heilbronn-Sontheim\, 74081
CATEGORIES:Gottesdienst
END:VEVENT
BEGIN:VEVENT
DTSTART;TZID=Europe/Berlin:20290128T103000
DTEND;TZID=Europe/Berlin:20290128T113000
DTSTAMP:20260424T092206
CREATED:20260327T120935Z
LAST-MODIFIED:20260327T120935Z
UID:10011059-1864290600-1864294200@martinus-hn.de
SUMMARY:Eucharistiefeier in St. Martinus
DESCRIPTION:
URL:https://martinus-hn.de/veranstaltung/eucharistiefeier-in-st-martinus/2029-01-28/
LOCATION:St. Martinus\, Auf dem Bau 1\, Heilbronn-Sontheim\, 74081\, Deutschland
CATEGORIES:Gottesdienst
END:VEVENT
BEGIN:VEVENT
DTSTART;TZID=Europe/Berlin:20290130T183000
DTEND;TZID=Europe/Berlin:20290130T193000
DTSTAMP:20260424T092206
CREATED:20260327T115841Z
LAST-MODIFIED:20260327T115841Z
UID:10010522-1864492200-1864495800@martinus-hn.de
SUMMARY:Eucharistiefeier in Heilig Geist
DESCRIPTION:
URL:https://martinus-hn.de/veranstaltung/eucharistiefeier-in-heilig-geist-dienstag/2029-01-30/
LOCATION:Heilig-Geist-Kirche\, Heilbronner Weg 17\, Heilbronn-Horkheim\, 74081
CATEGORIES:Gottesdienst
END:VEVENT
BEGIN:VEVENT
DTSTART;TZID=Europe/Berlin:20290201T183000
DTEND;TZID=Europe/Berlin:20290201T193000
DTSTAMP:20260424T092206
CREATED:20260327T120443Z
LAST-MODIFIED:20260327T120518Z
UID:10010795-1864665000-1864668600@martinus-hn.de
SUMMARY:Eucharistiefeier in St. Maximilian Kolbe
DESCRIPTION:
URL:https://martinus-hn.de/veranstaltung/eucharistiefeier-in-st-maximilian-kolbe-donnerstag/2029-02-01/
LOCATION:St. Maximilian Kolbe\, Jörg-Ratgeb-Platz 25\, Heilbronn-Sontheim\, 74081
CATEGORIES:Gottesdienst
END:VEVENT
BEGIN:VEVENT
DTSTART;TZID=Europe/Berlin:20290203T183000
DTEND;TZID=Europe/Berlin:20290203T193000
DTSTAMP:20260424T092206
CREATED:20260304T153850Z
LAST-MODIFIED:20260327T114702Z
UID:10009910-1864837800-1864841400@martinus-hn.de
SUMMARY:Eucharistiefeier in Heilig Geist
DESCRIPTION:
URL:https://martinus-hn.de/veranstaltung/eucharistiefeier-in-heilig-geist/2029-02-03/
LOCATION:Heilig-Geist-Kirche\, Heilbronner Weg 17\, Heilbronn-Horkheim\, 74081
CATEGORIES:Gottesdienst
END:VEVENT
BEGIN:VEVENT
DTSTART;TZID=Europe/Berlin:20290204T103000
DTEND;TZID=Europe/Berlin:20290204T113000
DTSTAMP:20260424T092206
CREATED:20260327T120935Z
LAST-MODIFIED:20260327T120935Z
UID:10011060-1864895400-1864899000@martinus-hn.de
SUMMARY:Eucharistiefeier in St. Martinus
DESCRIPTION:
URL:https://martinus-hn.de/veranstaltung/eucharistiefeier-in-st-martinus/2029-02-04/
LOCATION:St. Martinus\, Auf dem Bau 1\, Heilbronn-Sontheim\, 74081\, Deutschland
CATEGORIES:Gottesdienst
END:VEVENT
BEGIN:VEVENT
DTSTART;TZID=Europe/Berlin:20290206T183000
DTEND;TZID=Europe/Berlin:20290206T193000
DTSTAMP:20260424T092206
CREATED:20260327T115841Z
LAST-MODIFIED:20260327T115841Z
UID:10010523-1865097000-1865100600@martinus-hn.de
SUMMARY:Eucharistiefeier in Heilig Geist
DESCRIPTION:
URL:https://martinus-hn.de/veranstaltung/eucharistiefeier-in-heilig-geist-dienstag/2029-02-06/
LOCATION:Heilig-Geist-Kirche\, Heilbronner Weg 17\, Heilbronn-Horkheim\, 74081
CATEGORIES:Gottesdienst
END:VEVENT
BEGIN:VEVENT
DTSTART;TZID=Europe/Berlin:20290208T183000
DTEND;TZID=Europe/Berlin:20290208T193000
DTSTAMP:20260424T092206
CREATED:20260327T120443Z
LAST-MODIFIED:20260327T120518Z
UID:10010796-1865269800-1865273400@martinus-hn.de
SUMMARY:Eucharistiefeier in St. Maximilian Kolbe
DESCRIPTION:
URL:https://martinus-hn.de/veranstaltung/eucharistiefeier-in-st-maximilian-kolbe-donnerstag/2029-02-08/
LOCATION:St. Maximilian Kolbe\, Jörg-Ratgeb-Platz 25\, Heilbronn-Sontheim\, 74081
CATEGORIES:Gottesdienst
END:VEVENT
BEGIN:VEVENT
DTSTART;TZID=Europe/Berlin:20290210T183000
DTEND;TZID=Europe/Berlin:20290210T193000
DTSTAMP:20260424T092206
CREATED:20260327T114344Z
LAST-MODIFIED:20260327T114457Z
UID:10009778-1865442600-1865446200@martinus-hn.de
SUMMARY:Eucharistiefeier in St. Maximilian Kolbe
DESCRIPTION:
URL:https://martinus-hn.de/veranstaltung/eucharistiefeier-in-st-maximilian-kolbe/2029-02-10/
LOCATION:St. Maximilian Kolbe\, Jörg-Ratgeb-Platz 25\, Heilbronn-Sontheim\, 74081
CATEGORIES:Gottesdienst
END:VEVENT
BEGIN:VEVENT
DTSTART;TZID=Europe/Berlin:20290211T103000
DTEND;TZID=Europe/Berlin:20290211T113000
DTSTAMP:20260424T092207
CREATED:20260327T120935Z
LAST-MODIFIED:20260327T120935Z
UID:10011061-1865500200-1865503800@martinus-hn.de
SUMMARY:Eucharistiefeier in St. Martinus
DESCRIPTION:
URL:https://martinus-hn.de/veranstaltung/eucharistiefeier-in-st-martinus/2029-02-11/
LOCATION:St. Martinus\, Auf dem Bau 1\, Heilbronn-Sontheim\, 74081\, Deutschland
CATEGORIES:Gottesdienst
END:VEVENT
BEGIN:VEVENT
DTSTART;TZID=Europe/Berlin:20290213T183000
DTEND;TZID=Europe/Berlin:20290213T193000
DTSTAMP:20260424T092207
CREATED:20260327T115841Z
LAST-MODIFIED:20260327T115841Z
UID:10010524-1865701800-1865705400@martinus-hn.de
SUMMARY:Eucharistiefeier in Heilig Geist
DESCRIPTION:
URL:https://martinus-hn.de/veranstaltung/eucharistiefeier-in-heilig-geist-dienstag/2029-02-13/
LOCATION:Heilig-Geist-Kirche\, Heilbronner Weg 17\, Heilbronn-Horkheim\, 74081
CATEGORIES:Gottesdienst
END:VEVENT
BEGIN:VEVENT
DTSTART;TZID=Europe/Berlin:20290215T183000
DTEND;TZID=Europe/Berlin:20290215T193000
DTSTAMP:20260424T092207
CREATED:20260327T120443Z
LAST-MODIFIED:20260327T120518Z
UID:10010797-1865874600-1865878200@martinus-hn.de
SUMMARY:Eucharistiefeier in St. Maximilian Kolbe
DESCRIPTION:
URL:https://martinus-hn.de/veranstaltung/eucharistiefeier-in-st-maximilian-kolbe-donnerstag/2029-02-15/
LOCATION:St. Maximilian Kolbe\, Jörg-Ratgeb-Platz 25\, Heilbronn-Sontheim\, 74081
CATEGORIES:Gottesdienst
END:VEVENT
BEGIN:VEVENT
DTSTART;TZID=Europe/Berlin:20290217T183000
DTEND;TZID=Europe/Berlin:20290217T193000
DTSTAMP:20260424T092207
CREATED:20260304T153850Z
LAST-MODIFIED:20260327T114702Z
UID:10009911-1866047400-1866051000@martinus-hn.de
SUMMARY:Eucharistiefeier in Heilig Geist
DESCRIPTION:
URL:https://martinus-hn.de/veranstaltung/eucharistiefeier-in-heilig-geist/2029-02-17/
LOCATION:Heilig-Geist-Kirche\, Heilbronner Weg 17\, Heilbronn-Horkheim\, 74081
CATEGORIES:Gottesdienst
END:VEVENT
BEGIN:VEVENT
DTSTART;TZID=Europe/Berlin:20290218T103000
DTEND;TZID=Europe/Berlin:20290218T113000
DTSTAMP:20260424T092207
CREATED:20260327T120935Z
LAST-MODIFIED:20260327T120935Z
UID:10011062-1866105000-1866108600@martinus-hn.de
SUMMARY:Eucharistiefeier in St. Martinus
DESCRIPTION:
URL:https://martinus-hn.de/veranstaltung/eucharistiefeier-in-st-martinus/2029-02-18/
LOCATION:St. Martinus\, Auf dem Bau 1\, Heilbronn-Sontheim\, 74081\, Deutschland
CATEGORIES:Gottesdienst
END:VEVENT
BEGIN:VEVENT
DTSTART;TZID=Europe/Berlin:20290220T183000
DTEND;TZID=Europe/Berlin:20290220T193000
DTSTAMP:20260424T092207
CREATED:20260327T115841Z
LAST-MODIFIED:20260327T115841Z
UID:10010525-1866306600-1866310200@martinus-hn.de
SUMMARY:Eucharistiefeier in Heilig Geist
DESCRIPTION:
URL:https://martinus-hn.de/veranstaltung/eucharistiefeier-in-heilig-geist-dienstag/2029-02-20/
LOCATION:Heilig-Geist-Kirche\, Heilbronner Weg 17\, Heilbronn-Horkheim\, 74081
CATEGORIES:Gottesdienst
END:VEVENT
BEGIN:VEVENT
DTSTART;TZID=Europe/Berlin:20290222T183000
DTEND;TZID=Europe/Berlin:20290222T193000
DTSTAMP:20260424T092207
CREATED:20260327T120443Z
LAST-MODIFIED:20260327T120518Z
UID:10010798-1866479400-1866483000@martinus-hn.de
SUMMARY:Eucharistiefeier in St. Maximilian Kolbe
DESCRIPTION:
URL:https://martinus-hn.de/veranstaltung/eucharistiefeier-in-st-maximilian-kolbe-donnerstag/2029-02-22/
LOCATION:St. Maximilian Kolbe\, Jörg-Ratgeb-Platz 25\, Heilbronn-Sontheim\, 74081
CATEGORIES:Gottesdienst
END:VEVENT
BEGIN:VEVENT
DTSTART;TZID=Europe/Berlin:20290224T183000
DTEND;TZID=Europe/Berlin:20290224T193000
DTSTAMP:20260424T092207
CREATED:20260327T114344Z
LAST-MODIFIED:20260327T114457Z
UID:10009779-1866652200-1866655800@martinus-hn.de
SUMMARY:Eucharistiefeier in St. Maximilian Kolbe
DESCRIPTION:
URL:https://martinus-hn.de/veranstaltung/eucharistiefeier-in-st-maximilian-kolbe/2029-02-24/
LOCATION:St. Maximilian Kolbe\, Jörg-Ratgeb-Platz 25\, Heilbronn-Sontheim\, 74081
CATEGORIES:Gottesdienst
END:VEVENT
BEGIN:VEVENT
DTSTART;TZID=Europe/Berlin:20290225T103000
DTEND;TZID=Europe/Berlin:20290225T113000
DTSTAMP:20260424T092207
CREATED:20260327T120935Z
LAST-MODIFIED:20260327T120935Z
UID:10011063-1866709800-1866713400@martinus-hn.de
SUMMARY:Eucharistiefeier in St. Martinus
DESCRIPTION:
URL:https://martinus-hn.de/veranstaltung/eucharistiefeier-in-st-martinus/2029-02-25/
LOCATION:St. Martinus\, Auf dem Bau 1\, Heilbronn-Sontheim\, 74081\, Deutschland
CATEGORIES:Gottesdienst
END:VEVENT
BEGIN:VEVENT
DTSTART;TZID=Europe/Berlin:20290227T183000
DTEND;TZID=Europe/Berlin:20290227T193000
DTSTAMP:20260424T092207
CREATED:20260327T115841Z
LAST-MODIFIED:20260327T115841Z
UID:10010526-1866911400-1866915000@martinus-hn.de
SUMMARY:Eucharistiefeier in Heilig Geist
DESCRIPTION:
URL:https://martinus-hn.de/veranstaltung/eucharistiefeier-in-heilig-geist-dienstag/2029-02-27/
LOCATION:Heilig-Geist-Kirche\, Heilbronner Weg 17\, Heilbronn-Horkheim\, 74081
CATEGORIES:Gottesdienst
END:VEVENT
BEGIN:VEVENT
DTSTART;TZID=Europe/Berlin:20290301T183000
DTEND;TZID=Europe/Berlin:20290301T193000
DTSTAMP:20260424T092207
CREATED:20260327T120443Z
LAST-MODIFIED:20260327T120518Z
UID:10010799-1867084200-1867087800@martinus-hn.de
SUMMARY:Eucharistiefeier in St. Maximilian Kolbe
DESCRIPTION:
URL:https://martinus-hn.de/veranstaltung/eucharistiefeier-in-st-maximilian-kolbe-donnerstag/2029-03-01/
LOCATION:St. Maximilian Kolbe\, Jörg-Ratgeb-Platz 25\, Heilbronn-Sontheim\, 74081
CATEGORIES:Gottesdienst
END:VEVENT
BEGIN:VEVENT
DTSTART;TZID=Europe/Berlin:20290303T183000
DTEND;TZID=Europe/Berlin:20290303T193000
DTSTAMP:20260424T092207
CREATED:20260304T153850Z
LAST-MODIFIED:20260327T114702Z
UID:10009912-1867257000-1867260600@martinus-hn.de
SUMMARY:Eucharistiefeier in Heilig Geist
DESCRIPTION:
URL:https://martinus-hn.de/veranstaltung/eucharistiefeier-in-heilig-geist/2029-03-03/
LOCATION:Heilig-Geist-Kirche\, Heilbronner Weg 17\, Heilbronn-Horkheim\, 74081
CATEGORIES:Gottesdienst
END:VEVENT
BEGIN:VEVENT
DTSTART;TZID=Europe/Berlin:20290304T103000
DTEND;TZID=Europe/Berlin:20290304T113000
DTSTAMP:20260424T092207
CREATED:20260327T120935Z
LAST-MODIFIED:20260327T120935Z
UID:10011064-1867314600-1867318200@martinus-hn.de
SUMMARY:Eucharistiefeier in St. Martinus
DESCRIPTION:
URL:https://martinus-hn.de/veranstaltung/eucharistiefeier-in-st-martinus/2029-03-04/
LOCATION:St. Martinus\, Auf dem Bau 1\, Heilbronn-Sontheim\, 74081\, Deutschland
CATEGORIES:Gottesdienst
END:VEVENT
BEGIN:VEVENT
DTSTART;TZID=Europe/Berlin:20290306T183000
DTEND;TZID=Europe/Berlin:20290306T193000
DTSTAMP:20260424T092207
CREATED:20260327T115841Z
LAST-MODIFIED:20260327T115841Z
UID:10010527-1867516200-1867519800@martinus-hn.de
SUMMARY:Eucharistiefeier in Heilig Geist
DESCRIPTION:
URL:https://martinus-hn.de/veranstaltung/eucharistiefeier-in-heilig-geist-dienstag/2029-03-06/
LOCATION:Heilig-Geist-Kirche\, Heilbronner Weg 17\, Heilbronn-Horkheim\, 74081
CATEGORIES:Gottesdienst
END:VEVENT
BEGIN:VEVENT
DTSTART;TZID=Europe/Berlin:20290308T183000
DTEND;TZID=Europe/Berlin:20290308T193000
DTSTAMP:20260424T092207
CREATED:20260327T120443Z
LAST-MODIFIED:20260327T120518Z
UID:10010800-1867689000-1867692600@martinus-hn.de
SUMMARY:Eucharistiefeier in St. Maximilian Kolbe
DESCRIPTION:
URL:https://martinus-hn.de/veranstaltung/eucharistiefeier-in-st-maximilian-kolbe-donnerstag/2029-03-08/
LOCATION:St. Maximilian Kolbe\, Jörg-Ratgeb-Platz 25\, Heilbronn-Sontheim\, 74081
CATEGORIES:Gottesdienst
END:VEVENT
BEGIN:VEVENT
DTSTART;TZID=Europe/Berlin:20290310T183000
DTEND;TZID=Europe/Berlin:20290310T193000
DTSTAMP:20260424T092207
CREATED:20260327T114344Z
LAST-MODIFIED:20260327T114457Z
UID:10009780-1867861800-1867865400@martinus-hn.de
SUMMARY:Eucharistiefeier in St. Maximilian Kolbe
DESCRIPTION:
URL:https://martinus-hn.de/veranstaltung/eucharistiefeier-in-st-maximilian-kolbe/2029-03-10/
LOCATION:St. Maximilian Kolbe\, Jörg-Ratgeb-Platz 25\, Heilbronn-Sontheim\, 74081
CATEGORIES:Gottesdienst
END:VEVENT
END:VCALENDAR