BEGIN:VCALENDAR
VERSION:2.0
PRODID:-//St. Martinus Heilbronn-Sontheim - ECPv6.10.2//NONSGML v1.0//EN
CALSCALE:GREGORIAN
METHOD:PUBLISH
X-WR-CALNAME:St. Martinus Heilbronn-Sontheim
X-ORIGINAL-URL:https://martinus-hn.de
X-WR-CALDESC:Veranstaltungen für St. Martinus Heilbronn-Sontheim
REFRESH-INTERVAL;VALUE=DURATION:PT1H
X-Robots-Tag:noindex
X-PUBLISHED-TTL:PT1H
BEGIN:VTIMEZONE
TZID:Europe/Berlin
BEGIN:DAYLIGHT
TZOFFSETFROM:+0100
TZOFFSETTO:+0200
TZNAME:CEST
DTSTART:20280326T010000
END:DAYLIGHT
BEGIN:STANDARD
TZOFFSETFROM:+0200
TZOFFSETTO:+0100
TZNAME:CET
DTSTART:20281029T010000
END:STANDARD
END:VTIMEZONE
BEGIN:VEVENT
DTSTART;TZID=Europe/Berlin:20280916T183000
DTEND;TZID=Europe/Berlin:20280916T193000
DTSTAMP:20260423T191427
CREATED:20260304T153850Z
LAST-MODIFIED:20260327T114702Z
UID:10009900-1852741800-1852745400@martinus-hn.de
SUMMARY:Eucharistiefeier in Heilig Geist
DESCRIPTION:
URL:https://martinus-hn.de/veranstaltung/eucharistiefeier-in-heilig-geist/2028-09-16/
LOCATION:Heilig-Geist-Kirche\, Heilbronner Weg 17\, Heilbronn-Horkheim\, 74081
CATEGORIES:Gottesdienst
END:VEVENT
BEGIN:VEVENT
DTSTART;TZID=Europe/Berlin:20280917T103000
DTEND;TZID=Europe/Berlin:20280917T113000
DTSTAMP:20260423T191427
CREATED:20260327T120935Z
LAST-MODIFIED:20260327T120935Z
UID:10011040-1852799400-1852803000@martinus-hn.de
SUMMARY:Eucharistiefeier in St. Martinus
DESCRIPTION:
URL:https://martinus-hn.de/veranstaltung/eucharistiefeier-in-st-martinus/2028-09-17/
LOCATION:St. Martinus\, Auf dem Bau 1\, Heilbronn-Sontheim\, 74081\, Deutschland
CATEGORIES:Gottesdienst
END:VEVENT
BEGIN:VEVENT
DTSTART;TZID=Europe/Berlin:20280919T183000
DTEND;TZID=Europe/Berlin:20280919T193000
DTSTAMP:20260423T191427
CREATED:20260327T115841Z
LAST-MODIFIED:20260327T115841Z
UID:10010503-1853001000-1853004600@martinus-hn.de
SUMMARY:Eucharistiefeier in Heilig Geist
DESCRIPTION:
URL:https://martinus-hn.de/veranstaltung/eucharistiefeier-in-heilig-geist-dienstag/2028-09-19/
LOCATION:Heilig-Geist-Kirche\, Heilbronner Weg 17\, Heilbronn-Horkheim\, 74081
CATEGORIES:Gottesdienst
END:VEVENT
BEGIN:VEVENT
DTSTART;TZID=Europe/Berlin:20280921T183000
DTEND;TZID=Europe/Berlin:20280921T193000
DTSTAMP:20260423T191427
CREATED:20260327T120443Z
LAST-MODIFIED:20260327T120518Z
UID:10010776-1853173800-1853177400@martinus-hn.de
SUMMARY:Eucharistiefeier in St. Maximilian Kolbe
DESCRIPTION:
URL:https://martinus-hn.de/veranstaltung/eucharistiefeier-in-st-maximilian-kolbe-donnerstag/2028-09-21/
LOCATION:St. Maximilian Kolbe\, Jörg-Ratgeb-Platz 25\, Heilbronn-Sontheim\, 74081
CATEGORIES:Gottesdienst
END:VEVENT
BEGIN:VEVENT
DTSTART;TZID=Europe/Berlin:20280923T183000
DTEND;TZID=Europe/Berlin:20280923T193000
DTSTAMP:20260423T191427
CREATED:20260327T114344Z
LAST-MODIFIED:20260327T114457Z
UID:10009768-1853346600-1853350200@martinus-hn.de
SUMMARY:Eucharistiefeier in St. Maximilian Kolbe
DESCRIPTION:
URL:https://martinus-hn.de/veranstaltung/eucharistiefeier-in-st-maximilian-kolbe/2028-09-23/
LOCATION:St. Maximilian Kolbe\, Jörg-Ratgeb-Platz 25\, Heilbronn-Sontheim\, 74081
CATEGORIES:Gottesdienst
END:VEVENT
BEGIN:VEVENT
DTSTART;TZID=Europe/Berlin:20280924T103000
DTEND;TZID=Europe/Berlin:20280924T113000
DTSTAMP:20260423T191427
CREATED:20260327T120935Z
LAST-MODIFIED:20260327T120935Z
UID:10011041-1853404200-1853407800@martinus-hn.de
SUMMARY:Eucharistiefeier in St. Martinus
DESCRIPTION:
URL:https://martinus-hn.de/veranstaltung/eucharistiefeier-in-st-martinus/2028-09-24/
LOCATION:St. Martinus\, Auf dem Bau 1\, Heilbronn-Sontheim\, 74081\, Deutschland
CATEGORIES:Gottesdienst
END:VEVENT
BEGIN:VEVENT
DTSTART;TZID=Europe/Berlin:20280926T183000
DTEND;TZID=Europe/Berlin:20280926T193000
DTSTAMP:20260423T191427
CREATED:20260327T115841Z
LAST-MODIFIED:20260327T115841Z
UID:10010504-1853605800-1853609400@martinus-hn.de
SUMMARY:Eucharistiefeier in Heilig Geist
DESCRIPTION:
URL:https://martinus-hn.de/veranstaltung/eucharistiefeier-in-heilig-geist-dienstag/2028-09-26/
LOCATION:Heilig-Geist-Kirche\, Heilbronner Weg 17\, Heilbronn-Horkheim\, 74081
CATEGORIES:Gottesdienst
END:VEVENT
BEGIN:VEVENT
DTSTART;TZID=Europe/Berlin:20280928T183000
DTEND;TZID=Europe/Berlin:20280928T193000
DTSTAMP:20260423T191427
CREATED:20260327T120443Z
LAST-MODIFIED:20260327T120518Z
UID:10010777-1853778600-1853782200@martinus-hn.de
SUMMARY:Eucharistiefeier in St. Maximilian Kolbe
DESCRIPTION:
URL:https://martinus-hn.de/veranstaltung/eucharistiefeier-in-st-maximilian-kolbe-donnerstag/2028-09-28/
LOCATION:St. Maximilian Kolbe\, Jörg-Ratgeb-Platz 25\, Heilbronn-Sontheim\, 74081
CATEGORIES:Gottesdienst
END:VEVENT
BEGIN:VEVENT
DTSTART;TZID=Europe/Berlin:20280930T183000
DTEND;TZID=Europe/Berlin:20280930T193000
DTSTAMP:20260423T191427
CREATED:20260304T153850Z
LAST-MODIFIED:20260327T114702Z
UID:10009901-1853951400-1853955000@martinus-hn.de
SUMMARY:Eucharistiefeier in Heilig Geist
DESCRIPTION:
URL:https://martinus-hn.de/veranstaltung/eucharistiefeier-in-heilig-geist/2028-09-30/
LOCATION:Heilig-Geist-Kirche\, Heilbronner Weg 17\, Heilbronn-Horkheim\, 74081
CATEGORIES:Gottesdienst
END:VEVENT
BEGIN:VEVENT
DTSTART;TZID=Europe/Berlin:20281001T103000
DTEND;TZID=Europe/Berlin:20281001T113000
DTSTAMP:20260423T191427
CREATED:20260327T120935Z
LAST-MODIFIED:20260327T120935Z
UID:10011042-1854009000-1854012600@martinus-hn.de
SUMMARY:Eucharistiefeier in St. Martinus
DESCRIPTION:
URL:https://martinus-hn.de/veranstaltung/eucharistiefeier-in-st-martinus/2028-10-01/
LOCATION:St. Martinus\, Auf dem Bau 1\, Heilbronn-Sontheim\, 74081\, Deutschland
CATEGORIES:Gottesdienst
END:VEVENT
BEGIN:VEVENT
DTSTART;TZID=Europe/Berlin:20281003T183000
DTEND;TZID=Europe/Berlin:20281003T193000
DTSTAMP:20260423T191427
CREATED:20260327T115841Z
LAST-MODIFIED:20260327T115841Z
UID:10010505-1854210600-1854214200@martinus-hn.de
SUMMARY:Eucharistiefeier in Heilig Geist
DESCRIPTION:
URL:https://martinus-hn.de/veranstaltung/eucharistiefeier-in-heilig-geist-dienstag/2028-10-03/
LOCATION:Heilig-Geist-Kirche\, Heilbronner Weg 17\, Heilbronn-Horkheim\, 74081
CATEGORIES:Gottesdienst
END:VEVENT
BEGIN:VEVENT
DTSTART;TZID=Europe/Berlin:20281005T183000
DTEND;TZID=Europe/Berlin:20281005T193000
DTSTAMP:20260423T191427
CREATED:20260327T120443Z
LAST-MODIFIED:20260327T120518Z
UID:10010778-1854383400-1854387000@martinus-hn.de
SUMMARY:Eucharistiefeier in St. Maximilian Kolbe
DESCRIPTION:
URL:https://martinus-hn.de/veranstaltung/eucharistiefeier-in-st-maximilian-kolbe-donnerstag/2028-10-05/
LOCATION:St. Maximilian Kolbe\, Jörg-Ratgeb-Platz 25\, Heilbronn-Sontheim\, 74081
CATEGORIES:Gottesdienst
END:VEVENT
BEGIN:VEVENT
DTSTART;TZID=Europe/Berlin:20281007T183000
DTEND;TZID=Europe/Berlin:20281007T193000
DTSTAMP:20260423T191427
CREATED:20260327T114344Z
LAST-MODIFIED:20260327T114457Z
UID:10009769-1854556200-1854559800@martinus-hn.de
SUMMARY:Eucharistiefeier in St. Maximilian Kolbe
DESCRIPTION:
URL:https://martinus-hn.de/veranstaltung/eucharistiefeier-in-st-maximilian-kolbe/2028-10-07/
LOCATION:St. Maximilian Kolbe\, Jörg-Ratgeb-Platz 25\, Heilbronn-Sontheim\, 74081
CATEGORIES:Gottesdienst
END:VEVENT
BEGIN:VEVENT
DTSTART;TZID=Europe/Berlin:20281008T103000
DTEND;TZID=Europe/Berlin:20281008T113000
DTSTAMP:20260423T191427
CREATED:20260327T120935Z
LAST-MODIFIED:20260327T120935Z
UID:10011043-1854613800-1854617400@martinus-hn.de
SUMMARY:Eucharistiefeier in St. Martinus
DESCRIPTION:
URL:https://martinus-hn.de/veranstaltung/eucharistiefeier-in-st-martinus/2028-10-08/
LOCATION:St. Martinus\, Auf dem Bau 1\, Heilbronn-Sontheim\, 74081\, Deutschland
CATEGORIES:Gottesdienst
END:VEVENT
BEGIN:VEVENT
DTSTART;TZID=Europe/Berlin:20281010T183000
DTEND;TZID=Europe/Berlin:20281010T193000
DTSTAMP:20260423T191427
CREATED:20260327T115841Z
LAST-MODIFIED:20260327T115841Z
UID:10010506-1854815400-1854819000@martinus-hn.de
SUMMARY:Eucharistiefeier in Heilig Geist
DESCRIPTION:
URL:https://martinus-hn.de/veranstaltung/eucharistiefeier-in-heilig-geist-dienstag/2028-10-10/
LOCATION:Heilig-Geist-Kirche\, Heilbronner Weg 17\, Heilbronn-Horkheim\, 74081
CATEGORIES:Gottesdienst
END:VEVENT
BEGIN:VEVENT
DTSTART;TZID=Europe/Berlin:20281012T183000
DTEND;TZID=Europe/Berlin:20281012T193000
DTSTAMP:20260423T191427
CREATED:20260327T120443Z
LAST-MODIFIED:20260327T120518Z
UID:10010779-1854988200-1854991800@martinus-hn.de
SUMMARY:Eucharistiefeier in St. Maximilian Kolbe
DESCRIPTION:
URL:https://martinus-hn.de/veranstaltung/eucharistiefeier-in-st-maximilian-kolbe-donnerstag/2028-10-12/
LOCATION:St. Maximilian Kolbe\, Jörg-Ratgeb-Platz 25\, Heilbronn-Sontheim\, 74081
CATEGORIES:Gottesdienst
END:VEVENT
BEGIN:VEVENT
DTSTART;TZID=Europe/Berlin:20281014T183000
DTEND;TZID=Europe/Berlin:20281014T193000
DTSTAMP:20260423T191427
CREATED:20260304T153850Z
LAST-MODIFIED:20260327T114702Z
UID:10009902-1855161000-1855164600@martinus-hn.de
SUMMARY:Eucharistiefeier in Heilig Geist
DESCRIPTION:
URL:https://martinus-hn.de/veranstaltung/eucharistiefeier-in-heilig-geist/2028-10-14/
LOCATION:Heilig-Geist-Kirche\, Heilbronner Weg 17\, Heilbronn-Horkheim\, 74081
CATEGORIES:Gottesdienst
END:VEVENT
BEGIN:VEVENT
DTSTART;TZID=Europe/Berlin:20281015T103000
DTEND;TZID=Europe/Berlin:20281015T113000
DTSTAMP:20260423T191427
CREATED:20260327T120935Z
LAST-MODIFIED:20260327T120935Z
UID:10011044-1855218600-1855222200@martinus-hn.de
SUMMARY:Eucharistiefeier in St. Martinus
DESCRIPTION:
URL:https://martinus-hn.de/veranstaltung/eucharistiefeier-in-st-martinus/2028-10-15/
LOCATION:St. Martinus\, Auf dem Bau 1\, Heilbronn-Sontheim\, 74081\, Deutschland
CATEGORIES:Gottesdienst
END:VEVENT
BEGIN:VEVENT
DTSTART;TZID=Europe/Berlin:20281017T183000
DTEND;TZID=Europe/Berlin:20281017T193000
DTSTAMP:20260423T191427
CREATED:20260327T115841Z
LAST-MODIFIED:20260327T115841Z
UID:10010507-1855420200-1855423800@martinus-hn.de
SUMMARY:Eucharistiefeier in Heilig Geist
DESCRIPTION:
URL:https://martinus-hn.de/veranstaltung/eucharistiefeier-in-heilig-geist-dienstag/2028-10-17/
LOCATION:Heilig-Geist-Kirche\, Heilbronner Weg 17\, Heilbronn-Horkheim\, 74081
CATEGORIES:Gottesdienst
END:VEVENT
BEGIN:VEVENT
DTSTART;TZID=Europe/Berlin:20281019T183000
DTEND;TZID=Europe/Berlin:20281019T193000
DTSTAMP:20260423T191427
CREATED:20260327T120443Z
LAST-MODIFIED:20260327T120518Z
UID:10010780-1855593000-1855596600@martinus-hn.de
SUMMARY:Eucharistiefeier in St. Maximilian Kolbe
DESCRIPTION:
URL:https://martinus-hn.de/veranstaltung/eucharistiefeier-in-st-maximilian-kolbe-donnerstag/2028-10-19/
LOCATION:St. Maximilian Kolbe\, Jörg-Ratgeb-Platz 25\, Heilbronn-Sontheim\, 74081
CATEGORIES:Gottesdienst
END:VEVENT
BEGIN:VEVENT
DTSTART;TZID=Europe/Berlin:20281021T183000
DTEND;TZID=Europe/Berlin:20281021T193000
DTSTAMP:20260423T191427
CREATED:20260327T114344Z
LAST-MODIFIED:20260327T114457Z
UID:10009770-1855765800-1855769400@martinus-hn.de
SUMMARY:Eucharistiefeier in St. Maximilian Kolbe
DESCRIPTION:
URL:https://martinus-hn.de/veranstaltung/eucharistiefeier-in-st-maximilian-kolbe/2028-10-21/
LOCATION:St. Maximilian Kolbe\, Jörg-Ratgeb-Platz 25\, Heilbronn-Sontheim\, 74081
CATEGORIES:Gottesdienst
END:VEVENT
BEGIN:VEVENT
DTSTART;TZID=Europe/Berlin:20281022T103000
DTEND;TZID=Europe/Berlin:20281022T113000
DTSTAMP:20260423T191427
CREATED:20260327T120935Z
LAST-MODIFIED:20260327T120935Z
UID:10011045-1855823400-1855827000@martinus-hn.de
SUMMARY:Eucharistiefeier in St. Martinus
DESCRIPTION:
URL:https://martinus-hn.de/veranstaltung/eucharistiefeier-in-st-martinus/2028-10-22/
LOCATION:St. Martinus\, Auf dem Bau 1\, Heilbronn-Sontheim\, 74081\, Deutschland
CATEGORIES:Gottesdienst
END:VEVENT
BEGIN:VEVENT
DTSTART;TZID=Europe/Berlin:20281024T183000
DTEND;TZID=Europe/Berlin:20281024T193000
DTSTAMP:20260423T191427
CREATED:20260327T115841Z
LAST-MODIFIED:20260327T115841Z
UID:10010508-1856025000-1856028600@martinus-hn.de
SUMMARY:Eucharistiefeier in Heilig Geist
DESCRIPTION:
URL:https://martinus-hn.de/veranstaltung/eucharistiefeier-in-heilig-geist-dienstag/2028-10-24/
LOCATION:Heilig-Geist-Kirche\, Heilbronner Weg 17\, Heilbronn-Horkheim\, 74081
CATEGORIES:Gottesdienst
END:VEVENT
BEGIN:VEVENT
DTSTART;TZID=Europe/Berlin:20281026T183000
DTEND;TZID=Europe/Berlin:20281026T193000
DTSTAMP:20260423T191427
CREATED:20260327T120443Z
LAST-MODIFIED:20260327T120518Z
UID:10010781-1856197800-1856201400@martinus-hn.de
SUMMARY:Eucharistiefeier in St. Maximilian Kolbe
DESCRIPTION:
URL:https://martinus-hn.de/veranstaltung/eucharistiefeier-in-st-maximilian-kolbe-donnerstag/2028-10-26/
LOCATION:St. Maximilian Kolbe\, Jörg-Ratgeb-Platz 25\, Heilbronn-Sontheim\, 74081
CATEGORIES:Gottesdienst
END:VEVENT
BEGIN:VEVENT
DTSTART;TZID=Europe/Berlin:20281028T183000
DTEND;TZID=Europe/Berlin:20281028T193000
DTSTAMP:20260423T191427
CREATED:20260304T153850Z
LAST-MODIFIED:20260327T114702Z
UID:10009903-1856370600-1856374200@martinus-hn.de
SUMMARY:Eucharistiefeier in Heilig Geist
DESCRIPTION:
URL:https://martinus-hn.de/veranstaltung/eucharistiefeier-in-heilig-geist/2028-10-28/
LOCATION:Heilig-Geist-Kirche\, Heilbronner Weg 17\, Heilbronn-Horkheim\, 74081
CATEGORIES:Gottesdienst
END:VEVENT
BEGIN:VEVENT
DTSTART;TZID=Europe/Berlin:20281029T103000
DTEND;TZID=Europe/Berlin:20281029T113000
DTSTAMP:20260423T191427
CREATED:20260327T120935Z
LAST-MODIFIED:20260327T120935Z
UID:10011046-1856428200-1856431800@martinus-hn.de
SUMMARY:Eucharistiefeier in St. Martinus
DESCRIPTION:
URL:https://martinus-hn.de/veranstaltung/eucharistiefeier-in-st-martinus/2028-10-29/
LOCATION:St. Martinus\, Auf dem Bau 1\, Heilbronn-Sontheim\, 74081\, Deutschland
CATEGORIES:Gottesdienst
END:VEVENT
BEGIN:VEVENT
DTSTART;TZID=Europe/Berlin:20281031T183000
DTEND;TZID=Europe/Berlin:20281031T193000
DTSTAMP:20260423T191427
CREATED:20260327T115841Z
LAST-MODIFIED:20260327T115841Z
UID:10010509-1856629800-1856633400@martinus-hn.de
SUMMARY:Eucharistiefeier in Heilig Geist
DESCRIPTION:
URL:https://martinus-hn.de/veranstaltung/eucharistiefeier-in-heilig-geist-dienstag/2028-10-31/
LOCATION:Heilig-Geist-Kirche\, Heilbronner Weg 17\, Heilbronn-Horkheim\, 74081
CATEGORIES:Gottesdienst
END:VEVENT
BEGIN:VEVENT
DTSTART;TZID=Europe/Berlin:20281102T183000
DTEND;TZID=Europe/Berlin:20281102T193000
DTSTAMP:20260423T191427
CREATED:20260327T120443Z
LAST-MODIFIED:20260327T120518Z
UID:10010782-1856802600-1856806200@martinus-hn.de
SUMMARY:Eucharistiefeier in St. Maximilian Kolbe
DESCRIPTION:
URL:https://martinus-hn.de/veranstaltung/eucharistiefeier-in-st-maximilian-kolbe-donnerstag/2028-11-02/
LOCATION:St. Maximilian Kolbe\, Jörg-Ratgeb-Platz 25\, Heilbronn-Sontheim\, 74081
CATEGORIES:Gottesdienst
END:VEVENT
BEGIN:VEVENT
DTSTART;TZID=Europe/Berlin:20281104T183000
DTEND;TZID=Europe/Berlin:20281104T193000
DTSTAMP:20260423T191427
CREATED:20260327T114344Z
LAST-MODIFIED:20260327T114457Z
UID:10009771-1856975400-1856979000@martinus-hn.de
SUMMARY:Eucharistiefeier in St. Maximilian Kolbe
DESCRIPTION:
URL:https://martinus-hn.de/veranstaltung/eucharistiefeier-in-st-maximilian-kolbe/2028-11-04/
LOCATION:St. Maximilian Kolbe\, Jörg-Ratgeb-Platz 25\, Heilbronn-Sontheim\, 74081
CATEGORIES:Gottesdienst
END:VEVENT
BEGIN:VEVENT
DTSTART;TZID=Europe/Berlin:20281105T103000
DTEND;TZID=Europe/Berlin:20281105T113000
DTSTAMP:20260423T191427
CREATED:20260327T120935Z
LAST-MODIFIED:20260327T120935Z
UID:10011047-1857033000-1857036600@martinus-hn.de
SUMMARY:Eucharistiefeier in St. Martinus
DESCRIPTION:
URL:https://martinus-hn.de/veranstaltung/eucharistiefeier-in-st-martinus/2028-11-05/
LOCATION:St. Martinus\, Auf dem Bau 1\, Heilbronn-Sontheim\, 74081\, Deutschland
CATEGORIES:Gottesdienst
END:VEVENT
END:VCALENDAR