BEGIN:VCALENDAR
VERSION:2.0
PRODID:-//St. Martinus Heilbronn-Sontheim - ECPv6.10.2//NONSGML v1.0//EN
CALSCALE:GREGORIAN
METHOD:PUBLISH
X-WR-CALNAME:St. Martinus Heilbronn-Sontheim
X-ORIGINAL-URL:https://martinus-hn.de
X-WR-CALDESC:Veranstaltungen für St. Martinus Heilbronn-Sontheim
REFRESH-INTERVAL;VALUE=DURATION:PT1H
X-Robots-Tag:noindex
X-PUBLISHED-TTL:PT1H
BEGIN:VTIMEZONE
TZID:Europe/Berlin
BEGIN:DAYLIGHT
TZOFFSETFROM:+0100
TZOFFSETTO:+0200
TZNAME:CEST
DTSTART:20270328T010000
END:DAYLIGHT
BEGIN:STANDARD
TZOFFSETFROM:+0200
TZOFFSETTO:+0100
TZNAME:CET
DTSTART:20271031T010000
END:STANDARD
BEGIN:DAYLIGHT
TZOFFSETFROM:+0100
TZOFFSETTO:+0200
TZNAME:CEST
DTSTART:20280326T010000
END:DAYLIGHT
BEGIN:STANDARD
TZOFFSETFROM:+0200
TZOFFSETTO:+0100
TZNAME:CET
DTSTART:20281029T010000
END:STANDARD
END:VTIMEZONE
BEGIN:VEVENT
DTSTART;TZID=Europe/Berlin:20271228T183000
DTEND;TZID=Europe/Berlin:20271228T193000
DTSTAMP:20260422T115050
CREATED:20260327T115841Z
LAST-MODIFIED:20260327T115841Z
UID:10010465-1830018600-1830022200@martinus-hn.de
SUMMARY:Eucharistiefeier in Heilig Geist
DESCRIPTION:
URL:https://martinus-hn.de/veranstaltung/eucharistiefeier-in-heilig-geist-dienstag/2027-12-28/
LOCATION:Heilig-Geist-Kirche\, Heilbronner Weg 17\, Heilbronn-Horkheim\, 74081
CATEGORIES:Gottesdienst
END:VEVENT
BEGIN:VEVENT
DTSTART;TZID=Europe/Berlin:20271230T183000
DTEND;TZID=Europe/Berlin:20271230T193000
DTSTAMP:20260422T115050
CREATED:20260327T120443Z
LAST-MODIFIED:20260327T120518Z
UID:10010738-1830191400-1830195000@martinus-hn.de
SUMMARY:Eucharistiefeier in St. Maximilian Kolbe
DESCRIPTION:
URL:https://martinus-hn.de/veranstaltung/eucharistiefeier-in-st-maximilian-kolbe-donnerstag/2027-12-30/
LOCATION:St. Maximilian Kolbe\, Jörg-Ratgeb-Platz 25\, Heilbronn-Sontheim\, 74081
CATEGORIES:Gottesdienst
END:VEVENT
BEGIN:VEVENT
DTSTART;TZID=Europe/Berlin:20280101T183000
DTEND;TZID=Europe/Berlin:20280101T193000
DTSTAMP:20260422T115051
CREATED:20260327T114344Z
LAST-MODIFIED:20260327T114457Z
UID:10009749-1830364200-1830367800@martinus-hn.de
SUMMARY:Eucharistiefeier in St. Maximilian Kolbe
DESCRIPTION:
URL:https://martinus-hn.de/veranstaltung/eucharistiefeier-in-st-maximilian-kolbe/2028-01-01/
LOCATION:St. Maximilian Kolbe\, Jörg-Ratgeb-Platz 25\, Heilbronn-Sontheim\, 74081
CATEGORIES:Gottesdienst
END:VEVENT
BEGIN:VEVENT
DTSTART;TZID=Europe/Berlin:20280102T103000
DTEND;TZID=Europe/Berlin:20280102T113000
DTSTAMP:20260422T115051
CREATED:20260327T120935Z
LAST-MODIFIED:20260327T120935Z
UID:10011003-1830421800-1830425400@martinus-hn.de
SUMMARY:Eucharistiefeier in St. Martinus
DESCRIPTION:
URL:https://martinus-hn.de/veranstaltung/eucharistiefeier-in-st-martinus/2028-01-02/
LOCATION:St. Martinus\, Auf dem Bau 1\, Heilbronn-Sontheim\, 74081\, Deutschland
CATEGORIES:Gottesdienst
END:VEVENT
BEGIN:VEVENT
DTSTART;TZID=Europe/Berlin:20280104T183000
DTEND;TZID=Europe/Berlin:20280104T193000
DTSTAMP:20260422T115051
CREATED:20260327T115841Z
LAST-MODIFIED:20260327T115841Z
UID:10010466-1830623400-1830627000@martinus-hn.de
SUMMARY:Eucharistiefeier in Heilig Geist
DESCRIPTION:
URL:https://martinus-hn.de/veranstaltung/eucharistiefeier-in-heilig-geist-dienstag/2028-01-04/
LOCATION:Heilig-Geist-Kirche\, Heilbronner Weg 17\, Heilbronn-Horkheim\, 74081
CATEGORIES:Gottesdienst
END:VEVENT
BEGIN:VEVENT
DTSTART;TZID=Europe/Berlin:20280106T183000
DTEND;TZID=Europe/Berlin:20280106T193000
DTSTAMP:20260422T115051
CREATED:20260327T120443Z
LAST-MODIFIED:20260327T120518Z
UID:10010739-1830796200-1830799800@martinus-hn.de
SUMMARY:Eucharistiefeier in St. Maximilian Kolbe
DESCRIPTION:
URL:https://martinus-hn.de/veranstaltung/eucharistiefeier-in-st-maximilian-kolbe-donnerstag/2028-01-06/
LOCATION:St. Maximilian Kolbe\, Jörg-Ratgeb-Platz 25\, Heilbronn-Sontheim\, 74081
CATEGORIES:Gottesdienst
END:VEVENT
BEGIN:VEVENT
DTSTART;TZID=Europe/Berlin:20280108T183000
DTEND;TZID=Europe/Berlin:20280108T193000
DTSTAMP:20260422T115051
CREATED:20260304T153850Z
LAST-MODIFIED:20260327T114702Z
UID:10009882-1830969000-1830972600@martinus-hn.de
SUMMARY:Eucharistiefeier in Heilig Geist
DESCRIPTION:
URL:https://martinus-hn.de/veranstaltung/eucharistiefeier-in-heilig-geist/2028-01-08/
LOCATION:Heilig-Geist-Kirche\, Heilbronner Weg 17\, Heilbronn-Horkheim\, 74081
CATEGORIES:Gottesdienst
END:VEVENT
BEGIN:VEVENT
DTSTART;TZID=Europe/Berlin:20280109T103000
DTEND;TZID=Europe/Berlin:20280109T113000
DTSTAMP:20260422T115051
CREATED:20260327T120935Z
LAST-MODIFIED:20260327T120935Z
UID:10011004-1831026600-1831030200@martinus-hn.de
SUMMARY:Eucharistiefeier in St. Martinus
DESCRIPTION:
URL:https://martinus-hn.de/veranstaltung/eucharistiefeier-in-st-martinus/2028-01-09/
LOCATION:St. Martinus\, Auf dem Bau 1\, Heilbronn-Sontheim\, 74081\, Deutschland
CATEGORIES:Gottesdienst
END:VEVENT
BEGIN:VEVENT
DTSTART;TZID=Europe/Berlin:20280111T183000
DTEND;TZID=Europe/Berlin:20280111T193000
DTSTAMP:20260422T115051
CREATED:20260327T115841Z
LAST-MODIFIED:20260327T115841Z
UID:10010467-1831228200-1831231800@martinus-hn.de
SUMMARY:Eucharistiefeier in Heilig Geist
DESCRIPTION:
URL:https://martinus-hn.de/veranstaltung/eucharistiefeier-in-heilig-geist-dienstag/2028-01-11/
LOCATION:Heilig-Geist-Kirche\, Heilbronner Weg 17\, Heilbronn-Horkheim\, 74081
CATEGORIES:Gottesdienst
END:VEVENT
BEGIN:VEVENT
DTSTART;TZID=Europe/Berlin:20280113T183000
DTEND;TZID=Europe/Berlin:20280113T193000
DTSTAMP:20260422T115051
CREATED:20260327T120443Z
LAST-MODIFIED:20260327T120518Z
UID:10010740-1831401000-1831404600@martinus-hn.de
SUMMARY:Eucharistiefeier in St. Maximilian Kolbe
DESCRIPTION:
URL:https://martinus-hn.de/veranstaltung/eucharistiefeier-in-st-maximilian-kolbe-donnerstag/2028-01-13/
LOCATION:St. Maximilian Kolbe\, Jörg-Ratgeb-Platz 25\, Heilbronn-Sontheim\, 74081
CATEGORIES:Gottesdienst
END:VEVENT
BEGIN:VEVENT
DTSTART;TZID=Europe/Berlin:20280115T183000
DTEND;TZID=Europe/Berlin:20280115T193000
DTSTAMP:20260422T115051
CREATED:20260327T114344Z
LAST-MODIFIED:20260327T114457Z
UID:10009750-1831573800-1831577400@martinus-hn.de
SUMMARY:Eucharistiefeier in St. Maximilian Kolbe
DESCRIPTION:
URL:https://martinus-hn.de/veranstaltung/eucharistiefeier-in-st-maximilian-kolbe/2028-01-15/
LOCATION:St. Maximilian Kolbe\, Jörg-Ratgeb-Platz 25\, Heilbronn-Sontheim\, 74081
CATEGORIES:Gottesdienst
END:VEVENT
BEGIN:VEVENT
DTSTART;TZID=Europe/Berlin:20280116T103000
DTEND;TZID=Europe/Berlin:20280116T113000
DTSTAMP:20260422T115051
CREATED:20260327T120935Z
LAST-MODIFIED:20260327T120935Z
UID:10011005-1831631400-1831635000@martinus-hn.de
SUMMARY:Eucharistiefeier in St. Martinus
DESCRIPTION:
URL:https://martinus-hn.de/veranstaltung/eucharistiefeier-in-st-martinus/2028-01-16/
LOCATION:St. Martinus\, Auf dem Bau 1\, Heilbronn-Sontheim\, 74081\, Deutschland
CATEGORIES:Gottesdienst
END:VEVENT
BEGIN:VEVENT
DTSTART;TZID=Europe/Berlin:20280118T183000
DTEND;TZID=Europe/Berlin:20280118T193000
DTSTAMP:20260422T115051
CREATED:20260327T115841Z
LAST-MODIFIED:20260327T115841Z
UID:10010468-1831833000-1831836600@martinus-hn.de
SUMMARY:Eucharistiefeier in Heilig Geist
DESCRIPTION:
URL:https://martinus-hn.de/veranstaltung/eucharistiefeier-in-heilig-geist-dienstag/2028-01-18/
LOCATION:Heilig-Geist-Kirche\, Heilbronner Weg 17\, Heilbronn-Horkheim\, 74081
CATEGORIES:Gottesdienst
END:VEVENT
BEGIN:VEVENT
DTSTART;TZID=Europe/Berlin:20280120T183000
DTEND;TZID=Europe/Berlin:20280120T193000
DTSTAMP:20260422T115051
CREATED:20260327T120443Z
LAST-MODIFIED:20260327T120518Z
UID:10010741-1832005800-1832009400@martinus-hn.de
SUMMARY:Eucharistiefeier in St. Maximilian Kolbe
DESCRIPTION:
URL:https://martinus-hn.de/veranstaltung/eucharistiefeier-in-st-maximilian-kolbe-donnerstag/2028-01-20/
LOCATION:St. Maximilian Kolbe\, Jörg-Ratgeb-Platz 25\, Heilbronn-Sontheim\, 74081
CATEGORIES:Gottesdienst
END:VEVENT
BEGIN:VEVENT
DTSTART;TZID=Europe/Berlin:20280122T183000
DTEND;TZID=Europe/Berlin:20280122T193000
DTSTAMP:20260422T115051
CREATED:20260304T153850Z
LAST-MODIFIED:20260327T114702Z
UID:10009883-1832178600-1832182200@martinus-hn.de
SUMMARY:Eucharistiefeier in Heilig Geist
DESCRIPTION:
URL:https://martinus-hn.de/veranstaltung/eucharistiefeier-in-heilig-geist/2028-01-22/
LOCATION:Heilig-Geist-Kirche\, Heilbronner Weg 17\, Heilbronn-Horkheim\, 74081
CATEGORIES:Gottesdienst
END:VEVENT
BEGIN:VEVENT
DTSTART;TZID=Europe/Berlin:20280123T103000
DTEND;TZID=Europe/Berlin:20280123T113000
DTSTAMP:20260422T115051
CREATED:20260327T120935Z
LAST-MODIFIED:20260327T120935Z
UID:10011006-1832236200-1832239800@martinus-hn.de
SUMMARY:Eucharistiefeier in St. Martinus
DESCRIPTION:
URL:https://martinus-hn.de/veranstaltung/eucharistiefeier-in-st-martinus/2028-01-23/
LOCATION:St. Martinus\, Auf dem Bau 1\, Heilbronn-Sontheim\, 74081\, Deutschland
CATEGORIES:Gottesdienst
END:VEVENT
BEGIN:VEVENT
DTSTART;TZID=Europe/Berlin:20280125T183000
DTEND;TZID=Europe/Berlin:20280125T193000
DTSTAMP:20260422T115051
CREATED:20260327T115841Z
LAST-MODIFIED:20260327T115841Z
UID:10010469-1832437800-1832441400@martinus-hn.de
SUMMARY:Eucharistiefeier in Heilig Geist
DESCRIPTION:
URL:https://martinus-hn.de/veranstaltung/eucharistiefeier-in-heilig-geist-dienstag/2028-01-25/
LOCATION:Heilig-Geist-Kirche\, Heilbronner Weg 17\, Heilbronn-Horkheim\, 74081
CATEGORIES:Gottesdienst
END:VEVENT
BEGIN:VEVENT
DTSTART;TZID=Europe/Berlin:20280127T183000
DTEND;TZID=Europe/Berlin:20280127T193000
DTSTAMP:20260422T115051
CREATED:20260327T120443Z
LAST-MODIFIED:20260327T120518Z
UID:10010742-1832610600-1832614200@martinus-hn.de
SUMMARY:Eucharistiefeier in St. Maximilian Kolbe
DESCRIPTION:
URL:https://martinus-hn.de/veranstaltung/eucharistiefeier-in-st-maximilian-kolbe-donnerstag/2028-01-27/
LOCATION:St. Maximilian Kolbe\, Jörg-Ratgeb-Platz 25\, Heilbronn-Sontheim\, 74081
CATEGORIES:Gottesdienst
END:VEVENT
BEGIN:VEVENT
DTSTART;TZID=Europe/Berlin:20280129T183000
DTEND;TZID=Europe/Berlin:20280129T193000
DTSTAMP:20260422T115051
CREATED:20260327T114344Z
LAST-MODIFIED:20260327T114457Z
UID:10009751-1832783400-1832787000@martinus-hn.de
SUMMARY:Eucharistiefeier in St. Maximilian Kolbe
DESCRIPTION:
URL:https://martinus-hn.de/veranstaltung/eucharistiefeier-in-st-maximilian-kolbe/2028-01-29/
LOCATION:St. Maximilian Kolbe\, Jörg-Ratgeb-Platz 25\, Heilbronn-Sontheim\, 74081
CATEGORIES:Gottesdienst
END:VEVENT
BEGIN:VEVENT
DTSTART;TZID=Europe/Berlin:20280130T103000
DTEND;TZID=Europe/Berlin:20280130T113000
DTSTAMP:20260422T115051
CREATED:20260327T120935Z
LAST-MODIFIED:20260327T120935Z
UID:10011007-1832841000-1832844600@martinus-hn.de
SUMMARY:Eucharistiefeier in St. Martinus
DESCRIPTION:
URL:https://martinus-hn.de/veranstaltung/eucharistiefeier-in-st-martinus/2028-01-30/
LOCATION:St. Martinus\, Auf dem Bau 1\, Heilbronn-Sontheim\, 74081\, Deutschland
CATEGORIES:Gottesdienst
END:VEVENT
BEGIN:VEVENT
DTSTART;TZID=Europe/Berlin:20280201T183000
DTEND;TZID=Europe/Berlin:20280201T193000
DTSTAMP:20260422T115051
CREATED:20260327T115841Z
LAST-MODIFIED:20260327T115841Z
UID:10010470-1833042600-1833046200@martinus-hn.de
SUMMARY:Eucharistiefeier in Heilig Geist
DESCRIPTION:
URL:https://martinus-hn.de/veranstaltung/eucharistiefeier-in-heilig-geist-dienstag/2028-02-01/
LOCATION:Heilig-Geist-Kirche\, Heilbronner Weg 17\, Heilbronn-Horkheim\, 74081
CATEGORIES:Gottesdienst
END:VEVENT
BEGIN:VEVENT
DTSTART;TZID=Europe/Berlin:20280203T183000
DTEND;TZID=Europe/Berlin:20280203T193000
DTSTAMP:20260422T115051
CREATED:20260327T120443Z
LAST-MODIFIED:20260327T120518Z
UID:10010743-1833215400-1833219000@martinus-hn.de
SUMMARY:Eucharistiefeier in St. Maximilian Kolbe
DESCRIPTION:
URL:https://martinus-hn.de/veranstaltung/eucharistiefeier-in-st-maximilian-kolbe-donnerstag/2028-02-03/
LOCATION:St. Maximilian Kolbe\, Jörg-Ratgeb-Platz 25\, Heilbronn-Sontheim\, 74081
CATEGORIES:Gottesdienst
END:VEVENT
BEGIN:VEVENT
DTSTART;TZID=Europe/Berlin:20280205T183000
DTEND;TZID=Europe/Berlin:20280205T193000
DTSTAMP:20260422T115051
CREATED:20260304T153850Z
LAST-MODIFIED:20260327T114702Z
UID:10009884-1833388200-1833391800@martinus-hn.de
SUMMARY:Eucharistiefeier in Heilig Geist
DESCRIPTION:
URL:https://martinus-hn.de/veranstaltung/eucharistiefeier-in-heilig-geist/2028-02-05/
LOCATION:Heilig-Geist-Kirche\, Heilbronner Weg 17\, Heilbronn-Horkheim\, 74081
CATEGORIES:Gottesdienst
END:VEVENT
BEGIN:VEVENT
DTSTART;TZID=Europe/Berlin:20280206T103000
DTEND;TZID=Europe/Berlin:20280206T113000
DTSTAMP:20260422T115051
CREATED:20260327T120935Z
LAST-MODIFIED:20260327T120935Z
UID:10011008-1833445800-1833449400@martinus-hn.de
SUMMARY:Eucharistiefeier in St. Martinus
DESCRIPTION:
URL:https://martinus-hn.de/veranstaltung/eucharistiefeier-in-st-martinus/2028-02-06/
LOCATION:St. Martinus\, Auf dem Bau 1\, Heilbronn-Sontheim\, 74081\, Deutschland
CATEGORIES:Gottesdienst
END:VEVENT
BEGIN:VEVENT
DTSTART;TZID=Europe/Berlin:20280208T183000
DTEND;TZID=Europe/Berlin:20280208T193000
DTSTAMP:20260422T115051
CREATED:20260327T115841Z
LAST-MODIFIED:20260327T115841Z
UID:10010471-1833647400-1833651000@martinus-hn.de
SUMMARY:Eucharistiefeier in Heilig Geist
DESCRIPTION:
URL:https://martinus-hn.de/veranstaltung/eucharistiefeier-in-heilig-geist-dienstag/2028-02-08/
LOCATION:Heilig-Geist-Kirche\, Heilbronner Weg 17\, Heilbronn-Horkheim\, 74081
CATEGORIES:Gottesdienst
END:VEVENT
BEGIN:VEVENT
DTSTART;TZID=Europe/Berlin:20280210T183000
DTEND;TZID=Europe/Berlin:20280210T193000
DTSTAMP:20260422T115051
CREATED:20260327T120443Z
LAST-MODIFIED:20260327T120518Z
UID:10010744-1833820200-1833823800@martinus-hn.de
SUMMARY:Eucharistiefeier in St. Maximilian Kolbe
DESCRIPTION:
URL:https://martinus-hn.de/veranstaltung/eucharistiefeier-in-st-maximilian-kolbe-donnerstag/2028-02-10/
LOCATION:St. Maximilian Kolbe\, Jörg-Ratgeb-Platz 25\, Heilbronn-Sontheim\, 74081
CATEGORIES:Gottesdienst
END:VEVENT
BEGIN:VEVENT
DTSTART;TZID=Europe/Berlin:20280212T183000
DTEND;TZID=Europe/Berlin:20280212T193000
DTSTAMP:20260422T115051
CREATED:20260327T114344Z
LAST-MODIFIED:20260327T114457Z
UID:10009752-1833993000-1833996600@martinus-hn.de
SUMMARY:Eucharistiefeier in St. Maximilian Kolbe
DESCRIPTION:
URL:https://martinus-hn.de/veranstaltung/eucharistiefeier-in-st-maximilian-kolbe/2028-02-12/
LOCATION:St. Maximilian Kolbe\, Jörg-Ratgeb-Platz 25\, Heilbronn-Sontheim\, 74081
CATEGORIES:Gottesdienst
END:VEVENT
BEGIN:VEVENT
DTSTART;TZID=Europe/Berlin:20280213T103000
DTEND;TZID=Europe/Berlin:20280213T113000
DTSTAMP:20260422T115051
CREATED:20260327T120935Z
LAST-MODIFIED:20260327T120935Z
UID:10011009-1834050600-1834054200@martinus-hn.de
SUMMARY:Eucharistiefeier in St. Martinus
DESCRIPTION:
URL:https://martinus-hn.de/veranstaltung/eucharistiefeier-in-st-martinus/2028-02-13/
LOCATION:St. Martinus\, Auf dem Bau 1\, Heilbronn-Sontheim\, 74081\, Deutschland
CATEGORIES:Gottesdienst
END:VEVENT
BEGIN:VEVENT
DTSTART;TZID=Europe/Berlin:20280215T183000
DTEND;TZID=Europe/Berlin:20280215T193000
DTSTAMP:20260422T115051
CREATED:20260327T115841Z
LAST-MODIFIED:20260327T115841Z
UID:10010472-1834252200-1834255800@martinus-hn.de
SUMMARY:Eucharistiefeier in Heilig Geist
DESCRIPTION:
URL:https://martinus-hn.de/veranstaltung/eucharistiefeier-in-heilig-geist-dienstag/2028-02-15/
LOCATION:Heilig-Geist-Kirche\, Heilbronner Weg 17\, Heilbronn-Horkheim\, 74081
CATEGORIES:Gottesdienst
END:VEVENT
BEGIN:VEVENT
DTSTART;TZID=Europe/Berlin:20280217T183000
DTEND;TZID=Europe/Berlin:20280217T193000
DTSTAMP:20260422T115051
CREATED:20260327T120443Z
LAST-MODIFIED:20260327T120518Z
UID:10010745-1834425000-1834428600@martinus-hn.de
SUMMARY:Eucharistiefeier in St. Maximilian Kolbe
DESCRIPTION:
URL:https://martinus-hn.de/veranstaltung/eucharistiefeier-in-st-maximilian-kolbe-donnerstag/2028-02-17/
LOCATION:St. Maximilian Kolbe\, Jörg-Ratgeb-Platz 25\, Heilbronn-Sontheim\, 74081
CATEGORIES:Gottesdienst
END:VEVENT
END:VCALENDAR