BEGIN:VCALENDAR
VERSION:2.0
PRODID:-//St. Martinus Heilbronn-Sontheim - ECPv6.10.2//NONSGML v1.0//EN
CALSCALE:GREGORIAN
METHOD:PUBLISH
X-ORIGINAL-URL:https://martinus-hn.de
X-WR-CALDESC:Veranstaltungen für St. Martinus Heilbronn-Sontheim
REFRESH-INTERVAL;VALUE=DURATION:PT1H
X-Robots-Tag:noindex
X-PUBLISHED-TTL:PT1H
BEGIN:VTIMEZONE
TZID:Europe/Berlin
BEGIN:DAYLIGHT
TZOFFSETFROM:+0100
TZOFFSETTO:+0200
TZNAME:CEST
DTSTART:20260329T010000
END:DAYLIGHT
BEGIN:STANDARD
TZOFFSETFROM:+0200
TZOFFSETTO:+0100
TZNAME:CET
DTSTART:20261025T010000
END:STANDARD
END:VTIMEZONE
BEGIN:VEVENT
DTSTART;TZID=Europe/Berlin:20260218T160000
DTEND;TZID=Europe/Berlin:20260218T170000
DTSTAMP:20260419T175059
CREATED:20251104T162004Z
LAST-MODIFIED:20251104T162453Z
UID:10008957-1771430400-1771434000@martinus-hn.de
SUMMARY:Gottesdienst im Haus am Schlüsselgarnweg
DESCRIPTION:
URL:https://martinus-hn.de/veranstaltung/gottesdienst-im-haus-am-schluesselgarnweg/2026-02-18/
LOCATION:Haus am Schlüsselgarnweg (ehemals CASA REHA Seniorenpflegeheim)\, Karl-Döft-Straße 10\, Heilbronn-Sontheim\, 74081
CATEGORIES:Gottesdienst,Pflegeheime
END:VEVENT
BEGIN:VEVENT
DTSTART;TZID=Europe/Berlin:20260218T183000
DTEND;TZID=Europe/Berlin:20260218T193000
DTSTAMP:20260419T175100
CREATED:20251103T171237Z
LAST-MODIFIED:20251103T171237Z
UID:10008913-1771439400-1771443000@martinus-hn.de
SUMMARY:Eucharistiefeier zum Aschermittwoch in St. Martinus
DESCRIPTION:mit Austeilung des Aschekreuzes
URL:https://martinus-hn.de/veranstaltung/eucharistiefeier-zum-aschermittwoch-in-st-martinus/
LOCATION:St. Martinus\, Auf dem Bau 1\, Heilbronn-Sontheim\, 74081\, Deutschland
CATEGORIES:Besondere Gottesdienste,Fastenzeit,Gottesdienst
END:VEVENT
END:VCALENDAR